Back to Multiple platform build/check report for BioC 3.14
[A]BCDEFGHIJKLMNOPQRSTUVWXYZ

This page was generated on 2021-10-23 14:05:52 -0400 (Sat, 23 Oct 2021).

BUILD results for a4Core on nebbiolo2

To the developers/maintainers of the a4Core package:
- Please allow up to 24 hours (and sometimes 48 hours) for your latest push to git@git.bioconductor.org:packages/a4Core.git to
reflect on this report. See How and When does the builder pull? When will my changes propagate? here for more information.
- Make sure to use the following settings in order to reproduce any error or warning you see on this page.

raw results

Package 4/2083HostnameOS / ArchINSTALLBUILDCHECKBUILD BIN
a4Core 1.41.0  (landing page)
Laure Cougnaud
Snapshot Date: 2021-10-22 14:50:11 -0400 (Fri, 22 Oct 2021)
git_url: https://git.bioconductor.org/packages/a4Core
git_branch: master
git_last_commit: 5958295
git_last_commit_date: 2021-05-19 11:48:24 -0400 (Wed, 19 May 2021)
nebbiolo2Linux (Ubuntu 20.04.2 LTS) / x86_64  OK    OK    OK  UNNEEDED, same version is already published
riesling1Windows Server 2019 Standard / x64  OK    OK    OK    OK  UNNEEDED, same version is already published
merida1macOS 10.14.6 Mojave / x86_64  OK    OK    OK    OK  UNNEEDED, same version is already published

Summary

Package: a4Core
Version: 1.41.0
Command: /home/biocbuild/bbs-3.14-bioc/R/bin/R CMD build --keep-empty-dirs --no-resave-data a4Core
StartedAt: 2021-10-22 16:40:28 -0400 (Fri, 22 Oct 2021)
EndedAt: 2021-10-22 16:40:35 -0400 (Fri, 22 Oct 2021)
EllapsedTime: 7.8 seconds
RetCode: 0
Status:   OK  
PackageFile: a4Core_1.41.0.tar.gz
PackageFileSize: 275.6 KiB

Command output

##############################################################################
##############################################################################
###
### Running command:
###
###   /home/biocbuild/bbs-3.14-bioc/R/bin/R CMD build --keep-empty-dirs --no-resave-data a4Core
###
##############################################################################
##############################################################################


* checking for file ‘a4Core/DESCRIPTION’ ... OK
* preparing ‘a4Core’:
* checking DESCRIPTION meta-information ... OK
* installing the package to build vignettes
* creating vignettes ... OK
* checking for LF line-endings in source and make files and shell scripts
* checking for empty or unneeded directories
* building ‘a4Core_1.41.0.tar.gz’