Back to Multiple platform build/check report for BioC 3.14
[A]BCDEFGHIJKLMNOPQRSTUVWXYZ

This page was generated on 2021-10-19 12:05:18 -0400 (Tue, 19 Oct 2021).

BUILD BIN results for a4Core on merida1

To the developers/maintainers of the a4Core package:
- Please allow up to 24 hours (and sometimes 48 hours) for your latest push to git@git.bioconductor.org:packages/a4Core.git to
reflect on this report. See How and When does the builder pull? When will my changes propagate? here for more information.
- Make sure to use the following settings in order to reproduce any error or warning you see on this page.

raw results

Package 4/2060HostnameOS / ArchINSTALLBUILDCHECKBUILD BIN
a4Core 1.41.0  (landing page)
Laure Cougnaud
Snapshot Date: 2021-10-18 14:50:10 -0400 (Mon, 18 Oct 2021)
git_url: https://git.bioconductor.org/packages/a4Core
git_branch: master
git_last_commit: 5958295
git_last_commit_date: 2021-05-19 11:48:24 -0400 (Wed, 19 May 2021)
nebbiolo2Linux (Ubuntu 20.04.2 LTS) / x86_64  OK    OK    OK  UNNEEDED, same version is already published
riesling1Windows Server 2019 Standard / x64  OK    OK    OK    OK  UNNEEDED, same version is already published
merida1macOS 10.14.6 Mojave / x86_64  OK    OK    OK    OK  UNNEEDED, same version is already published

Summary

Package: a4Core
Version: 1.41.0
Command: rm -rf a4Core.buildbin-libdir && mkdir a4Core.buildbin-libdir && /Users/biocbuild/BBS/utils/build-universal.sh a4Core_1.41.0.tar.gz /Library/Frameworks/R.framework/Resources/bin/R a4Core.buildbin-libdir
StartedAt: 2021-10-19 10:52:56 -0400 (Tue, 19 Oct 2021)
EndedAt: 2021-10-19 10:53:38 -0400 (Tue, 19 Oct 2021)
EllapsedTime: 42.5 seconds
RetCode: 0
Status:   OK  
PackageFile: a4Core_1.41.0.tgz
PackageFileSize: 294.3 KiB

Command output

##############################################################################
##############################################################################
###
### Running command:
###
###   rm -rf a4Core.buildbin-libdir && mkdir a4Core.buildbin-libdir && /Users/biocbuild/BBS/utils/build-universal.sh a4Core_1.41.0.tar.gz /Library/Frameworks/R.framework/Resources/bin/R a4Core.buildbin-libdir
###
##############################################################################
##############################################################################


>>>>>>> 
>>>>>>> INSTALLATION WITH 'R CMD INSTALL --preclean --no-multiarch --library=a4Core.buildbin-libdir a4Core_1.41.0.tar.gz'
>>>>>>> 

* installing *source* package ‘a4Core’ ...
** using staged installation
** R
** inst
** byte-compile and prepare package for lazy loading
** help
*** installing help indices
** building package indices
** installing vignettes
** testing if installed package can be loaded from temporary location
** testing if installed package can be loaded from final location
** testing if installed package keeps a record of temporary installation path
* DONE (a4Core)