Back to Multiple platform build/check report for BioC 3.14
[A]BCDEFGHIJKLMNOPQRSTUVWXYZ

This page was generated on 2021-10-20 12:04:04 -0400 (Wed, 20 Oct 2021).

All results for package a4Classif

To the developers/maintainers of the a4Classif package:
- Please allow up to 24 hours (and sometimes 48 hours) for your latest push to git@git.bioconductor.org:packages/a4Classif.git to
reflect on this report. See How and When does the builder pull? When will my changes propagate? here for more information.
- Make sure to use the following settings in order to reproduce any error or warning you see on this page.

raw results

Package 3/2072HostnameOS / ArchINSTALLBUILDCHECKBUILD BIN
a4Classif 1.41.1  (landing page)
Laure Cougnaud
Snapshot Date: 2021-10-19 14:50:04 -0400 (Tue, 19 Oct 2021)
git_url: https://git.bioconductor.org/packages/a4Classif
git_branch: master
git_last_commit: 499362f
git_last_commit_date: 2021-07-13 05:27:39 -0400 (Tue, 13 Jul 2021)
nebbiolo2Linux (Ubuntu 20.04.2 LTS) / x86_64  OK    OK    OK  UNNEEDED, same version is already published
riesling1Windows Server 2019 Standard / x64  OK    OK    OK    OK  UNNEEDED, same version is already published
merida1macOS 10.14.6 Mojave / x86_64  OK    OK    OK    OK  UNNEEDED, same version is already published

Results for Bioconductor software packages that depend directly on package a4Classif

QUICK STATSOS / ArchINSTALLBUILDCHECKBUILD BIN
nebbiolo2Linux (Ubuntu 20.04.2 LTS) / x86_64
001
001
0001
riesling1Windows Server 2019 Standard / x64
001
001
0001
001
merida1macOS 10.14.6 Mojave / x86_64
001
001
0001
001
Package 1/1HostnameOS / ArchINSTALLBUILDCHECKBUILD BIN
a4 1.41.0  (landing page)
Laure Cougnaud
git_last_commit: 8873af4
git_last_commit_date: 2021-05-19 11:48:29 -0400
nebbiolo2Linux (Ubuntu 20.04.2 LTS) / x86_64  OK    OK    OK  UNNEEDED, same version is already published
riesling1Windows Server 2019 Standard / x64  OK    OK    OK    OK  UNNEEDED, same version is already published
merida1macOS 10.14.6 Mojave / x86_64  OK    OK    OK    OK  UNNEEDED, same version is already published