Back to Multiple platform build/check report for BioC 3.14
[A]BCDEFGHIJKLMNOPQRSTUVWXYZ

This page was generated on 2021-10-20 12:04:59 -0400 (Wed, 20 Oct 2021).

CHECK results for a4Base on riesling1

To the developers/maintainers of the a4Base package:
- Please allow up to 24 hours (and sometimes 48 hours) for your latest push to git@git.bioconductor.org:packages/a4Base.git to
reflect on this report. See How and When does the builder pull? When will my changes propagate? here for more information.
- Make sure to use the following settings in order to reproduce any error or warning you see on this page.

raw results

Package 2/2072HostnameOS / ArchINSTALLBUILDCHECKBUILD BIN
a4Base 1.41.0  (landing page)
Laure Cougnaud
Snapshot Date: 2021-10-19 14:50:04 -0400 (Tue, 19 Oct 2021)
git_url: https://git.bioconductor.org/packages/a4Base
git_branch: master
git_last_commit: 9a2793c
git_last_commit_date: 2021-05-19 11:48:16 -0400 (Wed, 19 May 2021)
nebbiolo2Linux (Ubuntu 20.04.2 LTS) / x86_64  OK    OK    OK  UNNEEDED, same version is already published
riesling1Windows Server 2019 Standard / x64  OK    OK    OK    OK  UNNEEDED, same version is already published
merida1macOS 10.14.6 Mojave / x86_64  OK    OK    OK    OK  UNNEEDED, same version is already published

Summary

Package: a4Base
Version: 1.41.0
Command: D:\biocbuild\bbs-3.14-bioc\R\bin\R.exe CMD check --force-multiarch --install=check:a4Base.install-out.txt --library=D:\biocbuild\bbs-3.14-bioc\R\library --no-vignettes --timings a4Base_1.41.0.tar.gz
StartedAt: 2021-10-20 00:07:22 -0400 (Wed, 20 Oct 2021)
EndedAt: 2021-10-20 00:14:49 -0400 (Wed, 20 Oct 2021)
EllapsedTime: 447.6 seconds
RetCode: 0
Status:   OK  
CheckDir: a4Base.Rcheck
Warnings: 0

Command output

##############################################################################
##############################################################################
###
### Running command:
###
###   D:\biocbuild\bbs-3.14-bioc\R\bin\R.exe CMD check --force-multiarch --install=check:a4Base.install-out.txt --library=D:\biocbuild\bbs-3.14-bioc\R\library --no-vignettes --timings a4Base_1.41.0.tar.gz
###
##############################################################################
##############################################################################


* using log directory 'D:/biocbuild/bbs-3.14-bioc/meat/a4Base.Rcheck'
* using R version 4.1.1 (2021-08-10)
* using platform: x86_64-w64-mingw32 (64-bit)
* using session charset: ISO8859-1
* using option '--no-vignettes'
* checking for file 'a4Base/DESCRIPTION' ... OK
* checking extension type ... Package
* this is package 'a4Base' version '1.41.0'
* checking package namespace information ... OK
* checking package dependencies ... NOTE
Package which this enhances but not available for checking: 'JavaGD'
* checking if this is a source package ... OK
* checking if there is a namespace ... OK
* checking for hidden files and directories ... OK
* checking for portable file names ... OK
* checking whether package 'a4Base' can be installed ... OK
* checking installed package size ... OK
* checking package directory ... OK
* checking DESCRIPTION meta-information ... OK
* checking top-level files ... OK
* checking for left-over files ... OK
* checking index information ... OK
* checking package subdirectories ... OK
* checking R files for non-ASCII characters ... OK
* checking R files for syntax errors ... OK
* loading checks for arch 'i386'
** checking whether the package can be loaded ... OK
** checking whether the package can be loaded with stated dependencies ... OK
** checking whether the package can be unloaded cleanly ... OK
** checking whether the namespace can be loaded with stated dependencies ... OK
** checking whether the namespace can be unloaded cleanly ... OK
* loading checks for arch 'x64'
** checking whether the package can be loaded ... OK
** checking whether the package can be loaded with stated dependencies ... OK
** checking whether the package can be unloaded cleanly ... OK
** checking whether the namespace can be loaded with stated dependencies ... OK
** checking whether the namespace can be unloaded cleanly ... OK
* checking dependencies in R code ... OK
* checking S3 generic/method consistency ... OK
* checking replacement functions ... OK
* checking foreign function calls ... OK
* checking R code for possible problems ... OK
* checking Rd files ... OK
* checking Rd metadata ... OK
* checking Rd cross-references ... OK
* checking for missing documentation entries ... OK
* checking for code/documentation mismatches ... OK
* checking Rd \usage sections ... OK
* checking Rd contents ... OK
* checking for unstated dependencies in examples ... OK
* checking contents of 'data' directory ... OK
* checking data for non-ASCII characters ... OK
* checking data for ASCII and uncompressed saves ... OK
* checking examples ...
** running examples for arch 'i386' ... OK
Examples with CPU (user + system) or elapsed time > 5s
            user system elapsed
spectralMap 7.25   0.59    7.84
** running examples for arch 'x64' ... OK
Examples with CPU (user + system) or elapsed time > 5s
            user system elapsed
spectralMap 8.09   0.42    8.51
* checking PDF version of manual ... OK
* DONE

Status: 1 NOTE
See
  'D:/biocbuild/bbs-3.14-bioc/meat/a4Base.Rcheck/00check.log'
for details.



Installation output

a4Base.Rcheck/00install.out

##############################################################################
##############################################################################
###
### Running command:
###
###   C:\cygwin\bin\curl.exe -O http://155.52.207.166/BBS/3.14/bioc/src/contrib/a4Base_1.41.0.tar.gz && rm -rf a4Base.buildbin-libdir && mkdir a4Base.buildbin-libdir && D:\biocbuild\bbs-3.14-bioc\R\bin\R.exe CMD INSTALL --merge-multiarch --build --library=a4Base.buildbin-libdir a4Base_1.41.0.tar.gz && D:\biocbuild\bbs-3.14-bioc\R\bin\R.exe CMD INSTALL a4Base_1.41.0.zip && rm a4Base_1.41.0.tar.gz a4Base_1.41.0.zip
###
##############################################################################
##############################################################################


  % Total    % Received % Xferd  Average Speed   Time    Time     Time  Current
                                 Dload  Upload   Total   Spent    Left  Speed

  0     0    0     0    0     0      0      0 --:--:-- --:--:-- --:--:--     0
100  368k  100  368k    0     0  1614k      0 --:--:-- --:--:-- --:--:-- 1621k

install for i386

* installing *source* package 'a4Base' ...
** using staged installation
** R
** data
** inst
** byte-compile and prepare package for lazy loading
** help
*** installing help indices
  converting help for package 'a4Base'
    finding HTML links ... done
    ExpressionSetWithComputation-class      html  
    finding level-2 HTML links ... done

    a4palette                               html  
    addQuantilesColors                      html  
    boxPlot                                 html  
    combineTwoExpressionSet                 html  
    computeLogRatio                         html  
    createExpressionSet                     html  
    filterVarInt                            html  
    heatmap.expressionSet                   html  
    histPvalue                              html  
    histpvalueplotter                       html  
    lassoReg                                html  
    limmaReg                                html  
    limmaTwoLevels                          html  
    logReg                                  html  
    nlcvTT                                  html  
    oaColors                                html  
    oaPalette                               html  
    plot1gene                               html  
    plotComb2Samples                        html  
    plotCombMultSamples                     html  
    plotCombination2genes                   html  
    plotLogRatio                            html  
    probabilitiesPlot                       html  
    probe2gene                              html  
    profilesPlot                            html  
    propDEgenes-methods                     html  
    propDEgenes                             html  
    propdegenescalculation                  html  
    replicates                              html  
    spectralMap-methods                     html  
    spectralMap                             html  
    tTest                                   html  
    topTable-methods                        html  
    volcanoPlot-methods                     html  
    volcanoPlot                             html  
    volcanoplotter                          html  
** building package indices
** testing if installed package can be loaded from temporary location
** testing if installed package can be loaded from final location
** testing if installed package keeps a record of temporary installation path

install for x64

* installing *source* package 'a4Base' ...
** testing if installed package can be loaded
* MD5 sums
packaged installation of 'a4Base' as a4Base_1.41.0.zip
* DONE (a4Base)
* installing to library 'D:/biocbuild/bbs-3.14-bioc/R/library'
package 'a4Base' successfully unpacked and MD5 sums checked

Tests output


Example timings

a4Base.Rcheck/examples_i386/a4Base-Ex.timings

nameusersystemelapsed
a4palette0.030.000.04
addQuantilesColors1.810.131.93
boxPlot2.020.082.09
combineTwoExpressionSet000
computeLogRatio3.390.173.56
createExpressionSet0.010.000.02
filterVarInt1.440.031.47
heatmap.expressionSet000
histPvalue1.870.011.89
histpvalueplotter1.520.101.61
lassoReg1.470.051.51
logReg000
nlcvTT000
plot1gene1.410.061.47
plotComb2Samples1.590.111.70
plotCombMultSamples2.300.092.39
plotCombination2genes2.160.092.25
plotLogRatio3.230.163.39
probabilitiesPlot000
probe2gene1.550.061.61
profilesPlot1.340.101.44
propdegenescalculation1.400.111.51
replicates000
spectralMap7.250.597.84
tTest1.810.061.88
volcanoPlot1.950.052.00

a4Base.Rcheck/examples_x64/a4Base-Ex.timings

nameusersystemelapsed
a4palette0.030.000.03
addQuantilesColors2.100.062.16
boxPlot1.410.091.50
combineTwoExpressionSet000
computeLogRatio4.030.154.18
createExpressionSet0.030.000.04
filterVarInt1.350.101.43
heatmap.expressionSet000
histPvalue1.230.081.32
histpvalueplotter1.270.091.36
lassoReg1.290.081.37
logReg000
nlcvTT000
plot1gene1.220.061.28
plotComb2Samples1.400.051.45
plotCombMultSamples2.390.062.45
plotCombination2genes1.910.051.95
plotLogRatio3.180.013.21
probabilitiesPlot000
probe2gene1.070.021.07
profilesPlot1.560.011.58
propdegenescalculation1.220.051.27
replicates000
spectralMap8.090.428.51
tTest1.770.091.86
volcanoPlot1.620.021.64