Back to Multiple platform build/check report for BioC 3.14
[A]BCDEFGHIJKLMNOPQRSTUVWXYZ

This page was generated on 2021-10-20 12:05:32 -0400 (Wed, 20 Oct 2021).

CHECK results for a4Base on merida1

To the developers/maintainers of the a4Base package:
- Please allow up to 24 hours (and sometimes 48 hours) for your latest push to git@git.bioconductor.org:packages/a4Base.git to
reflect on this report. See How and When does the builder pull? When will my changes propagate? here for more information.
- Make sure to use the following settings in order to reproduce any error or warning you see on this page.

raw results

Package 2/2072HostnameOS / ArchINSTALLBUILDCHECKBUILD BIN
a4Base 1.41.0  (landing page)
Laure Cougnaud
Snapshot Date: 2021-10-19 14:50:04 -0400 (Tue, 19 Oct 2021)
git_url: https://git.bioconductor.org/packages/a4Base
git_branch: master
git_last_commit: 9a2793c
git_last_commit_date: 2021-05-19 11:48:16 -0400 (Wed, 19 May 2021)
nebbiolo2Linux (Ubuntu 20.04.2 LTS) / x86_64  OK    OK    OK  UNNEEDED, same version is already published
riesling1Windows Server 2019 Standard / x64  OK    OK    OK    OK  UNNEEDED, same version is already published
merida1macOS 10.14.6 Mojave / x86_64  OK    OK    OK    OK  UNNEEDED, same version is already published

Summary

Package: a4Base
Version: 1.41.0
Command: /Library/Frameworks/R.framework/Resources/bin/R CMD check --install=check:a4Base.install-out.txt --library=/Library/Frameworks/R.framework/Resources/library --no-vignettes --timings a4Base_1.41.0.tar.gz
StartedAt: 2021-10-20 00:24:57 -0400 (Wed, 20 Oct 2021)
EndedAt: 2021-10-20 00:29:17 -0400 (Wed, 20 Oct 2021)
EllapsedTime: 260.1 seconds
RetCode: 0
Status:   OK  
CheckDir: a4Base.Rcheck
Warnings: 0

Command output

##############################################################################
##############################################################################
###
### Running command:
###
###   /Library/Frameworks/R.framework/Resources/bin/R CMD check --install=check:a4Base.install-out.txt --library=/Library/Frameworks/R.framework/Resources/library --no-vignettes --timings a4Base_1.41.0.tar.gz
###
##############################################################################
##############################################################################


* using log directory ‘/Users/biocbuild/bbs-3.14-bioc/meat/a4Base.Rcheck’
* using R version 4.1.1 Patched (2021-08-22 r80813)
* using platform: x86_64-apple-darwin17.0 (64-bit)
* using session charset: UTF-8
* using option ‘--no-vignettes’
* checking for file ‘a4Base/DESCRIPTION’ ... OK
* checking extension type ... Package
* this is package ‘a4Base’ version ‘1.41.0’
* checking package namespace information ... OK
* checking package dependencies ... NOTE
Package which this enhances but not available for checking: ‘JavaGD’
* checking if this is a source package ... OK
* checking if there is a namespace ... OK
* checking for hidden files and directories ... OK
* checking for portable file names ... OK
* checking for sufficient/correct file permissions ... OK
* checking whether package ‘a4Base’ can be installed ... OK
* checking installed package size ... OK
* checking package directory ... OK
* checking DESCRIPTION meta-information ... OK
* checking top-level files ... OK
* checking for left-over files ... OK
* checking index information ... OK
* checking package subdirectories ... OK
* checking R files for non-ASCII characters ... OK
* checking R files for syntax errors ... OK
* checking whether the package can be loaded ... OK
* checking whether the package can be loaded with stated dependencies ... OK
* checking whether the package can be unloaded cleanly ... OK
* checking whether the namespace can be loaded with stated dependencies ... OK
* checking whether the namespace can be unloaded cleanly ... OK
* checking dependencies in R code ... OK
* checking S3 generic/method consistency ... OK
* checking replacement functions ... OK
* checking foreign function calls ... OK
* checking R code for possible problems ... OK
* checking Rd files ... OK
* checking Rd metadata ... OK
* checking Rd cross-references ... OK
* checking for missing documentation entries ... OK
* checking for code/documentation mismatches ... OK
* checking Rd \usage sections ... OK
* checking Rd contents ... OK
* checking for unstated dependencies in examples ... OK
* checking contents of ‘data’ directory ... OK
* checking data for non-ASCII characters ... OK
* checking data for ASCII and uncompressed saves ... OK
* checking examples ... OK
Examples with CPU (user + system) or elapsed time > 5s
                  user system elapsed
spectralMap     11.555  0.392  11.973
plotLogRatio     7.854  0.097   7.961
computeLogRatio  7.282  0.193   7.487
* checking PDF version of manual ... OK
* DONE

Status: 1 NOTE
See
  ‘/Users/biocbuild/bbs-3.14-bioc/meat/a4Base.Rcheck/00check.log’
for details.



Installation output

a4Base.Rcheck/00install.out

##############################################################################
##############################################################################
###
### Running command:
###
###   /Library/Frameworks/R.framework/Resources/bin/R CMD INSTALL a4Base
###
##############################################################################
##############################################################################


* installing to library ‘/Library/Frameworks/R.framework/Versions/4.1/Resources/library’
* installing *source* package ‘a4Base’ ...
** using staged installation
** R
** data
** inst
** byte-compile and prepare package for lazy loading
** help
*** installing help indices
** building package indices
** testing if installed package can be loaded from temporary location
** testing if installed package can be loaded from final location
** testing if installed package keeps a record of temporary installation path
* DONE (a4Base)

Tests output


Example timings

a4Base.Rcheck/a4Base-Ex.timings

nameusersystemelapsed
a4palette0.0370.0010.038
addQuantilesColors2.1780.1732.356
boxPlot2.8960.0652.966
combineTwoExpressionSet0.0010.0000.000
computeLogRatio7.2820.1937.487
createExpressionSet0.0480.0010.048
filterVarInt2.4880.0732.563
heatmap.expressionSet0.0010.0010.002
histPvalue2.7080.0722.786
histpvalueplotter1.9250.0261.952
lassoReg2.1520.0352.191
logReg0.0000.0010.000
nlcvTT000
plot1gene1.9950.0312.030
plotComb2Samples2.3120.0552.377
plotCombMultSamples2.9580.0863.050
plotCombination2genes3.3230.0593.396
plotLogRatio7.8540.0977.961
probabilitiesPlot000
probe2gene1.9360.0291.967
profilesPlot2.2460.0372.289
propdegenescalculation2.3300.0422.375
replicates0.0020.0010.002
spectralMap11.555 0.39211.973
tTest2.6190.0722.699
volcanoPlot2.8450.0772.928