Back to Multiple platform build/check report for BioC 3.14
[A]BCDEFGHIJKLMNOPQRSTUVWXYZ

This page was generated on 2021-10-20 12:05:32 -0400 (Wed, 20 Oct 2021).

BUILD results for a4Base on merida1

To the developers/maintainers of the a4Base package:
- Please allow up to 24 hours (and sometimes 48 hours) for your latest push to git@git.bioconductor.org:packages/a4Base.git to
reflect on this report. See How and When does the builder pull? When will my changes propagate? here for more information.
- Make sure to use the following settings in order to reproduce any error or warning you see on this page.

raw results

Package 2/2072HostnameOS / ArchINSTALLBUILDCHECKBUILD BIN
a4Base 1.41.0  (landing page)
Laure Cougnaud
Snapshot Date: 2021-10-19 14:50:04 -0400 (Tue, 19 Oct 2021)
git_url: https://git.bioconductor.org/packages/a4Base
git_branch: master
git_last_commit: 9a2793c
git_last_commit_date: 2021-05-19 11:48:16 -0400 (Wed, 19 May 2021)
nebbiolo2Linux (Ubuntu 20.04.2 LTS) / x86_64  OK    OK    OK  UNNEEDED, same version is already published
riesling1Windows Server 2019 Standard / x64  OK    OK    OK    OK  UNNEEDED, same version is already published
merida1macOS 10.14.6 Mojave / x86_64  OK    OK    OK    OK  UNNEEDED, same version is already published

Summary

Package: a4Base
Version: 1.41.0
Command: /Library/Frameworks/R.framework/Resources/bin/R CMD build --keep-empty-dirs --no-resave-data a4Base
StartedAt: 2021-10-19 18:23:13 -0400 (Tue, 19 Oct 2021)
EndedAt: 2021-10-19 18:23:14 -0400 (Tue, 19 Oct 2021)
EllapsedTime: 1.0 seconds
RetCode: 0
Status:   OK  
PackageFile: a4Base_1.41.0.tar.gz
PackageFileSize: 366.5 KiB

Command output

##############################################################################
##############################################################################
###
### Running command:
###
###   /Library/Frameworks/R.framework/Resources/bin/R CMD build --keep-empty-dirs --no-resave-data a4Base
###
##############################################################################
##############################################################################


* checking for file ‘a4Base/DESCRIPTION’ ... OK
* preparing ‘a4Base’:
* checking DESCRIPTION meta-information ... OK
* checking for LF line-endings in source and make files and shell scripts
* checking for empty or unneeded directories
* looking to see if a ‘data/datalist’ file should be added
* building ‘a4Base_1.41.0.tar.gz’