Back to Multiple platform build/check report for BioC 3.14
[A]BCDEFGHIJKLMNOPQRSTUVWXYZ

This page was generated on 2021-12-03 13:05:38 -0500 (Fri, 03 Dec 2021).

BUILD results for a4Base on machv2

To the developers/maintainers of the a4Base package:
- Please allow up to 24 hours (and sometimes 48 hours) for your latest push to git@git.bioconductor.org:packages/a4Base.git to
reflect on this report. See How and When does the builder pull? When will my changes propagate? here for more information.
- Make sure to use the following settings in order to reproduce any error or warning you see on this page.

raw results

Package 2/2083HostnameOS / ArchINSTALLBUILDCHECKBUILD BIN
a4Base 1.42.0  (landing page)
Laure Cougnaud
Snapshot Date: 2021-12-02 01:55:06 -0500 (Thu, 02 Dec 2021)
git_url: https://git.bioconductor.org/packages/a4Base
git_branch: RELEASE_3_14
git_last_commit: d7296e2
git_last_commit_date: 2021-10-26 11:58:47 -0500 (Tue, 26 Oct 2021)
nebbiolo2Linux (Ubuntu 20.04.3 LTS) / x86_64  OK    OK    OK  UNNEEDED, same version is already published
tokay2Windows Server 2012 R2 Standard / x64  OK    OK    OK    OK  UNNEEDED, same version is already published
machv2macOS 10.14.6 Mojave / x86_64  OK    OK    OK    OK  UNNEEDED, same version is already published

Summary

Package: a4Base
Version: 1.42.0
Command: /Library/Frameworks/R.framework/Resources/bin/R CMD build --keep-empty-dirs --no-resave-data a4Base
StartedAt: 2021-12-02 05:33:37 -0500 (Thu, 02 Dec 2021)
EndedAt: 2021-12-02 05:33:38 -0500 (Thu, 02 Dec 2021)
EllapsedTime: 0.8 seconds
RetCode: 0
Status:   OK  
PackageFile: a4Base_1.42.0.tar.gz
PackageFileSize: 366.5 KiB

Command output

##############################################################################
##############################################################################
###
### Running command:
###
###   /Library/Frameworks/R.framework/Resources/bin/R CMD build --keep-empty-dirs --no-resave-data a4Base
###
##############################################################################
##############################################################################


* checking for file ‘a4Base/DESCRIPTION’ ... OK
* preparing ‘a4Base’:
* checking DESCRIPTION meta-information ... OK
* checking for LF line-endings in source and make files and shell scripts
* checking for empty or unneeded directories
* looking to see if a ‘data/datalist’ file should be added
* building ‘a4Base_1.42.0.tar.gz’