Back to Multiple platform build/check report for BioC 3.14
[A]BCDEFGHIJKLMNOPQRSTUVWXYZ

This page was generated on 2021-10-23 14:06:17 -0400 (Sat, 23 Oct 2021).

BUILD BIN results for a4 on riesling1

To the developers/maintainers of the a4 package:
- Please allow up to 24 hours (and sometimes 48 hours) for your latest push to git@git.bioconductor.org:packages/a4.git to
reflect on this report. See How and When does the builder pull? When will my changes propagate? here for more information.
- Make sure to use the following settings in order to reproduce any error or warning you see on this page.

raw results

Package 1/2083HostnameOS / ArchINSTALLBUILDCHECKBUILD BIN
a4 1.41.0  (landing page)
Laure Cougnaud
Snapshot Date: 2021-10-22 14:50:11 -0400 (Fri, 22 Oct 2021)
git_url: https://git.bioconductor.org/packages/a4
git_branch: master
git_last_commit: 8873af4
git_last_commit_date: 2021-05-19 11:48:29 -0400 (Wed, 19 May 2021)
nebbiolo2Linux (Ubuntu 20.04.2 LTS) / x86_64  OK    OK    OK  UNNEEDED, same version is already published
riesling1Windows Server 2019 Standard / x64  OK    OK    OK    OK  UNNEEDED, same version is already published
merida1macOS 10.14.6 Mojave / x86_64  OK    OK    OK    OK  UNNEEDED, same version is already published

Summary

Package: a4
Version: 1.41.0
Command: rm -rf a4.buildbin-libdir && mkdir a4.buildbin-libdir && D:\biocbuild\bbs-3.14-bioc\R\bin\R.exe CMD INSTALL --merge-multiarch --build --library=a4.buildbin-libdir a4_1.41.0.tar.gz
StartedAt: 2021-10-23 09:33:19 -0400 (Sat, 23 Oct 2021)
EndedAt: 2021-10-23 09:36:06 -0400 (Sat, 23 Oct 2021)
EllapsedTime: 166.2 seconds
RetCode: 0
Status:   OK  
PackageFile: a4_1.41.0.zip
PackageFileSize: 1.026 MiB

Command output

##############################################################################
##############################################################################
###
### Running command:
###
###   rm -rf a4.buildbin-libdir && mkdir a4.buildbin-libdir && D:\biocbuild\bbs-3.14-bioc\R\bin\R.exe CMD INSTALL --merge-multiarch --build --library=a4.buildbin-libdir a4_1.41.0.tar.gz
###
##############################################################################
##############################################################################



install for i386

* installing *source* package 'a4' ...
** using staged installation
** R
** inst
** byte-compile and prepare package for lazy loading
** help
No man pages found in package  'a4' 
*** installing help indices
** building package indices
** installing vignettes
** testing if installed package can be loaded from temporary location
** testing if installed package can be loaded from final location
** testing if installed package keeps a record of temporary installation path

install for x64

* installing *source* package 'a4' ...
** testing if installed package can be loaded
* MD5 sums
packaged installation of 'a4' as a4_1.41.0.zip
* DONE (a4)