![]() | Name | Last modified | Size | Description |
---|---|---|---|---|
![]() | Parent Directory | - | ||
![]() | buildsrc-summary.dcf | 14-Apr-2022 01:07 | 456 | |
![]() | checksrc-summary.dcf | 14-Apr-2022 01:07 | 466 | |
![]() | buildbin-summary.dcf | 14-Apr-2022 01:07 | 536 | |
![]() | install-summary.dcf | 14-Apr-2022 01:07 | 635 | |
![]() | buildsrc-out.txt | 14-Apr-2022 01:07 | 904 | |
![]() | buildbin-out.txt | 14-Apr-2022 01:07 | 3.4K | |
![]() | install-out.txt | 14-Apr-2022 01:07 | 4.2K | |
![]() | checksrc-out.txt | 14-Apr-2022 01:07 | 8.4K | |