Back to Multiple platform build/check report for BioC 3.14
ABCDEFGHIJKLMNOPQRST[U]VWXYZ

This page was generated on 2021-11-26 15:05:07 -0500 (Fri, 26 Nov 2021).

INSTALL results for UMI4Cats on nebbiolo2

To the developers/maintainers of the UMI4Cats package:
- Please allow up to 24 hours (and sometimes 48 hours) for your latest push to git@git.bioconductor.org:packages/UMI4Cats.git to
reflect on this report. See How and When does the builder pull? When will my changes propagate? here for more information.
- Make sure to use the following settings in order to reproduce any error or warning you see on this page.

raw results

Package 2026/2083HostnameOS / ArchINSTALLBUILDCHECKBUILD BIN
UMI4Cats 1.4.0  (landing page)
Mireia Ramos-Rodriguez
Snapshot Date: 2021-11-25 04:15:05 -0500 (Thu, 25 Nov 2021)
git_url: https://git.bioconductor.org/packages/UMI4Cats
git_branch: RELEASE_3_14
git_last_commit: b355dcd
git_last_commit_date: 2021-10-26 13:01:42 -0500 (Tue, 26 Oct 2021)
nebbiolo2Linux (Ubuntu 20.04.3 LTS) / x86_64  OK    OK    OK  UNNEEDED, same version is already published
tokay2Windows Server 2012 R2 Standard / x64  OK    OK    OK    OK  UNNEEDED, same version is already published
machv2macOS 10.14.6 Mojave / x86_64  OK    OK    OK    OK  UNNEEDED, same version is already published

Summary

Package: UMI4Cats
Version: 1.4.0
Command: /home/biocbuild/bbs-3.14-bioc/R/bin/R CMD INSTALL UMI4Cats
StartedAt: 2021-11-25 05:51:43 -0500 (Thu, 25 Nov 2021)
EndedAt: 2021-11-25 05:52:20 -0500 (Thu, 25 Nov 2021)
EllapsedTime: 37.0 seconds
RetCode: 0
Status:   OK  

Command output

##############################################################################
##############################################################################
###
### Running command:
###
###   /home/biocbuild/bbs-3.14-bioc/R/bin/R CMD INSTALL UMI4Cats
###
##############################################################################
##############################################################################


* installing to library ‘/home/biocbuild/bbs-3.14-bioc/R/library’
* installing *source* package ‘UMI4Cats’ ...
** using staged installation
** R
** data
** inst
** byte-compile and prepare package for lazy loading
** help
*** installing help indices
*** copying figures
** building package indices
** installing vignettes
** testing if installed package can be loaded from temporary location
** testing if installed package can be loaded from final location
** testing if installed package keeps a record of temporary installation path
* DONE (UMI4Cats)