Index of /checkResults/3.14/bioc-LATEST/TVTB/raw-results

[ICO]NameLast modifiedSizeDescription

[DIR]Parent Directory  -  
[   ]info.dcf18-Jan-2022 03:08 271  
[DIR]machv2/18-Jan-2022 03:08 -  
[DIR]nebbiolo2/18-Jan-2022 03:05 -