Back to Multiple platform build/check report for BioC 3.14
ABCDEFGHIJKLMNOPQRS[T]UVWXYZ

This page was generated on 2021-11-29 15:06:16 -0500 (Mon, 29 Nov 2021).

CHECK results for TVTB on machv2

To the developers/maintainers of the TVTB package:
- Please allow up to 24 hours (and sometimes 48 hours) for your latest push to git@git.bioconductor.org:packages/TVTB.git to
reflect on this report. See How and When does the builder pull? When will my changes propagate? here for more information.
- Make sure to use the following settings in order to reproduce any error or warning you see on this page.

raw results

Package 2017/2083HostnameOS / ArchINSTALLBUILDCHECKBUILD BIN
TVTB 1.20.0  (landing page)
Kevin Rue-Albrecht
Snapshot Date: 2021-11-28 04:15:06 -0500 (Sun, 28 Nov 2021)
git_url: https://git.bioconductor.org/packages/TVTB
git_branch: RELEASE_3_14
git_last_commit: 5332bf5
git_last_commit_date: 2021-10-26 12:31:08 -0500 (Tue, 26 Oct 2021)
nebbiolo2Linux (Ubuntu 20.04.3 LTS) / x86_64  OK    OK    OK  UNNEEDED, same version is already published
tokay2Windows Server 2012 R2 Standard / x64... NOT SUPPORTED ...
machv2macOS 10.14.6 Mojave / x86_64  OK    OK    OK    OK  UNNEEDED, same version is already published

Summary

Package: TVTB
Version: 1.20.0
Command: /Library/Frameworks/R.framework/Resources/bin/R CMD check --install=check:TVTB.install-out.txt --library=/Library/Frameworks/R.framework/Resources/library --no-vignettes --timings TVTB_1.20.0.tar.gz
StartedAt: 2021-11-28 22:27:05 -0500 (Sun, 28 Nov 2021)
EndedAt: 2021-11-28 22:35:59 -0500 (Sun, 28 Nov 2021)
EllapsedTime: 534.3 seconds
RetCode: 0
Status:   OK  
CheckDir: TVTB.Rcheck
Warnings: 0

Command output

##############################################################################
##############################################################################
###
### Running command:
###
###   /Library/Frameworks/R.framework/Resources/bin/R CMD check --install=check:TVTB.install-out.txt --library=/Library/Frameworks/R.framework/Resources/library --no-vignettes --timings TVTB_1.20.0.tar.gz
###
##############################################################################
##############################################################################


* using log directory ‘/Users/biocbuild/bbs-3.14-bioc/meat/TVTB.Rcheck’
* using R version 4.1.2 (2021-11-01)
* using platform: x86_64-apple-darwin17.0 (64-bit)
* using session charset: UTF-8
* using option ‘--no-vignettes’
* checking for file ‘TVTB/DESCRIPTION’ ... OK
* checking extension type ... Package
* this is package ‘TVTB’ version ‘1.20.0’
* checking package namespace information ... OK
* checking package dependencies ... OK
* checking if this is a source package ... OK
* checking if there is a namespace ... OK
* checking for hidden files and directories ... OK
* checking for portable file names ... OK
* checking for sufficient/correct file permissions ... OK
* checking whether package ‘TVTB’ can be installed ... OK
* checking installed package size ... OK
* checking package directory ... OK
* checking ‘build’ directory ... OK
* checking DESCRIPTION meta-information ... OK
* checking top-level files ... OK
* checking for left-over files ... OK
* checking index information ... OK
* checking package subdirectories ... OK
* checking R files for non-ASCII characters ... OK
* checking R files for syntax errors ... OK
* checking whether the package can be loaded ... OK
* checking whether the package can be loaded with stated dependencies ... OK
* checking whether the package can be unloaded cleanly ... OK
* checking whether the namespace can be loaded with stated dependencies ... OK
* checking whether the namespace can be unloaded cleanly ... OK
* checking dependencies in R code ... OK
* checking S3 generic/method consistency ... OK
* checking replacement functions ... OK
* checking foreign function calls ... OK
* checking R code for possible problems ... OK
* checking Rd files ... OK
* checking Rd metadata ... OK
* checking Rd cross-references ... OK
* checking for missing documentation entries ... OK
* checking for code/documentation mismatches ... OK
* checking Rd \usage sections ... OK
* checking Rd contents ... OK
* checking for unstated dependencies in examples ... OK
* checking files in ‘vignettes’ ... OK
* checking examples ... OK
Examples with CPU (user + system) or elapsed time > 5s
                     user system elapsed
plotInfo-methods    9.435  0.241   9.709
VcfBasicRules-class 6.326  0.332   6.666
* checking for unstated dependencies in ‘tests’ ... OK
* checking tests ...
  Running ‘testthat.R’
 OK
* checking for unstated dependencies in vignettes ... OK
* checking package vignettes in ‘inst/doc’ ... OK
* checking running R code from vignettes ... SKIPPED
* checking re-building of vignette outputs ... SKIPPED
* checking PDF version of manual ... OK
* DONE

Status: OK


Installation output

TVTB.Rcheck/00install.out

##############################################################################
##############################################################################
###
### Running command:
###
###   /Library/Frameworks/R.framework/Resources/bin/R CMD INSTALL TVTB
###
##############################################################################
##############################################################################


* installing to library ‘/Library/Frameworks/R.framework/Versions/4.1/Resources/library’
* installing *source* package ‘TVTB’ ...
** using staged installation
** R
** inst
** byte-compile and prepare package for lazy loading
** help
*** installing help indices
*** copying figures
** building package indices
** installing vignettes
** testing if installed package can be loaded from temporary location
** testing if installed package can be loaded from final location
** testing if installed package keeps a record of temporary installation path
* DONE (TVTB)

Tests output

TVTB.Rcheck/tests/testthat.Rout


R version 4.1.2 (2021-11-01) -- "Bird Hippie"
Copyright (C) 2021 The R Foundation for Statistical Computing
Platform: x86_64-apple-darwin17.0 (64-bit)

R is free software and comes with ABSOLUTELY NO WARRANTY.
You are welcome to redistribute it under certain conditions.
Type 'license()' or 'licence()' for distribution details.

R is a collaborative project with many contributors.
Type 'contributors()' for more information and
'citation()' on how to cite R or R packages in publications.

Type 'demo()' for some demos, 'help()' for on-line help, or
'help.start()' for an HTML browser interface to help.
Type 'q()' to quit R.

> library(testthat)
> library(TVTB)
> 
> test_check("TVTB")
Class: Genotypes
  @ref (hom. ref.): "REF" {0/0}
  @het (heter.)   : "HET" {0/1, 1/0}
  @alt (hom. alt.): "ALT" {1/1}class: TVTBparam
@genos: class: Genotypes
    @ref (hom. ref.): "REF" {0|0}
    @het (heter.): "HET" {0|1, 1|0}
    @alt (hom. alt.): "ALT" {1|1}
  @ranges: 0 GRanges on 0 sequence(s)
  @aaf (alt. allele freq.): "AAF"
  @maf (minor allele freq.): "MAF"
  @vep (Ensembl VEP key): "CSQ"
  @svp: <ScanVcfParam object>
  @bp: <SerialParam object>
rs199764262 rs189224179 rs373895181 rs201294244 rs199841831 rs182642366 
       TRUE       FALSE       FALSE       FALSE       FALSE       FALSE 
  rs1426654 rs150379789 rs570906312 rs538198029 rs553496066 rs574775672 
       TRUE        TRUE       FALSE       FALSE        TRUE       FALSE 
rs140666229 rs556950130 rs575303689 rs147513140 rs187525777 rs192454382 
       TRUE       FALSE        TRUE        TRUE       FALSE       FALSE 
rs184818838 rs566886499 rs199924625 rs555872528 rs531820822 rs201353600 
      FALSE       FALSE       FALSE       FALSE       FALSE       FALSE 
rs550201688 rs565338261 rs201239799 rs200461129 rs146726548 
      FALSE       FALSE       FALSE       FALSE        TRUE 
rs199764262 rs189224179 rs373895181 rs201294244 rs199841831 rs182642366 
      FALSE       FALSE       FALSE       FALSE       FALSE       FALSE 
  rs1426654 rs150379789 rs570906312 rs538198029 rs553496066 rs574775672 
      FALSE       FALSE       FALSE       FALSE       FALSE       FALSE 
rs140666229 rs556950130 rs575303689 rs147513140 rs187525777 rs192454382 
      FALSE       FALSE       FALSE       FALSE       FALSE       FALSE 
rs184818838 rs566886499 rs199924625 rs555872528 rs531820822 rs201353600 
      FALSE       FALSE       FALSE       FALSE       FALSE       FALSE 
rs550201688 rs565338261 rs201239799 rs200461129 rs146726548 
      FALSE       FALSE       FALSE       FALSE       FALSE 
rs199764262 rs189224179 rs373895181 rs201294244 rs199841831 rs182642366 
       TRUE       FALSE       FALSE       FALSE       FALSE       FALSE 
  rs1426654 rs150379789 rs570906312 rs538198029 rs553496066 rs574775672 
       TRUE        TRUE       FALSE       FALSE        TRUE       FALSE 
rs140666229 rs556950130 rs575303689 rs147513140 rs187525777 rs192454382 
       TRUE       FALSE        TRUE        TRUE       FALSE       FALSE 
rs184818838 rs566886499 rs199924625 rs555872528 rs531820822 rs201353600 
      FALSE       FALSE       FALSE       FALSE       FALSE       FALSE 
rs550201688 rs565338261 rs201239799 rs200461129 rs146726548 
      FALSE       FALSE       FALSE       FALSE        TRUE 
══ Skipped tests ═══════════════════════════════════════════════════════════════
• empty test (2)

[ FAIL 0 | WARN 0 | SKIP 2 | PASS 227 ]
> 
> proc.time()
   user  system elapsed 
 69.297   1.837  71.200 

Example timings

TVTB.Rcheck/TVTB-Ex.timings

nameusersystemelapsed
Genotypes-class0.0020.0020.004
TVTBParam-class0.2750.0040.280
VcfBasicRules-class6.3260.3326.666
VcfFilterRules-class3.6990.0323.736
addCountGenos-methods1.6210.0201.642
addFrequencies-methods1.6760.0341.717
addOverallFrequencies-methods1.6160.0261.649
addPhenoLevelFrequencies-methods1.4470.0291.482
autodetectGenotypes1.1540.0281.187
countGenos-methods1.2180.0161.238
dropInfo-methods1.570.021.59
pairsInfo-methods2.8310.0292.863
plotInfo-methods9.4350.2419.709
readVcf-methods0.7830.0030.788
tSVE0.0000.0000.001
variantsInSamples-methods1.0760.0171.093
vepInPhenoLevel-methods1.3590.0581.417