Back to Multiple platform build/check report for BioC 3.14
ABCDEFGHIJKLMNOPQRS[T]UVWXYZ

This page was generated on 2021-11-29 15:06:16 -0500 (Mon, 29 Nov 2021).

BUILD results for TVTB on machv2

To the developers/maintainers of the TVTB package:
- Please allow up to 24 hours (and sometimes 48 hours) for your latest push to git@git.bioconductor.org:packages/TVTB.git to
reflect on this report. See How and When does the builder pull? When will my changes propagate? here for more information.
- Make sure to use the following settings in order to reproduce any error or warning you see on this page.

raw results

Package 2017/2083HostnameOS / ArchINSTALLBUILDCHECKBUILD BIN
TVTB 1.20.0  (landing page)
Kevin Rue-Albrecht
Snapshot Date: 2021-11-28 04:15:06 -0500 (Sun, 28 Nov 2021)
git_url: https://git.bioconductor.org/packages/TVTB
git_branch: RELEASE_3_14
git_last_commit: 5332bf5
git_last_commit_date: 2021-10-26 12:31:08 -0500 (Tue, 26 Oct 2021)
nebbiolo2Linux (Ubuntu 20.04.3 LTS) / x86_64  OK    OK    OK  UNNEEDED, same version is already published
tokay2Windows Server 2012 R2 Standard / x64... NOT SUPPORTED ...
machv2macOS 10.14.6 Mojave / x86_64  OK    OK    OK    OK  UNNEEDED, same version is already published

Summary

Package: TVTB
Version: 1.20.0
Command: /Library/Frameworks/R.framework/Resources/bin/R CMD build --keep-empty-dirs --no-resave-data TVTB
StartedAt: 2021-11-28 12:47:23 -0500 (Sun, 28 Nov 2021)
EndedAt: 2021-11-28 12:49:47 -0500 (Sun, 28 Nov 2021)
EllapsedTime: 144.4 seconds
RetCode: 0
Status:   OK  
PackageFile: TVTB_1.20.0.tar.gz
PackageFileSize: 1.382 MiB

Command output

##############################################################################
##############################################################################
###
### Running command:
###
###   /Library/Frameworks/R.framework/Resources/bin/R CMD build --keep-empty-dirs --no-resave-data TVTB
###
##############################################################################
##############################################################################


* checking for file ‘TVTB/DESCRIPTION’ ... OK
* preparing ‘TVTB’:
* checking DESCRIPTION meta-information ... OK
* installing the package to process help pages
* saving partial Rd database
* creating vignettes ... OK
* checking for LF line-endings in source and make files and shell scripts
* checking for empty or unneeded directories
* building ‘TVTB_1.20.0.tar.gz’