Back to Multiple platform build/check report for BioC 3.14
ABCDEFGHIJKLMNOPQRS[T]UVWXYZ

This page was generated on 2022-01-21 13:07:16 -0500 (Fri, 21 Jan 2022).

HostnameOSArch (*)R versionInstalled pkgs
nebbiolo2Linux (Ubuntu 20.04.4 LTS)x86_644.1.2 (2021-11-01) -- "Bird Hippie" 4329
tokay2Windows Server 2012 R2 Standardx644.1.2 (2021-11-01) -- "Bird Hippie" 4079
machv2macOS 10.14.6 Mojavex86_644.1.2 (2021-11-01) -- "Bird Hippie" 4140
Click on any hostname to see more info about the system (e.g. compilers)      (*) as reported by 'uname -p', except on Windows and Mac OS X

CHECK results for TRESS on tokay2


To the developers/maintainers of the TRESS package:
- Please allow up to 24 hours (and sometimes 48 hours) for your latest push to git@git.bioconductor.org:packages/TRESS.git to
reflect on this report. See How and When does the builder pull? When will my changes propagate? here for more information.
- Make sure to use the following settings in order to reproduce any error or warning you see on this page.

raw results

Package 2000/2083HostnameOS / ArchINSTALLBUILDCHECKBUILD BIN
TRESS 1.0.0  (landing page)
Zhenxing Guo
Snapshot Date: 2022-01-20 01:55:04 -0500 (Thu, 20 Jan 2022)
git_url: https://git.bioconductor.org/packages/TRESS
git_branch: RELEASE_3_14
git_last_commit: 8a50b92
git_last_commit_date: 2021-10-26 13:13:10 -0500 (Tue, 26 Oct 2021)
nebbiolo2Linux (Ubuntu 20.04.4 LTS) / x86_64  OK    OK    OK  UNNEEDED, same version is already published
tokay2Windows Server 2012 R2 Standard / x64  OK    OK    OK    OK  UNNEEDED, same version is already published
machv2macOS 10.14.6 Mojave / x86_64  OK    OK    OK    OK  UNNEEDED, same version is already published

Summary

Package: TRESS
Version: 1.0.0
Command: C:\Users\biocbuild\bbs-3.14-bioc\R\bin\R.exe CMD check --force-multiarch --install=check:TRESS.install-out.txt --library=C:\Users\biocbuild\bbs-3.14-bioc\R\library --no-vignettes --timings TRESS_1.0.0.tar.gz
StartedAt: 2022-01-21 04:20:17 -0500 (Fri, 21 Jan 2022)
EndedAt: 2022-01-21 04:25:11 -0500 (Fri, 21 Jan 2022)
EllapsedTime: 294.2 seconds
RetCode: 0
Status:   OK  
CheckDir: TRESS.Rcheck
Warnings: 0

Command output

##############################################################################
##############################################################################
###
### Running command:
###
###   C:\Users\biocbuild\bbs-3.14-bioc\R\bin\R.exe CMD check --force-multiarch --install=check:TRESS.install-out.txt --library=C:\Users\biocbuild\bbs-3.14-bioc\R\library --no-vignettes --timings TRESS_1.0.0.tar.gz
###
##############################################################################
##############################################################################


* using log directory 'C:/Users/biocbuild/bbs-3.14-bioc/meat/TRESS.Rcheck'
* using R version 4.1.2 (2021-11-01)
* using platform: x86_64-w64-mingw32 (64-bit)
* using session charset: ISO8859-1
* using option '--no-vignettes'
* checking for file 'TRESS/DESCRIPTION' ... OK
* checking extension type ... Package
* this is package 'TRESS' version '1.0.0'
* package encoding: UTF-8
* checking package namespace information ... OK
* checking package dependencies ... OK
* checking if this is a source package ... OK
* checking if there is a namespace ... OK
* checking for hidden files and directories ... OK
* checking for portable file names ... OK
* checking whether package 'TRESS' can be installed ... OK
* checking installed package size ... OK
* checking package directory ... OK
* checking 'build' directory ... OK
* checking DESCRIPTION meta-information ... OK
* checking top-level files ... OK
* checking for left-over files ... OK
* checking index information ... OK
* checking package subdirectories ... OK
* checking R files for non-ASCII characters ... OK
* checking R files for syntax errors ... OK
* loading checks for arch 'i386'
** checking whether the package can be loaded ... OK
** checking whether the package can be loaded with stated dependencies ... OK
** checking whether the package can be unloaded cleanly ... OK
** checking whether the namespace can be loaded with stated dependencies ... OK
** checking whether the namespace can be unloaded cleanly ... OK
* loading checks for arch 'x64'
** checking whether the package can be loaded ... OK
** checking whether the package can be loaded with stated dependencies ... OK
** checking whether the package can be unloaded cleanly ... OK
** checking whether the namespace can be loaded with stated dependencies ... OK
** checking whether the namespace can be unloaded cleanly ... OK
* checking dependencies in R code ... OK
* checking S3 generic/method consistency ... OK
* checking replacement functions ... OK
* checking foreign function calls ... OK
* checking R code for possible problems ... OK
* checking Rd files ... OK
* checking Rd metadata ... OK
* checking Rd cross-references ... OK
* checking for missing documentation entries ... OK
* checking for code/documentation mismatches ... OK
* checking Rd \usage sections ... OK
* checking Rd contents ... OK
* checking for unstated dependencies in examples ... OK
* checking contents of 'data' directory ... OK
* checking data for non-ASCII characters ... OK
* checking data for ASCII and uncompressed saves ... OK
* checking files in 'vignettes' ... OK
* checking examples ...
** running examples for arch 'i386' ... OK
** running examples for arch 'x64' ... OK
* checking for unstated dependencies in vignettes ... OK
* checking package vignettes in 'inst/doc' ... OK
* checking running R code from vignettes ... SKIPPED
* checking re-building of vignette outputs ... SKIPPED
* checking PDF version of manual ... OK
* DONE

Status: OK


Installation output

TRESS.Rcheck/00install.out

##############################################################################
##############################################################################
###
### Running command:
###
###   C:\cygwin\bin\curl.exe -O http://155.52.207.166/BBS/3.14/bioc/src/contrib/TRESS_1.0.0.tar.gz && rm -rf TRESS.buildbin-libdir && mkdir TRESS.buildbin-libdir && C:\Users\biocbuild\bbs-3.14-bioc\R\bin\R.exe CMD INSTALL --merge-multiarch --build --library=TRESS.buildbin-libdir TRESS_1.0.0.tar.gz && C:\Users\biocbuild\bbs-3.14-bioc\R\bin\R.exe CMD INSTALL TRESS_1.0.0.zip && rm TRESS_1.0.0.tar.gz TRESS_1.0.0.zip
###
##############################################################################
##############################################################################


  % Total    % Received % Xferd  Average Speed   Time    Time     Time  Current
                                 Dload  Upload   Total   Spent    Left  Speed

  0     0    0     0    0     0      0      0 --:--:-- --:--:-- --:--:--     0
100  509k  100  509k    0     0  1519k      0 --:--:-- --:--:-- --:--:-- 1525k

install for i386

* installing *source* package 'TRESS' ...
** using staged installation
** R
** data
** inst
** byte-compile and prepare package for lazy loading
** help
*** installing help indices
  converting help for package 'TRESS'
    finding HTML links ... done
    Basal                                   html  
    CallCandidates                          html  
    CallPeaks.multiRep                      html  
    CallPeaks.oneRep                        html  
    CallPeaks.paramEsti                     html  
    DivideBins                              html  
    EstiMu                                  html  
    EstiPhi                                 html  
    ShowOnePeak                             html  
    TRESS_peak                              html  
    findBumps                               html  
** building package indices
** installing vignettes
** testing if installed package can be loaded from temporary location
** testing if installed package can be loaded from final location
** testing if installed package keeps a record of temporary installation path

install for x64

* installing *source* package 'TRESS' ...
** testing if installed package can be loaded
* MD5 sums
packaged installation of 'TRESS' as TRESS_1.0.0.zip
* DONE (TRESS)
* installing to library 'C:/Users/biocbuild/bbs-3.14-bioc/R/library'
package 'TRESS' successfully unpacked and MD5 sums checked

Tests output


Example timings

TRESS.Rcheck/examples_i386/TRESS-Ex.timings

nameusersystemelapsed
CallCandidates2.100.332.42
CallPeaks.multiRep2.000.412.40
CallPeaks.oneRep0.110.000.11
CallPeaks.paramEsti2.250.022.27
DivideBins000
EstiMu0.030.000.03
EstiPhi1.940.001.93
ShowOnePeak0.300.070.39
TRESS_peak000
findBumps0.110.000.11

TRESS.Rcheck/examples_x64/TRESS-Ex.timings

nameusersystemelapsed
CallCandidates1.810.161.97
CallPeaks.multiRep1.860.011.87
CallPeaks.oneRep0.110.000.11
CallPeaks.paramEsti1.990.001.98
DivideBins000
EstiMu0.010.020.04
EstiPhi1.880.011.89
ShowOnePeak0.940.050.98
TRESS_peak000
findBumps0.060.000.06