![]() | Name | Last modified | Size | Description |
---|---|---|---|---|
![]() | Parent Directory | - | ||
![]() | buildsrc-out.txt | 14-Apr-2022 01:06 | 806 | |
![]() | buildsrc-summary.dcf | 14-Apr-2022 01:06 | 417 | |
![]() | checksrc-out.txt | 14-Apr-2022 01:06 | 5.3K | |
![]() | checksrc-summary.dcf | 14-Apr-2022 01:06 | 424 | |
![]() | install-out.txt | 14-Apr-2022 01:06 | 1.0K | |
![]() | install-summary.dcf | 14-Apr-2022 01:06 | 259 | |