Back to Multiple platform build/check report for BioC 3.14
ABCDEFGHIJKLMNOPQRS[T]UVWXYZ

This page was generated on 2021-11-24 15:06:24 -0500 (Wed, 24 Nov 2021).

BUILD BIN results for TFutils on machv2

To the developers/maintainers of the TFutils package:
- Please allow up to 24 hours (and sometimes 48 hours) for your latest push to git@git.bioconductor.org:packages/TFutils.git to
reflect on this report. See How and When does the builder pull? When will my changes propagate? here for more information.
- Make sure to use the following settings in order to reproduce any error or warning you see on this page.

raw results

Package 1949/2083HostnameOS / ArchINSTALLBUILDCHECKBUILD BIN
TFutils 1.14.0  (landing page)
Vincent Carey
Snapshot Date: 2021-11-23 04:15:06 -0500 (Tue, 23 Nov 2021)
git_url: https://git.bioconductor.org/packages/TFutils
git_branch: RELEASE_3_14
git_last_commit: 3c4cda1
git_last_commit_date: 2021-10-26 12:43:41 -0500 (Tue, 26 Oct 2021)
nebbiolo2Linux (Ubuntu 20.04.3 LTS) / x86_64  OK    OK    OK  UNNEEDED, same version is already published
tokay2Windows Server 2012 R2 Standard / x64  OK    OK    OK    OK  UNNEEDED, same version is already published
machv2macOS 10.14.6 Mojave / x86_64  OK    OK    OK    OK  UNNEEDED, same version is already published

Summary

Package: TFutils
Version: 1.14.0
Command: rm -rf TFutils.buildbin-libdir && mkdir TFutils.buildbin-libdir && /Users/biocbuild/BBS/utils/build-universal.sh TFutils_1.14.0.tar.gz /Library/Frameworks/R.framework/Resources/bin/R TFutils.buildbin-libdir
StartedAt: 2021-11-24 02:17:09 -0500 (Wed, 24 Nov 2021)
EndedAt: 2021-11-24 02:18:25 -0500 (Wed, 24 Nov 2021)
EllapsedTime: 76.4 seconds
RetCode: 0
Status:   OK  
PackageFile: TFutils_1.14.0.tgz
PackageFileSize: 6.325 MiB

Command output

##############################################################################
##############################################################################
###
### Running command:
###
###   rm -rf TFutils.buildbin-libdir && mkdir TFutils.buildbin-libdir && /Users/biocbuild/BBS/utils/build-universal.sh TFutils_1.14.0.tar.gz /Library/Frameworks/R.framework/Resources/bin/R TFutils.buildbin-libdir
###
##############################################################################
##############################################################################


>>>>>>> 
>>>>>>> INSTALLATION WITH 'R CMD INSTALL --preclean --no-multiarch --library=TFutils.buildbin-libdir TFutils_1.14.0.tar.gz'
>>>>>>> 

* installing *source* package ‘TFutils’ ...
** using staged installation
** R
** data
*** moving datasets to lazyload DB
** inst
** byte-compile and prepare package for lazy loading
** help
*** installing help indices
** building package indices
** installing vignettes
** testing if installed package can be loaded from temporary location
** testing if installed package can be loaded from final location
** testing if installed package keeps a record of temporary installation path
* DONE (TFutils)