Index of /checkResults/3.14/bioc-LATEST/TBSignatureProfiler/raw-results

[ICO]NameLast modifiedSizeDescription

[DIR]Parent Directory  -  
[DIR]nebbiolo2/14-Apr-2022 01:06 -  
[DIR]tokay2/14-Apr-2022 01:07 -  
[   ]info.dcf14-Apr-2022 01:08 285  
[DIR]machv2/14-Apr-2022 01:08 -