Back to Multiple platform build/check report for BioC 3.14
ABCDEFGHIJKLMNOPQRS[T]UVWXYZ

This page was generated on 2021-12-06 13:05:13 -0500 (Mon, 06 Dec 2021).

BUILD results for TBSignatureProfiler on nebbiolo2

To the developers/maintainers of the TBSignatureProfiler package:
- Please allow up to 24 hours (and sometimes 48 hours) for your latest push to git@git.bioconductor.org:packages/TBSignatureProfiler.git to
reflect on this report. See How and When does the builder pull? When will my changes propagate? here for more information.
- Make sure to use the following settings in order to reproduce any error or warning you see on this page.

raw results

Package 1935/2083HostnameOS / ArchINSTALLBUILDCHECKBUILD BIN
TBSignatureProfiler 1.6.0  (landing page)
Aubrey Odom
Snapshot Date: 2021-12-05 01:55:05 -0500 (Sun, 05 Dec 2021)
git_url: https://git.bioconductor.org/packages/TBSignatureProfiler
git_branch: RELEASE_3_14
git_last_commit: fe6bf5e
git_last_commit_date: 2021-10-26 12:59:18 -0500 (Tue, 26 Oct 2021)
nebbiolo2Linux (Ubuntu 20.04.3 LTS) / x86_64  OK    OK    OK  UNNEEDED, same version is already published
tokay2Windows Server 2012 R2 Standard / x64  OK    OK    OK    OK  UNNEEDED, same version is already published
machv2macOS 10.14.6 Mojave / x86_64  OK    OK    OK    OK  UNNEEDED, same version is already published

Summary

Package: TBSignatureProfiler
Version: 1.6.0
Command: /home/biocbuild/bbs-3.14-bioc/R/bin/R CMD build --keep-empty-dirs --no-resave-data TBSignatureProfiler
StartedAt: 2021-12-05 06:02:28 -0500 (Sun, 05 Dec 2021)
EndedAt: 2021-12-05 06:03:21 -0500 (Sun, 05 Dec 2021)
EllapsedTime: 53.1 seconds
RetCode: 0
Status:   OK  
PackageFile: TBSignatureProfiler_1.6.0.tar.gz
PackageFileSize: 4.02 MiB

Command output

##############################################################################
##############################################################################
###
### Running command:
###
###   /home/biocbuild/bbs-3.14-bioc/R/bin/R CMD build --keep-empty-dirs --no-resave-data TBSignatureProfiler
###
##############################################################################
##############################################################################


* checking for file ‘TBSignatureProfiler/DESCRIPTION’ ... OK
* preparing ‘TBSignatureProfiler’:
* checking DESCRIPTION meta-information ... OK
* installing the package to build vignettes
* creating vignettes ... OK
* checking for LF line-endings in source and make files and shell scripts
* checking for empty or unneeded directories
* building ‘TBSignatureProfiler_1.6.0.tar.gz’