Back to Multiple platform build/check report for BioC 3.14
ABCDEFGHIJKLMNOPQR[S]TUVWXYZ

This page was generated on 2022-01-17 13:07:06 -0500 (Mon, 17 Jan 2022).

HostnameOSArch (*)R versionInstalled pkgs
nebbiolo2Linux (Ubuntu 20.04.4 LTS)x86_644.1.2 (2021-11-01) -- "Bird Hippie" 4328
tokay2Windows Server 2012 R2 Standardx644.1.2 (2021-11-01) -- "Bird Hippie" 4077
machv2macOS 10.14.6 Mojavex86_644.1.2 (2021-11-01) -- "Bird Hippie" 4138
Click on any hostname to see more info about the system (e.g. compilers)      (*) as reported by 'uname -p', except on Windows and Mac OS X

CHECK results for SubCellBarCode on tokay2


To the developers/maintainers of the SubCellBarCode package:
- Please allow up to 24 hours (and sometimes 48 hours) for your latest push to git@git.bioconductor.org:packages/SubCellBarCode.git to
reflect on this report. See How and When does the builder pull? When will my changes propagate? here for more information.
- Make sure to use the following settings in order to reproduce any error or warning you see on this page.

raw results

Package 1898/2083HostnameOS / ArchINSTALLBUILDCHECKBUILD BIN
SubCellBarCode 1.10.0  (landing page)
Taner Arslan
Snapshot Date: 2022-01-16 01:55:05 -0500 (Sun, 16 Jan 2022)
git_url: https://git.bioconductor.org/packages/SubCellBarCode
git_branch: RELEASE_3_14
git_last_commit: 578a4ae
git_last_commit_date: 2021-10-26 12:52:05 -0500 (Tue, 26 Oct 2021)
nebbiolo2Linux (Ubuntu 20.04.4 LTS) / x86_64  OK    OK    OK  UNNEEDED, same version is already published
tokay2Windows Server 2012 R2 Standard / x64  OK    OK    OK    OK  UNNEEDED, same version is already published
machv2macOS 10.14.6 Mojave / x86_64  OK    OK    OK    OK  UNNEEDED, same version is already published

Summary

Package: SubCellBarCode
Version: 1.10.0
Command: C:\Users\biocbuild\bbs-3.14-bioc\R\bin\R.exe CMD check --force-multiarch --install=check:SubCellBarCode.install-out.txt --library=C:\Users\biocbuild\bbs-3.14-bioc\R\library --no-vignettes --timings SubCellBarCode_1.10.0.tar.gz
StartedAt: 2022-01-17 04:34:39 -0500 (Mon, 17 Jan 2022)
EndedAt: 2022-01-17 04:41:37 -0500 (Mon, 17 Jan 2022)
EllapsedTime: 418.3 seconds
RetCode: 0
Status:   OK  
CheckDir: SubCellBarCode.Rcheck
Warnings: 0

Command output

##############################################################################
##############################################################################
###
### Running command:
###
###   C:\Users\biocbuild\bbs-3.14-bioc\R\bin\R.exe CMD check --force-multiarch --install=check:SubCellBarCode.install-out.txt --library=C:\Users\biocbuild\bbs-3.14-bioc\R\library --no-vignettes --timings SubCellBarCode_1.10.0.tar.gz
###
##############################################################################
##############################################################################


* using log directory 'C:/Users/biocbuild/bbs-3.14-bioc/meat/SubCellBarCode.Rcheck'
* using R version 4.1.2 (2021-11-01)
* using platform: x86_64-w64-mingw32 (64-bit)
* using session charset: ISO8859-1
* using option '--no-vignettes'
* checking for file 'SubCellBarCode/DESCRIPTION' ... OK
* checking extension type ... Package
* this is package 'SubCellBarCode' version '1.10.0'
* package encoding: UTF-8
* checking package namespace information ... OK
* checking package dependencies ... OK
* checking if this is a source package ... OK
* checking if there is a namespace ... OK
* checking for hidden files and directories ... OK
* checking for portable file names ... OK
* checking whether package 'SubCellBarCode' can be installed ... OK
* checking installed package size ... OK
* checking package directory ... OK
* checking 'build' directory ... OK
* checking DESCRIPTION meta-information ... OK
* checking top-level files ... OK
* checking for left-over files ... OK
* checking index information ... OK
* checking package subdirectories ... OK
* checking R files for non-ASCII characters ... OK
* checking R files for syntax errors ... OK
* loading checks for arch 'i386'
** checking whether the package can be loaded ... OK
** checking whether the package can be loaded with stated dependencies ... OK
** checking whether the package can be unloaded cleanly ... OK
** checking whether the namespace can be loaded with stated dependencies ... OK
** checking whether the namespace can be unloaded cleanly ... OK
* loading checks for arch 'x64'
** checking whether the package can be loaded ... OK
** checking whether the package can be loaded with stated dependencies ... OK
** checking whether the package can be unloaded cleanly ... OK
** checking whether the namespace can be loaded with stated dependencies ... OK
** checking whether the namespace can be unloaded cleanly ... OK
* checking dependencies in R code ... OK
* checking S3 generic/method consistency ... OK
* checking replacement functions ... OK
* checking foreign function calls ... OK
* checking R code for possible problems ... NOTE
calculateCoveredProtein: no visible binding for global variable
  'Compartments'
calculateCoveredProtein: no visible binding for global variable
  'ProteinCoverage'
candidateRelocatedProteins: no visible binding for global variable
  'Pearson.Corr'
markerQualityControl: no visible binding for global variable
  'Correlation'
markerQualityControl: no visible binding for global variable 'Pearson'
markerQualityControl: no visible binding for global variable 'Spearman'
plotBarcode: no visible binding for global variable 'Level'
plotBarcode: no visible binding for global variable 'Probability'
plotBarcode: no visible binding for global variable 'Locs'
plotMultipleProtein: no visible binding for global variable
  'Neighborhood'
plotMultipleProtein: no visible binding for global variable 'Count'
plotMultipleProtein: no visible binding for global variable
  'Compartment'
Undefined global functions or variables:
  Compartment Compartments Correlation Count Level Locs Neighborhood
  Pearson Pearson.Corr Probability ProteinCoverage Spearman
* checking Rd files ... OK
* checking Rd metadata ... OK
* checking Rd cross-references ... OK
* checking for missing documentation entries ... OK
* checking for code/documentation mismatches ... OK
* checking Rd \usage sections ... OK
* checking Rd contents ... OK
* checking for unstated dependencies in examples ... OK
* checking contents of 'data' directory ... OK
* checking data for non-ASCII characters ... OK
* checking LazyData ... OK
* checking data for ASCII and uncompressed saves ... OK
* checking files in 'vignettes' ... OK
* checking examples ...
** running examples for arch 'i386' ... OK
Examples with CPU (user + system) or elapsed time > 5s
                              user system elapsed
applyThresholdCompartment    21.75   0.20   21.97
applyThresholdNeighborhood   19.56   0.00   19.56
computeThresholdCompartment  18.69   0.00   18.68
computeThresholdNeighborhood 17.56   0.13   17.69
svmExternalData              16.11   0.00   16.11
svmClassification            13.55   0.01   13.56
candidateRelocatedProteins    6.28   0.28    6.56
** running examples for arch 'x64' ... OK
Examples with CPU (user + system) or elapsed time > 5s
                              user system elapsed
applyThresholdCompartment    22.73   0.18   22.92
applyThresholdNeighborhood   19.43   0.00   19.44
computeThresholdCompartment  19.21   0.02   19.23
computeThresholdNeighborhood 18.47   0.01   18.48
svmExternalData              15.39   0.00   15.39
svmClassification            15.07   0.03   15.09
candidateRelocatedProteins    6.52   0.05    6.56
* checking for unstated dependencies in vignettes ... OK
* checking package vignettes in 'inst/doc' ... OK
* checking running R code from vignettes ... SKIPPED
* checking re-building of vignette outputs ... SKIPPED
* checking PDF version of manual ... OK
* DONE

Status: 1 NOTE
See
  'C:/Users/biocbuild/bbs-3.14-bioc/meat/SubCellBarCode.Rcheck/00check.log'
for details.



Installation output

SubCellBarCode.Rcheck/00install.out

##############################################################################
##############################################################################
###
### Running command:
###
###   C:\cygwin\bin\curl.exe -O http://155.52.207.166/BBS/3.14/bioc/src/contrib/SubCellBarCode_1.10.0.tar.gz && rm -rf SubCellBarCode.buildbin-libdir && mkdir SubCellBarCode.buildbin-libdir && C:\Users\biocbuild\bbs-3.14-bioc\R\bin\R.exe CMD INSTALL --merge-multiarch --build --library=SubCellBarCode.buildbin-libdir SubCellBarCode_1.10.0.tar.gz && C:\Users\biocbuild\bbs-3.14-bioc\R\bin\R.exe CMD INSTALL SubCellBarCode_1.10.0.zip && rm SubCellBarCode_1.10.0.tar.gz SubCellBarCode_1.10.0.zip
###
##############################################################################
##############################################################################


  % Total    % Received % Xferd  Average Speed   Time    Time     Time  Current
                                 Dload  Upload   Total   Spent    Left  Speed

  0     0    0     0    0     0      0      0 --:--:-- --:--:-- --:--:--     0
100  807k  100  807k    0     0  3381k      0 --:--:-- --:--:-- --:--:-- 3390k

install for i386

* installing *source* package 'SubCellBarCode' ...
** using staged installation
** R
** data
*** moving datasets to lazyload DB
** byte-compile and prepare package for lazy loading
** help
*** installing help indices
  converting help for package 'SubCellBarCode'
    finding HTML links ... done
    applyThresholdCompartment               html  
    applyThresholdNeighborhood              html  
    calRowMean                              html  
    calculateCoveredProtein                 html  
    candidateRelocatedProteins              html  
    compareCls                              html  
    computeThresholdCompartment             html  
    computeThresholdNeighborhood            html  
    convert2symbol                          html  
    hcc827Ctrl                              html  
    hcc827CtrlPSMCount                      html  
    hcc827GEF                               html  
    hcc827GEFClass                          html  
    hcc827GefPSMCount                       html  
    hcc827exon                              html  
    loadData                                html  
    markerProteins                          html  
    markerQualityControl                    html  
    mergeCls                                html  
    mergeProbability                        html  
    plotBarcode                             html  
    plotMultipleProtein                     html  
    replacePrediction                       html  
    sankeyPlot                              html  
    sumProbability                          html  
    svmClassification                       html  
    svmExternalData                         html  
    tsneVisualization                       html  
** building package indices
** installing vignettes
** testing if installed package can be loaded from temporary location
** testing if installed package can be loaded from final location
** testing if installed package keeps a record of temporary installation path

install for x64

* installing *source* package 'SubCellBarCode' ...
** testing if installed package can be loaded
* MD5 sums
packaged installation of 'SubCellBarCode' as SubCellBarCode_1.10.0.zip
* DONE (SubCellBarCode)
* installing to library 'C:/Users/biocbuild/bbs-3.14-bioc/R/library'
package 'SubCellBarCode' successfully unpacked and MD5 sums checked

Tests output


Example timings

SubCellBarCode.Rcheck/examples_i386/SubCellBarCode-Ex.timings

nameusersystemelapsed
applyThresholdCompartment21.75 0.2021.97
applyThresholdNeighborhood19.56 0.0019.56
calRowMean000
calculateCoveredProtein0.160.000.15
candidateRelocatedProteins6.280.286.56
compareCls0.030.000.04
computeThresholdCompartment18.69 0.0018.68
computeThresholdNeighborhood17.56 0.1317.69
convert2symbol000
hcc827Ctrl000
hcc827CtrlPSMCount0.010.000.02
hcc827GEF000
hcc827GEFClass000
hcc827GefPSMCount000
hcc827exon0.020.000.01
loadData000
markerQualityControl0.340.000.35
mergeCls000
mergeProbability0.020.000.01
plotBarcode0.420.000.42
plotMultipleProtein0.200.000.21
replacePrediction000
sankeyPlot0.010.000.02
sumProbability000
svmClassification13.55 0.0113.56
svmExternalData16.11 0.0016.11
tsneVisualization0.190.000.19

SubCellBarCode.Rcheck/examples_x64/SubCellBarCode-Ex.timings

nameusersystemelapsed
applyThresholdCompartment22.73 0.1822.92
applyThresholdNeighborhood19.43 0.0019.44
calRowMean0.020.000.01
calculateCoveredProtein0.120.000.13
candidateRelocatedProteins6.520.056.56
compareCls0.020.000.02
computeThresholdCompartment19.21 0.0219.23
computeThresholdNeighborhood18.47 0.0118.48
convert2symbol000
hcc827Ctrl000
hcc827CtrlPSMCount0.020.000.02
hcc827GEF000
hcc827GEFClass000
hcc827GefPSMCount000
hcc827exon000
loadData000
markerQualityControl0.610.000.61
mergeCls000
mergeProbability000
plotBarcode0.730.000.74
plotMultipleProtein0.360.000.35
replacePrediction000
sankeyPlot0.030.000.04
sumProbability000
svmClassification15.07 0.0315.09
svmExternalData15.39 0.0015.39
tsneVisualization0.150.040.19