![]() | Name | Last modified | Size | Description |
---|---|---|---|---|
![]() | Parent Directory | - | ||
![]() | buildbin-out.txt | 14-Apr-2022 01:07 | 2.7K | |
![]() | buildbin-summary.dcf | 14-Apr-2022 01:07 | 659 | |
![]() | buildsrc-out.txt | 14-Apr-2022 01:07 | 945 | |
![]() | buildsrc-summary.dcf | 14-Apr-2022 01:07 | 539 | |
![]() | checksrc-out.txt | 14-Apr-2022 01:07 | 3.9K | |
![]() | checksrc-summary.dcf | 14-Apr-2022 01:07 | 542 | |
![]() | install-out.txt | 14-Apr-2022 01:07 | 3.5K | |
![]() | install-summary.dcf | 14-Apr-2022 01:07 | 820 | |