![]() | Name | Last modified | Size | Description |
---|---|---|---|---|
![]() | Parent Directory | - | ||
![]() | install-out.txt | 14-Apr-2022 01:06 | 1.0K | |
![]() | install-summary.dcf | 14-Apr-2022 01:06 | 299 | |
![]() | buildsrc-out.txt | 14-Apr-2022 01:06 | 886 | |
![]() | buildsrc-summary.dcf | 14-Apr-2022 01:06 | 477 | |
![]() | checksrc-out.txt | 14-Apr-2022 01:06 | 3.1K | |
![]() | checksrc-summary.dcf | 14-Apr-2022 01:06 | 504 | |