![]() | Name | Last modified | Size | Description |
---|---|---|---|---|
![]() | Parent Directory | - | ||
![]() | buildbin-out.txt | 14-Apr-2022 01:07 | 2.8K | |
![]() | buildbin-summary.dcf | 14-Apr-2022 01:07 | 580 | |
![]() | buildsrc-out.txt | 14-Apr-2022 01:07 | 880 | |
![]() | buildsrc-summary.dcf | 14-Apr-2022 01:07 | 487 | |
![]() | checksrc-out.txt | 14-Apr-2022 01:07 | 6.9K | |
![]() | checksrc-summary.dcf | 14-Apr-2022 01:07 | 497 | |
![]() | install-out.txt | 14-Apr-2022 01:07 | 4.4K | |
![]() | install-summary.dcf | 14-Apr-2022 01:07 | 704 | |