Index of /checkResults/3.14/bioc-LATEST/SplicingGraphs/raw-results/machv2

[ICO]NameLast modifiedSizeDescription

[DIR]Parent Directory  -  
[   ]buildbin-summary.dcf14-Apr-2022 01:08 572  
[TXT]buildbin-out.txt14-Apr-2022 01:08 1.9K 
[   ]checksrc-summary.dcf14-Apr-2022 01:08 478  
[TXT]checksrc-out.txt14-Apr-2022 01:08 5.8K 
[   ]buildsrc-summary.dcf14-Apr-2022 01:08 449  
[TXT]buildsrc-out.txt14-Apr-2022 01:08 844  
[   ]install-summary.dcf14-Apr-2022 01:08 283  
[TXT]install-out.txt14-Apr-2022 01:08 1.6K