![]() | Name | Last modified | Size | Description |
---|---|---|---|---|
![]() | Parent Directory | - | ||
![]() | buildbin-out.txt | 14-Apr-2022 01:08 | 1.9K | |
![]() | buildbin-summary.dcf | 14-Apr-2022 01:08 | 572 | |
![]() | buildsrc-out.txt | 14-Apr-2022 01:08 | 844 | |
![]() | buildsrc-summary.dcf | 14-Apr-2022 01:08 | 449 | |
![]() | checksrc-out.txt | 14-Apr-2022 01:08 | 5.8K | |
![]() | checksrc-summary.dcf | 14-Apr-2022 01:08 | 478 | |
![]() | install-out.txt | 14-Apr-2022 01:08 | 1.6K | |
![]() | install-summary.dcf | 14-Apr-2022 01:08 | 283 | |