Back to Multiple platform build/check report for BioC 3.14
ABCDEFGHIJKLMNOPQR[S]TUVWXYZ

This page was generated on 2021-11-26 15:05:05 -0500 (Fri, 26 Nov 2021).

BUILD results for SpatialExperiment on nebbiolo2

To the developers/maintainers of the SpatialExperiment package:
- Please allow up to 24 hours (and sometimes 48 hours) for your latest push to git@git.bioconductor.org:packages/SpatialExperiment.git to
reflect on this report. See How and When does the builder pull? When will my changes propagate? here for more information.
- Make sure to use the following settings in order to reproduce any error or warning you see on this page.

raw results

Package 1847/2083HostnameOS / ArchINSTALLBUILDCHECKBUILD BIN
SpatialExperiment 1.4.0  (landing page)
Dario Righelli
Snapshot Date: 2021-11-25 04:15:05 -0500 (Thu, 25 Nov 2021)
git_url: https://git.bioconductor.org/packages/SpatialExperiment
git_branch: RELEASE_3_14
git_last_commit: fd11626
git_last_commit_date: 2021-10-26 13:01:17 -0500 (Tue, 26 Oct 2021)
nebbiolo2Linux (Ubuntu 20.04.3 LTS) / x86_64  OK    OK    OK  UNNEEDED, same version is already published
tokay2Windows Server 2012 R2 Standard / x64  OK    OK    OK    OK  UNNEEDED, same version is already published
machv2macOS 10.14.6 Mojave / x86_64  OK    OK    OK    OK  UNNEEDED, same version is already published

Summary

Package: SpatialExperiment
Version: 1.4.0
Command: /home/biocbuild/bbs-3.14-bioc/R/bin/R CMD build --keep-empty-dirs --no-resave-data SpatialExperiment
StartedAt: 2021-11-25 07:58:54 -0500 (Thu, 25 Nov 2021)
EndedAt: 2021-11-25 07:59:50 -0500 (Thu, 25 Nov 2021)
EllapsedTime: 55.6 seconds
RetCode: 0
Status:   OK  
PackageFile: SpatialExperiment_1.4.0.tar.gz
PackageFileSize: 2.285 MiB

Command output

##############################################################################
##############################################################################
###
### Running command:
###
###   /home/biocbuild/bbs-3.14-bioc/R/bin/R CMD build --keep-empty-dirs --no-resave-data SpatialExperiment
###
##############################################################################
##############################################################################


* checking for file ‘SpatialExperiment/DESCRIPTION’ ... OK
* preparing ‘SpatialExperiment’:
* checking DESCRIPTION meta-information ... OK
* installing the package to build vignettes
* creating vignettes ... OK
* checking for LF line-endings in source and make files and shell scripts
* checking for empty or unneeded directories
Omitted ‘LazyData’ from DESCRIPTION
* building ‘SpatialExperiment_1.4.0.tar.gz’