Back to Multiple platform build/check report for BioC 3.14
ABCDEFGHIJKLMNOPQR[S]TUVWXYZ

This page was generated on 2022-01-17 13:06:59 -0500 (Mon, 17 Jan 2022).

HostnameOSArch (*)R versionInstalled pkgs
nebbiolo2Linux (Ubuntu 20.04.4 LTS)x86_644.1.2 (2021-11-01) -- "Bird Hippie" 4328
tokay2Windows Server 2012 R2 Standardx644.1.2 (2021-11-01) -- "Bird Hippie" 4077
machv2macOS 10.14.6 Mojavex86_644.1.2 (2021-11-01) -- "Bird Hippie" 4138
Click on any hostname to see more info about the system (e.g. compilers)      (*) as reported by 'uname -p', except on Windows and Mac OS X

CHECK results for Sconify on tokay2


To the developers/maintainers of the Sconify package:
- Please allow up to 24 hours (and sometimes 48 hours) for your latest push to git@git.bioconductor.org:packages/Sconify.git to
reflect on this report. See How and When does the builder pull? When will my changes propagate? here for more information.
- Make sure to use the following settings in order to reproduce any error or warning you see on this page.

raw results

Package 1734/2083HostnameOS / ArchINSTALLBUILDCHECKBUILD BIN
Sconify 1.14.0  (landing page)
Tyler J Burns
Snapshot Date: 2022-01-16 01:55:05 -0500 (Sun, 16 Jan 2022)
git_url: https://git.bioconductor.org/packages/Sconify
git_branch: RELEASE_3_14
git_last_commit: 63a1bff
git_last_commit_date: 2021-10-26 12:42:59 -0500 (Tue, 26 Oct 2021)
nebbiolo2Linux (Ubuntu 20.04.4 LTS) / x86_64  OK    OK    OK  UNNEEDED, same version is already published
tokay2Windows Server 2012 R2 Standard / x64  OK    OK    OK    OK  UNNEEDED, same version is already published
machv2macOS 10.14.6 Mojave / x86_64  OK    OK    OK    OK  UNNEEDED, same version is already published

Summary

Package: Sconify
Version: 1.14.0
Command: C:\Users\biocbuild\bbs-3.14-bioc\R\bin\R.exe CMD check --force-multiarch --install=check:Sconify.install-out.txt --library=C:\Users\biocbuild\bbs-3.14-bioc\R\library --no-vignettes --timings Sconify_1.14.0.tar.gz
StartedAt: 2022-01-17 03:22:09 -0500 (Mon, 17 Jan 2022)
EndedAt: 2022-01-17 03:25:13 -0500 (Mon, 17 Jan 2022)
EllapsedTime: 184.3 seconds
RetCode: 0
Status:   OK  
CheckDir: Sconify.Rcheck
Warnings: 0

Command output

##############################################################################
##############################################################################
###
### Running command:
###
###   C:\Users\biocbuild\bbs-3.14-bioc\R\bin\R.exe CMD check --force-multiarch --install=check:Sconify.install-out.txt --library=C:\Users\biocbuild\bbs-3.14-bioc\R\library --no-vignettes --timings Sconify_1.14.0.tar.gz
###
##############################################################################
##############################################################################


* using log directory 'C:/Users/biocbuild/bbs-3.14-bioc/meat/Sconify.Rcheck'
* using R version 4.1.2 (2021-11-01)
* using platform: x86_64-w64-mingw32 (64-bit)
* using session charset: ISO8859-1
* using option '--no-vignettes'
* checking for file 'Sconify/DESCRIPTION' ... OK
* checking extension type ... Package
* this is package 'Sconify' version '1.14.0'
* package encoding: UTF-8
* checking package namespace information ... OK
* checking package dependencies ... OK
* checking if this is a source package ... OK
* checking if there is a namespace ... OK
* checking for hidden files and directories ... OK
* checking for portable file names ... OK
* checking whether package 'Sconify' can be installed ... OK
* checking installed package size ... OK
* checking package directory ... OK
* checking 'build' directory ... OK
* checking DESCRIPTION meta-information ... OK
* checking top-level files ... OK
* checking for left-over files ... OK
* checking index information ... OK
* checking package subdirectories ... OK
* checking R files for non-ASCII characters ... OK
* checking R files for syntax errors ... OK
* loading checks for arch 'i386'
** checking whether the package can be loaded ... OK
** checking whether the package can be loaded with stated dependencies ... OK
** checking whether the package can be unloaded cleanly ... OK
** checking whether the namespace can be loaded with stated dependencies ... OK
** checking whether the namespace can be unloaded cleanly ... OK
* loading checks for arch 'x64'
** checking whether the package can be loaded ... OK
** checking whether the package can be loaded with stated dependencies ... OK
** checking whether the package can be unloaded cleanly ... OK
** checking whether the namespace can be loaded with stated dependencies ... OK
** checking whether the namespace can be unloaded cleanly ... OK
* checking dependencies in R code ... OK
* checking S3 generic/method consistency ... OK
* checking replacement functions ... OK
* checking foreign function calls ... OK
* checking R code for possible problems ... OK
* checking Rd files ... OK
* checking Rd metadata ... OK
* checking Rd cross-references ... OK
* checking for missing documentation entries ... OK
* checking for code/documentation mismatches ... OK
* checking Rd \usage sections ... OK
* checking Rd contents ... OK
* checking for unstated dependencies in examples ... OK
* checking contents of 'data' directory ... OK
* checking data for non-ASCII characters ... OK
* checking LazyData ... OK
* checking data for ASCII and uncompressed saves ... OK
* checking files in 'vignettes' ... OK
* checking examples ...
** running examples for arch 'i386' ... OK
Examples with CPU (user + system) or elapsed time > 5s
             user system elapsed
SconeValues 13.66   0.04   13.69
** running examples for arch 'x64' ... OK
Examples with CPU (user + system) or elapsed time > 5s
            user system elapsed
SconeValues 16.2   0.02   16.22
* checking for unstated dependencies in 'tests' ... OK
* checking tests ...
** running tests for arch 'i386' ...
  Running 'testthat.R'
 OK
** running tests for arch 'x64' ...
  Running 'testthat.R'
 OK
* checking for unstated dependencies in vignettes ... OK
* checking package vignettes in 'inst/doc' ... OK
* checking running R code from vignettes ... SKIPPED
* checking re-building of vignette outputs ... SKIPPED
* checking PDF version of manual ... OK
* DONE

Status: OK


Installation output

Sconify.Rcheck/00install.out

##############################################################################
##############################################################################
###
### Running command:
###
###   C:\cygwin\bin\curl.exe -O http://155.52.207.166/BBS/3.14/bioc/src/contrib/Sconify_1.14.0.tar.gz && rm -rf Sconify.buildbin-libdir && mkdir Sconify.buildbin-libdir && C:\Users\biocbuild\bbs-3.14-bioc\R\bin\R.exe CMD INSTALL --merge-multiarch --build --library=Sconify.buildbin-libdir Sconify_1.14.0.tar.gz && C:\Users\biocbuild\bbs-3.14-bioc\R\bin\R.exe CMD INSTALL Sconify_1.14.0.zip && rm Sconify_1.14.0.tar.gz Sconify_1.14.0.zip
###
##############################################################################
##############################################################################


  % Total    % Received % Xferd  Average Speed   Time    Time     Time  Current
                                 Dload  Upload   Total   Spent    Left  Speed

  0     0    0     0    0     0      0      0 --:--:-- --:--:-- --:--:--     0
100 3903k  100 3903k    0     0  5634k      0 --:--:-- --:--:-- --:--:-- 5640k

install for i386

* installing *source* package 'Sconify' ...
** using staged installation
** R
** data
*** moving datasets to lazyload DB
** inst
** byte-compile and prepare package for lazy loading
Note: wrong number of arguments to '/' 
Note: wrong number of arguments to 'asinh' 
** help
*** installing help indices
  converting help for package 'Sconify'
    finding HTML links ... done
    AddTsne                                 html  
    FcsToTibble                             html  
    Fnn                                     html  
    GetKnnDe                                html  
    GetMarkerNames                          html  
    Impute                                  html  
    ImputeTesting                           html  
    LogTransformQ                           html  
    MakeHist                                html  
    MakeKnnList                             html  
    MeaningOfLife                           html  
    MultipleDonorStatistics                 html  
    ParseMarkers                            html  
    PostProcessing                          html  
    ProcessMultipleFiles                    html  
    QCorrectionThresholding                 html  
    QuantNormalize                          html  
    QuantNormalizeElements                  html  
    RunStatistics                           html  
    SconeValues                             html  
    SplitFile                               html  
    StringToNumbers                         html  
    SubsampleAndTsne                        html  
    TsneVis                                 html  
    bz.gmcsf.final                          html  
    bz.gmcsf.final.norm.scale               html  
    exist                                   html  
    funct.markers                           html  
    input.markers                           html  
    markers                                 html  
    wand.combined                           html  
    wand.final                              html  
    wand.ideal.k                            html  
    wand.il7                                html  
    wand.scone                              html  
** building package indices
** installing vignettes
** testing if installed package can be loaded from temporary location
** testing if installed package can be loaded from final location
** testing if installed package keeps a record of temporary installation path

install for x64

* installing *source* package 'Sconify' ...
** testing if installed package can be loaded
* MD5 sums
packaged installation of 'Sconify' as Sconify_1.14.0.zip
* DONE (Sconify)
* installing to library 'C:/Users/biocbuild/bbs-3.14-bioc/R/library'
package 'Sconify' successfully unpacked and MD5 sums checked

Tests output

Sconify.Rcheck/tests_i386/testthat.Rout


R version 4.1.2 (2021-11-01) -- "Bird Hippie"
Copyright (C) 2021 The R Foundation for Statistical Computing
Platform: i386-w64-mingw32/i386 (32-bit)

R is free software and comes with ABSOLUTELY NO WARRANTY.
You are welcome to redistribute it under certain conditions.
Type 'license()' or 'licence()' for distribution details.

R is a collaborative project with many contributors.
Type 'contributors()' for more information and
'citation()' on how to cite R or R packages in publications.

Type 'demo()' for some demos, 'help()' for on-line help, or
'help.start()' for an HTML browser interface to help.
Type 'q()' to quit R.

> library(testthat)
> library(Sconify)
> 
> test_check("Sconify")
Read the 100 x 27 data matrix successfully!
OpenMP is working. 1 threads.
Using no_dims = 2, perplexity = 30.000000, and theta = 0.500000
Computing input similarities...
Building tree...
Done in 0.02 seconds (sparsity = 0.966800)!
Learning embedding...
Iteration 50: error is 52.402201 (50 iterations in 0.01 seconds)
Iteration 100: error is 53.608111 (50 iterations in 0.02 seconds)
Iteration 150: error is 52.422073 (50 iterations in 0.02 seconds)
Iteration 200: error is 56.102335 (50 iterations in 0.01 seconds)
Iteration 250: error is 51.872185 (50 iterations in 0.02 seconds)
Iteration 300: error is 1.510193 (50 iterations in 0.02 seconds)
Iteration 350: error is 1.048938 (50 iterations in 0.01 seconds)
Iteration 400: error is 0.375034 (50 iterations in 0.00 seconds)
Iteration 450: error is 0.229365 (50 iterations in 0.02 seconds)
Iteration 500: error is 0.185609 (50 iterations in 0.01 seconds)
Iteration 550: error is 0.184374 (50 iterations in 0.00 seconds)
Iteration 600: error is 0.185633 (50 iterations in 0.02 seconds)
Iteration 650: error is 0.185887 (50 iterations in 0.02 seconds)
Iteration 700: error is 0.186814 (50 iterations in 0.00 seconds)
Iteration 750: error is 0.187079 (50 iterations in 0.01 seconds)
Iteration 800: error is 0.187158 (50 iterations in 0.02 seconds)
Iteration 850: error is 0.186808 (50 iterations in 0.00 seconds)
Iteration 900: error is 0.186659 (50 iterations in 0.02 seconds)
Iteration 950: error is 0.187036 (50 iterations in 0.01 seconds)
Iteration 1000: error is 0.186939 (50 iterations in 0.00 seconds)
Fitting performed in 0.23 seconds.
Read the 1000 x 27 data matrix successfully!
OpenMP is working. 1 threads.
Using no_dims = 2, perplexity = 30.000000, and theta = 0.500000
Computing input similarities...
Building tree...
Done in 0.25 seconds (sparsity = 0.129120)!
Learning embedding...
Iteration 50: error is 64.573844 (50 iterations in 0.28 seconds)
Iteration 100: error is 60.657167 (50 iterations in 0.17 seconds)
Iteration 150: error is 60.290137 (50 iterations in 0.17 seconds)
Iteration 200: error is 60.176244 (50 iterations in 0.17 seconds)
Iteration 250: error is 60.120132 (50 iterations in 0.19 seconds)
Iteration 300: error is 1.338621 (50 iterations in 0.14 seconds)
Iteration 350: error is 1.232894 (50 iterations in 0.14 seconds)
Iteration 400: error is 1.201617 (50 iterations in 0.14 seconds)
Iteration 450: error is 1.184263 (50 iterations in 0.14 seconds)
Iteration 500: error is 1.174902 (50 iterations in 0.14 seconds)
Iteration 550: error is 1.170268 (50 iterations in 0.14 seconds)
Iteration 600: error is 1.168274 (50 iterations in 0.12 seconds)
Iteration 650: error is 1.163693 (50 iterations in 0.12 seconds)
Iteration 700: error is 1.159066 (50 iterations in 0.12 seconds)
Iteration 750: error is 1.156566 (50 iterations in 0.12 seconds)
Iteration 800: error is 1.154066 (50 iterations in 0.12 seconds)
Iteration 850: error is 1.150495 (50 iterations in 0.12 seconds)
Iteration 900: error is 1.147428 (50 iterations in 0.12 seconds)
Iteration 950: error is 1.145669 (50 iterations in 0.12 seconds)
Iteration 1000: error is 1.143472 (50 iterations in 0.12 seconds)
Fitting performed in 2.95 seconds.
[ FAIL 0 | WARN 3 | SKIP 0 | PASS 72 ]
> 
> proc.time()
   user  system elapsed 
  19.71    0.46   20.15 

Sconify.Rcheck/tests_x64/testthat.Rout


R version 4.1.2 (2021-11-01) -- "Bird Hippie"
Copyright (C) 2021 The R Foundation for Statistical Computing
Platform: x86_64-w64-mingw32/x64 (64-bit)

R is free software and comes with ABSOLUTELY NO WARRANTY.
You are welcome to redistribute it under certain conditions.
Type 'license()' or 'licence()' for distribution details.

R is a collaborative project with many contributors.
Type 'contributors()' for more information and
'citation()' on how to cite R or R packages in publications.

Type 'demo()' for some demos, 'help()' for on-line help, or
'help.start()' for an HTML browser interface to help.
Type 'q()' to quit R.

> library(testthat)
> library(Sconify)
> 
> test_check("Sconify")
Read the 100 x 27 data matrix successfully!
OpenMP is working. 1 threads.
Using no_dims = 2, perplexity = 30.000000, and theta = 0.500000
Computing input similarities...
Building tree...
Done in 0.01 seconds (sparsity = 0.966600)!
Learning embedding...
Iteration 50: error is 49.195380 (50 iterations in 0.02 seconds)
Iteration 100: error is 50.270859 (50 iterations in 0.00 seconds)
Iteration 150: error is 51.206380 (50 iterations in 0.00 seconds)
Iteration 200: error is 50.096638 (50 iterations in 0.01 seconds)
Iteration 250: error is 53.510217 (50 iterations in 0.02 seconds)
Iteration 300: error is 1.650549 (50 iterations in 0.01 seconds)
Iteration 350: error is 1.361835 (50 iterations in 0.00 seconds)
Iteration 400: error is 1.079992 (50 iterations in 0.02 seconds)
Iteration 450: error is 0.521608 (50 iterations in 0.00 seconds)
Iteration 500: error is 0.229223 (50 iterations in 0.02 seconds)
Iteration 550: error is 0.211769 (50 iterations in 0.01 seconds)
Iteration 600: error is 0.203172 (50 iterations in 0.00 seconds)
Iteration 650: error is 0.191402 (50 iterations in 0.02 seconds)
Iteration 700: error is 0.175742 (50 iterations in 0.00 seconds)
Iteration 750: error is 0.176818 (50 iterations in 0.00 seconds)
Iteration 800: error is 0.178425 (50 iterations in 0.01 seconds)
Iteration 850: error is 0.176816 (50 iterations in 0.00 seconds)
Iteration 900: error is 0.176217 (50 iterations in 0.02 seconds)
Iteration 950: error is 0.176744 (50 iterations in 0.01 seconds)
Iteration 1000: error is 0.176040 (50 iterations in 0.00 seconds)
Fitting performed in 0.17 seconds.
Read the 1000 x 27 data matrix successfully!
OpenMP is working. 1 threads.
Using no_dims = 2, perplexity = 30.000000, and theta = 0.500000
Computing input similarities...
Building tree...
Done in 0.26 seconds (sparsity = 0.129120)!
Learning embedding...
Iteration 50: error is 64.632228 (50 iterations in 0.25 seconds)
Iteration 100: error is 60.785428 (50 iterations in 0.20 seconds)
Iteration 150: error is 60.363978 (50 iterations in 0.25 seconds)
Iteration 200: error is 60.218503 (50 iterations in 0.20 seconds)
Iteration 250: error is 60.155224 (50 iterations in 0.30 seconds)
Iteration 300: error is 1.343311 (50 iterations in 0.22 seconds)
Iteration 350: error is 1.230461 (50 iterations in 0.14 seconds)
Iteration 400: error is 1.198084 (50 iterations in 0.19 seconds)
Iteration 450: error is 1.187398 (50 iterations in 0.16 seconds)
Iteration 500: error is 1.179116 (50 iterations in 0.16 seconds)
Iteration 550: error is 1.173793 (50 iterations in 0.14 seconds)
Iteration 600: error is 1.167913 (50 iterations in 0.16 seconds)
Iteration 650: error is 1.163690 (50 iterations in 0.12 seconds)
Iteration 700: error is 1.160496 (50 iterations in 0.19 seconds)
Iteration 750: error is 1.156611 (50 iterations in 0.22 seconds)
Iteration 800: error is 1.153563 (50 iterations in 0.19 seconds)
Iteration 850: error is 1.151782 (50 iterations in 0.17 seconds)
Iteration 900: error is 1.150823 (50 iterations in 0.16 seconds)
Iteration 950: error is 1.148637 (50 iterations in 0.14 seconds)
Iteration 1000: error is 1.147132 (50 iterations in 0.14 seconds)
Fitting performed in 3.69 seconds.
[ FAIL 0 | WARN 3 | SKIP 0 | PASS 72 ]
> 
> proc.time()
   user  system elapsed 
  24.35    0.25   24.59 

Example timings

Sconify.Rcheck/examples_i386/Sconify-Ex.timings

nameusersystemelapsed
FcsToTibble0.150.010.17
Fnn0.400.280.69
GetKnnDe0.060.000.07
GetMarkerNames0.030.000.03
ImputeTesting2.950.002.95
MakeHist0.250.020.27
MakeKnnList0.240.000.23
MeaningOfLife000
ParseMarkers0.290.000.29
PostProcessing0.070.000.08
ProcessMultipleFiles0.180.000.19
QuantNormalizeElements0.180.000.19
SconeValues13.66 0.0413.69
SplitFile0.080.000.08
StringToNumbers000
SubsampleAndTsne1.670.001.67
TsneVis0.160.000.16

Sconify.Rcheck/examples_x64/Sconify-Ex.timings

nameusersystemelapsed
FcsToTibble0.180.020.19
Fnn0.460.290.77
GetKnnDe0.130.000.13
GetMarkerNames0.060.000.06
ImputeTesting3.670.003.67
MakeHist0.270.000.27
MakeKnnList0.250.000.25
MeaningOfLife000
ParseMarkers0.280.000.28
PostProcessing0.090.000.09
ProcessMultipleFiles0.110.000.11
QuantNormalizeElements0.160.000.16
SconeValues16.20 0.0216.22
SplitFile0.080.000.07
StringToNumbers000
SubsampleAndTsne1.640.011.66
TsneVis0.170.000.17