Back to Multiple platform build/check report for BioC 3.14
ABCDEFGHIJKLMNOPQR[S]TUVWXYZ

This page was generated on 2022-01-24 13:06:58 -0500 (Mon, 24 Jan 2022).

HostnameOSArch (*)R versionInstalled pkgs
nebbiolo2Linux (Ubuntu 20.04.4 LTS)x86_644.1.2 (2021-11-01) -- "Bird Hippie" 4329
tokay2Windows Server 2012 R2 Standardx644.1.2 (2021-11-01) -- "Bird Hippie" 4080
machv2macOS 10.14.6 Mojavex86_644.1.2 (2021-11-01) -- "Bird Hippie" 4141
Click on any hostname to see more info about the system (e.g. compilers)      (*) as reported by 'uname -p', except on Windows and Mac OS X

BUILD BIN results for Sconify on tokay2


To the developers/maintainers of the Sconify package:
- Please allow up to 24 hours (and sometimes 48 hours) for your latest push to git@git.bioconductor.org:packages/Sconify.git to
reflect on this report. See How and When does the builder pull? When will my changes propagate? here for more information.
- Make sure to use the following settings in order to reproduce any error or warning you see on this page.

raw results

Package 1734/2083HostnameOS / ArchINSTALLBUILDCHECKBUILD BIN
Sconify 1.14.0  (landing page)
Tyler J Burns
Snapshot Date: 2022-01-23 01:55:04 -0500 (Sun, 23 Jan 2022)
git_url: https://git.bioconductor.org/packages/Sconify
git_branch: RELEASE_3_14
git_last_commit: 63a1bff
git_last_commit_date: 2021-10-26 12:42:59 -0500 (Tue, 26 Oct 2021)
nebbiolo2Linux (Ubuntu 20.04.4 LTS) / x86_64  OK    OK    OK  UNNEEDED, same version is already published
tokay2Windows Server 2012 R2 Standard / x64  OK    OK    OK    OK  UNNEEDED, same version is already published
machv2macOS 10.14.6 Mojave / x86_64  OK    OK    OK    OK  UNNEEDED, same version is already published

Summary

Package: Sconify
Version: 1.14.0
Command: rm -rf Sconify.buildbin-libdir && mkdir Sconify.buildbin-libdir && C:\Users\biocbuild\bbs-3.14-bioc\R\bin\R.exe CMD INSTALL --merge-multiarch --build --library=Sconify.buildbin-libdir Sconify_1.14.0.tar.gz
StartedAt: 2022-01-24 06:43:48 -0500 (Mon, 24 Jan 2022)
EndedAt: 2022-01-24 06:44:07 -0500 (Mon, 24 Jan 2022)
EllapsedTime: 19.2 seconds
RetCode: 0
Status:   OK  
PackageFile: Sconify_1.14.0.zip
PackageFileSize: 3.15 MiB

Command output

##############################################################################
##############################################################################
###
### Running command:
###
###   rm -rf Sconify.buildbin-libdir && mkdir Sconify.buildbin-libdir && C:\Users\biocbuild\bbs-3.14-bioc\R\bin\R.exe CMD INSTALL --merge-multiarch --build --library=Sconify.buildbin-libdir Sconify_1.14.0.tar.gz
###
##############################################################################
##############################################################################



install for i386

* installing *source* package 'Sconify' ...
** using staged installation
** R
** data
*** moving datasets to lazyload DB
** inst
** byte-compile and prepare package for lazy loading
Note: wrong number of arguments to '/' 
Note: wrong number of arguments to 'asinh' 
** help
*** installing help indices
  converting help for package 'Sconify'
    finding HTML links ... done
    AddTsne                                 html  
    FcsToTibble                             html  
    Fnn                                     html  
    GetKnnDe                                html  
    GetMarkerNames                          html  
    Impute                                  html  
    ImputeTesting                           html  
    LogTransformQ                           html  
    MakeHist                                html  
    MakeKnnList                             html  
    MeaningOfLife                           html  
    MultipleDonorStatistics                 html  
    ParseMarkers                            html  
    PostProcessing                          html  
    ProcessMultipleFiles                    html  
    QCorrectionThresholding                 html  
    QuantNormalize                          html  
    QuantNormalizeElements                  html  
    RunStatistics                           html  
    SconeValues                             html  
    SplitFile                               html  
    StringToNumbers                         html  
    SubsampleAndTsne                        html  
    TsneVis                                 html  
    bz.gmcsf.final                          html  
    bz.gmcsf.final.norm.scale               html  
    exist                                   html  
    funct.markers                           html  
    input.markers                           html  
    markers                                 html  
    wand.combined                           html  
    wand.final                              html  
    wand.ideal.k                            html  
    wand.il7                                html  
    wand.scone                              html  
** building package indices
** installing vignettes
** testing if installed package can be loaded from temporary location
** testing if installed package can be loaded from final location
** testing if installed package keeps a record of temporary installation path

install for x64

* installing *source* package 'Sconify' ...
** testing if installed package can be loaded
* MD5 sums
packaged installation of 'Sconify' as Sconify_1.14.0.zip
* DONE (Sconify)