Back to Multiple platform build/check report for BioC 3.14
ABCDEFGHIJKLMNOPQR[S]TUVWXYZ

This page was generated on 2022-01-19 13:07:20 -0500 (Wed, 19 Jan 2022).

HostnameOSArch (*)R versionInstalled pkgs
nebbiolo2Linux (Ubuntu 20.04.4 LTS)x86_644.1.2 (2021-11-01) -- "Bird Hippie" 4328
tokay2Windows Server 2012 R2 Standardx644.1.2 (2021-11-01) -- "Bird Hippie" 4077
machv2macOS 10.14.6 Mojavex86_644.1.2 (2021-11-01) -- "Bird Hippie" 4138
Click on any hostname to see more info about the system (e.g. compilers)      (*) as reported by 'uname -p', except on Windows and Mac OS X

INSTALL results for ScISI on tokay2


To the developers/maintainers of the ScISI package:
- Please allow up to 24 hours (and sometimes 48 hours) for your latest push to git@git.bioconductor.org:packages/ScISI.git to
reflect on this report. See How and When does the builder pull? When will my changes propagate? here for more information.
- Make sure to use the following settings in order to reproduce any error or warning you see on this page.

raw results

Package 1727/2083HostnameOS / ArchINSTALLBUILDCHECKBUILD BIN
ScISI 1.66.0  (landing page)
Tony Chiang
Snapshot Date: 2022-01-18 01:55:07 -0500 (Tue, 18 Jan 2022)
git_url: https://git.bioconductor.org/packages/ScISI
git_branch: RELEASE_3_14
git_last_commit: 1e8f20b
git_last_commit_date: 2021-10-26 11:49:12 -0500 (Tue, 26 Oct 2021)
nebbiolo2Linux (Ubuntu 20.04.4 LTS) / x86_64  OK    ERROR  skipped
tokay2Windows Server 2012 R2 Standard / x64  OK    ERROR  skippedskipped
machv2macOS 10.14.6 Mojave / x86_64  OK    ERROR  skippedskipped

Summary

Package: ScISI
Version: 1.66.0
Command: C:\cygwin\bin\curl.exe -O http://155.52.207.166/BBS/3.14/bioc/src/contrib/ScISI_1.66.0.tar.gz && rm -rf ScISI.buildbin-libdir && mkdir ScISI.buildbin-libdir && C:\Users\biocbuild\bbs-3.14-bioc\R\bin\R.exe CMD INSTALL --merge-multiarch --build --library=ScISI.buildbin-libdir ScISI_1.66.0.tar.gz && C:\Users\biocbuild\bbs-3.14-bioc\R\bin\R.exe CMD INSTALL ScISI_1.66.0.zip && rm ScISI_1.66.0.tar.gz ScISI_1.66.0.zip
StartedAt: 2022-01-18 05:44:38 -0500 (Tue, 18 Jan 2022)
EndedAt: 2022-01-18 05:46:39 -0500 (Tue, 18 Jan 2022)
EllapsedTime: 121.5 seconds
RetCode: 0
Status:   OK  

Command output

##############################################################################
##############################################################################
###
### Running command:
###
###   C:\cygwin\bin\curl.exe -O http://155.52.207.166/BBS/3.14/bioc/src/contrib/ScISI_1.66.0.tar.gz && rm -rf ScISI.buildbin-libdir && mkdir ScISI.buildbin-libdir && C:\Users\biocbuild\bbs-3.14-bioc\R\bin\R.exe CMD INSTALL --merge-multiarch --build --library=ScISI.buildbin-libdir ScISI_1.66.0.tar.gz && C:\Users\biocbuild\bbs-3.14-bioc\R\bin\R.exe CMD INSTALL ScISI_1.66.0.zip && rm ScISI_1.66.0.tar.gz ScISI_1.66.0.zip
###
##############################################################################
##############################################################################


  % Total    % Received % Xferd  Average Speed   Time    Time     Time  Current
                                 Dload  Upload   Total   Spent    Left  Speed

  0     0    0     0    0     0      0      0 --:--:-- --:--:-- --:--:--     0
100 1913k  100 1913k    0     0  4049k      0 --:--:-- --:--:-- --:--:-- 4062k

install for i386

* installing *source* package 'ScISI' ...
** using staged installation
** R
** data
** inst
** byte-compile and prepare package for lazy loading
** help
*** installing help indices
  converting help for package 'ScISI'
    finding HTML links ... done
    Desc-methods                            html  
    ID-methods                              html  
    JaccardCoef                             html  
    ScISI                                   html  
    ScISI2html                              html  
    arp23                                   html  
    arp23G                                  html  
    arp23Orf                                html  
    arp23Y2HG                               html  
    calcGraphStats                          html  
    cfia                                    html  
    cfiaOrf                                 html  
    checkComplex                            html  
    checkSGN                                html  
    compBijection                           html  
    compareComplex                          html  
    createGODataFrame                       html  
    createGOMatrix                          html  
    createMipsDataFrame                     html  
    createMipsMatrix                        html  
    createYeastDataObj                      html  
    dataS                                   html  
    eAt                                     html  
    eAt2                                    html  
    edgeProp                                html  
    egEBI16112                              html  
    expStats                                html  
    findSubComp                             html  
    gavin2mergeMG                           html  
    getAPMSData                             html  
    getGOInfo                               html  
    getLocOrfs                              html  
    getMipsInfo                             html  
    getURL-methods                          html  
    graphSumStats                           html  
    ho2mergeMGG                             html  
    krogan2mergeMGGH                        html  
    locScISI                                html  
    mapping2SysG                            html  
    mappingsG                               html  
    maximizeSimilarity                      html  
    meanDeg                                 html  
    mergeBGMat                              html  
    mips2go                                 html  
    nAt                                     html  
    nAtMap                                  html  
    nonGenes                                html  
    nucComp                                 html  
    recCompSize                             html  
    redundantM                              html  
    rmByEvi                                 html  
    runAlignment                            html  
    runCompareComplex                       html  
    subCompM                                html  
    sumStats                                html  
    unWantedComp                            html  
    unwanted                                html  
    xtraGO                                  html  
    xtraGONodes                             html  
    yeastData-class                         html  
** building package indices
** installing vignettes
** testing if installed package can be loaded from temporary location
** testing if installed package can be loaded from final location
** testing if installed package keeps a record of temporary installation path

install for x64

* installing *source* package 'ScISI' ...
** testing if installed package can be loaded
* MD5 sums
packaged installation of 'ScISI' as ScISI_1.66.0.zip
* DONE (ScISI)
* installing to library 'C:/Users/biocbuild/bbs-3.14-bioc/R/library'
package 'ScISI' successfully unpacked and MD5 sums checked