Index of /checkResults/3.14/bioc-LATEST/STAN/raw-results/riesling1

[ICO]NameLast modifiedSizeDescription

[DIR]Parent Directory  -  
[TXT]buildbin-out.txt22-Oct-2021 01:05 14K 
[   ]buildbin-summary.dcf22-Oct-2021 01:05 516  
[TXT]buildsrc-out.txt22-Oct-2021 01:05 916  
[   ]buildsrc-summary.dcf22-Oct-2021 01:05 441  
[TXT]checksrc-out.txt22-Oct-2021 01:05 5.9K 
[   ]checksrc-summary.dcf22-Oct-2021 01:05 438  
[TXT]install-out.txt22-Oct-2021 01:05 14K 
[   ]install-summary.dcf22-Oct-2021 01:05 602