Index of /checkResults/3.14/bioc-LATEST/STAN/raw-results/nebbiolo2

[ICO]NameLast modifiedSizeDescription

[DIR]Parent Directory  -  
[TXT]buildsrc-out.txt22-Oct-2021 01:04 887  
[   ]buildsrc-summary.dcf22-Oct-2021 01:04 409  
[TXT]checksrc-out.txt22-Oct-2021 01:04 4.4K 
[   ]checksrc-summary.dcf22-Oct-2021 01:04 412  
[TXT]install-out.txt22-Oct-2021 01:04 5.2K 
[   ]install-summary.dcf22-Oct-2021 01:04 253