Index of /checkResults/3.14/bioc-LATEST/STAN/raw-results/merida1

[ICO]NameLast modifiedSizeDescription

[DIR]Parent Directory  -  
[TXT]buildbin-out.txt24-Oct-2021 03:07 8.7K 
[   ]buildbin-summary.dcf24-Oct-2021 03:07 513  
[TXT]buildsrc-out.txt24-Oct-2021 03:07 897  
[   ]buildsrc-summary.dcf24-Oct-2021 03:07 419  
[TXT]checksrc-out.txt24-Oct-2021 03:07 5.1K 
[   ]checksrc-summary.dcf24-Oct-2021 03:07 438  
[TXT]install-out.txt24-Oct-2021 03:07 7.5K 
[   ]install-summary.dcf24-Oct-2021 03:07 263