Index of /checkResults/3.14/bioc-LATEST/STAN/raw-results

[ICO]NameLast modifiedSizeDescription

[DIR]Parent Directory  -  
[   ]info.dcf26-Sep-2021 01:06 266  
[DIR]merida1/26-Sep-2021 01:06 -  
[DIR]nebbiolo2/26-Sep-2021 01:05 -  
[DIR]riesling1/26-Sep-2021 01:05 -