Back to Multiple platform build/check report for BioC 3.14
ABCDEFGHIJKLMNOPQR[S]TUVWXYZ

This page was generated on 2021-09-18 12:05:55 -0400 (Sat, 18 Sep 2021).

INSTALL results for STAN on nebbiolo2

To the developers/maintainers of the STAN package:
- Please allow up to 24 hours (and sometimes 48 hours) for your latest push to git@git.bioconductor.org:packages/STAN.git to
reflect on this report. See How and When does the builder pull? When will my changes propagate? here for more information.
- Make sure to use the following settings in order to reproduce any error or warning you see on this page.

raw results

Package 1838/2029HostnameOS / ArchINSTALLBUILDCHECKBUILD BIN
STAN 2.21.0  (landing page)
Rafael Campos-Martin
Snapshot Date: 2021-09-17 14:50:09 -0400 (Fri, 17 Sep 2021)
git_url: https://git.bioconductor.org/packages/STAN
git_branch: master
git_last_commit: e5232b3
git_last_commit_date: 2021-05-19 12:06:26 -0400 (Wed, 19 May 2021)
nebbiolo2Linux (Ubuntu 20.04.2 LTS) / x86_64  OK    OK    OK  UNNEEDED, same version is already published
riesling1Windows Server 2019 Standard / x64  OK    OK    OK    OK  UNNEEDED, same version is already published
merida1macOS 10.14.6 Mojave / x86_64  OK    OK    WARNINGS    OK  UNNEEDED, same version is already published

Summary

Package: STAN
Version: 2.21.0
Command: /home/biocbuild/bbs-3.14-bioc/R/bin/R CMD INSTALL STAN
StartedAt: 2021-09-17 16:32:51 -0400 (Fri, 17 Sep 2021)
EndedAt: 2021-09-17 16:33:46 -0400 (Fri, 17 Sep 2021)
EllapsedTime: 54.6 seconds
RetCode: 0
Status:   OK  

Command output

##############################################################################
##############################################################################
###
### Running command:
###
###   /home/biocbuild/bbs-3.14-bioc/R/bin/R CMD INSTALL STAN
###
##############################################################################
##############################################################################


* installing to library ‘/home/biocbuild/bbs-3.14-bioc/R/library’
* installing *source* package ‘STAN’ ...
** using staged installation
** libs
g++ -std=gnu++14 -I"/home/biocbuild/bbs-3.14-bioc/R/include" -DNDEBUG   -I/usr/local/include  -D_RDLL_ -fopenmp  -fpic  -g -O2  -Wall -c Bernoulli.cpp -o Bernoulli.o
g++ -std=gnu++14 -I"/home/biocbuild/bbs-3.14-bioc/R/include" -DNDEBUG   -I/usr/local/include  -D_RDLL_ -fopenmp  -fpic  -g -O2  -Wall -c EmissionFactory.cpp -o EmissionFactory.o
g++ -std=gnu++14 -I"/home/biocbuild/bbs-3.14-bioc/R/include" -DNDEBUG   -I/usr/local/include  -D_RDLL_ -fopenmp  -fpic  -g -O2  -Wall -c EmissionFunction.cpp -o EmissionFunction.o
g++ -std=gnu++14 -I"/home/biocbuild/bbs-3.14-bioc/R/include" -DNDEBUG   -I/usr/local/include  -D_RDLL_ -fopenmp  -fpic  -g -O2  -Wall -c HMM.cpp -o HMM.o
g++ -std=gnu++14 -I"/home/biocbuild/bbs-3.14-bioc/R/include" -DNDEBUG   -I/usr/local/include  -D_RDLL_ -fopenmp  -fpic  -g -O2  -Wall -c InitialProbability.cpp -o InitialProbability.o
g++ -std=gnu++14 -I"/home/biocbuild/bbs-3.14-bioc/R/include" -DNDEBUG   -I/usr/local/include  -D_RDLL_ -fopenmp  -fpic  -g -O2  -Wall -c JointlyIndependent.cpp -o JointlyIndependent.o
g++ -std=gnu++14 -I"/home/biocbuild/bbs-3.14-bioc/R/include" -DNDEBUG   -I/usr/local/include  -D_RDLL_ -fopenmp  -fpic  -g -O2  -Wall -c MemoryAllocation.cpp -o MemoryAllocation.o
g++ -std=gnu++14 -I"/home/biocbuild/bbs-3.14-bioc/R/include" -DNDEBUG   -I/usr/local/include  -D_RDLL_ -fopenmp  -fpic  -g -O2  -Wall -c Multinomial.cpp -o Multinomial.o
g++ -std=gnu++14 -I"/home/biocbuild/bbs-3.14-bioc/R/include" -DNDEBUG   -I/usr/local/include  -D_RDLL_ -fopenmp  -fpic  -g -O2  -Wall -c MultivariateGaussian.cpp -o MultivariateGaussian.o
g++ -std=gnu++14 -I"/home/biocbuild/bbs-3.14-bioc/R/include" -DNDEBUG   -I/usr/local/include  -D_RDLL_ -fopenmp  -fpic  -g -O2  -Wall -c NegativeBinomial.cpp -o NegativeBinomial.o
g++ -std=gnu++14 -I"/home/biocbuild/bbs-3.14-bioc/R/include" -DNDEBUG   -I/usr/local/include  -D_RDLL_ -fopenmp  -fpic  -g -O2  -Wall -c ParamContainerEmissions.cpp -o ParamContainerEmissions.o
g++ -std=gnu++14 -I"/home/biocbuild/bbs-3.14-bioc/R/include" -DNDEBUG   -I/usr/local/include  -D_RDLL_ -fopenmp  -fpic  -g -O2  -Wall -c Poisson.cpp -o Poisson.o
g++ -std=gnu++14 -I"/home/biocbuild/bbs-3.14-bioc/R/include" -DNDEBUG   -I/usr/local/include  -D_RDLL_ -fopenmp  -fpic  -g -O2  -Wall -c PoissonLogNormal.cpp -o PoissonLogNormal.o
g++ -std=gnu++14 -I"/home/biocbuild/bbs-3.14-bioc/R/include" -DNDEBUG   -I/usr/local/include  -D_RDLL_ -fopenmp  -fpic  -g -O2  -Wall -c RAccessUtils.cpp -o RAccessUtils.o
g++ -std=gnu++14 -I"/home/biocbuild/bbs-3.14-bioc/R/include" -DNDEBUG   -I/usr/local/include  -D_RDLL_ -fopenmp  -fpic  -g -O2  -Wall -c RWrapper.cpp -o RWrapper.o
RWrapper.cpp: In function ‘EmissionFunction** RGETEMISSION(SEXP, int, SEXP, int*, const char*, double***, int*, int, SEXP, int*, int*, int*)’:
RWrapper.cpp:350:16: warning: ‘HMMEmissionFunctions’ may be used uninitialized in this function [-Wmaybe-uninitialized]
  350 |         return HMMEmissionFunctions;
      |                ^~~~~~~~~~~~~~~~~~~~
RWrapper.cpp: In function ‘SEXPREC* prepareEmission(const char*, SEXP, SEXP, EmissionFunction**, int)’:
RWrapper.cpp:1157:16: warning: ‘sexpemissionParam’ may be used uninitialized in this function [-Wmaybe-uninitialized]
 1157 |         return sexpemissionParam;
      |                ^~~~~~~~~~~~~~~~~
g++ -std=gnu++14 -I"/home/biocbuild/bbs-3.14-bioc/R/include" -DNDEBUG   -I/usr/local/include  -D_RDLL_ -fopenmp  -fpic  -g -O2  -Wall -c TransitionMatrix.cpp -o TransitionMatrix.o
g++ -std=gnu++14 -I"/home/biocbuild/bbs-3.14-bioc/R/include" -DNDEBUG   -I/usr/local/include  -D_RDLL_ -fopenmp  -fpic  -g -O2  -Wall -c matUtils.cpp -o matUtils.o
g++ -std=gnu++14 -shared -L/home/biocbuild/bbs-3.14-bioc/R/lib -L/usr/local/lib -o STAN.so Bernoulli.o EmissionFactory.o EmissionFunction.o HMM.o InitialProbability.o JointlyIndependent.o MemoryAllocation.o Multinomial.o MultivariateGaussian.o NegativeBinomial.o ParamContainerEmissions.o Poisson.o PoissonLogNormal.o RAccessUtils.o RWrapper.o TransitionMatrix.o matUtils.o -L/home/biocbuild/bbs-3.14-bioc/R/lib -lRlapack -L/home/biocbuild/bbs-3.14-bioc/R/lib -lRblas -lgfortran -lm -lquadmath -fopenmp -L/home/biocbuild/bbs-3.14-bioc/R/lib -lR
installing to /home/biocbuild/bbs-3.14-bioc/R/library/00LOCK-STAN/00new/STAN/libs
** R
** data
** byte-compile and prepare package for lazy loading
** help
*** installing help indices
** building package indices
** installing vignettes
** testing if installed package can be loaded from temporary location
** checking absolute paths in shared objects and dynamic libraries
** testing if installed package can be loaded from final location
** testing if installed package keeps a record of temporary installation path
* DONE (STAN)