Back to Multiple platform build/check report for BioC 3.14
ABCDEFGHIJKLMNOPQR[S]TUVWXYZ

This page was generated on 2022-01-26 13:07:23 -0500 (Wed, 26 Jan 2022).

HostnameOSArch (*)R versionInstalled pkgs
nebbiolo2Linux (Ubuntu 20.04.4 LTS)x86_644.1.2 (2021-11-01) -- "Bird Hippie" 4329
tokay2Windows Server 2012 R2 Standardx644.1.2 (2021-11-01) -- "Bird Hippie" 4080
machv2macOS 10.14.6 Mojavex86_644.1.2 (2021-11-01) -- "Bird Hippie" 4141
Click on any hostname to see more info about the system (e.g. compilers)      (*) as reported by 'uname -p', except on Windows and Mac OS X

BUILD BIN results for SLGI on tokay2


To the developers/maintainers of the SLGI package:
- Please allow up to 24 hours (and sometimes 48 hours) for your latest push to git@git.bioconductor.org:packages/SLGI.git to
reflect on this report. See How and When does the builder pull? When will my changes propagate? here for more information.
- Make sure to use the following settings in order to reproduce any error or warning you see on this page.

raw results

Package 1817/2083HostnameOS / ArchINSTALLBUILDCHECKBUILD BIN
SLGI 1.54.0  (landing page)
Nolwenn Le Meur
Snapshot Date: 2022-01-25 01:55:07 -0500 (Tue, 25 Jan 2022)
git_url: https://git.bioconductor.org/packages/SLGI
git_branch: RELEASE_3_14
git_last_commit: b4f5841
git_last_commit_date: 2021-10-26 11:51:49 -0500 (Tue, 26 Oct 2021)
nebbiolo2Linux (Ubuntu 20.04.4 LTS) / x86_64  OK    OK    OK  UNNEEDED, same version is already published
tokay2Windows Server 2012 R2 Standard / x64  OK    OK    OK    OK  UNNEEDED, same version is already published
machv2macOS 10.14.6 Mojave / x86_64  OK    OK    OK    OK  UNNEEDED, same version is already published

Summary

Package: SLGI
Version: 1.54.0
Command: rm -rf SLGI.buildbin-libdir && mkdir SLGI.buildbin-libdir && C:\Users\biocbuild\bbs-3.14-bioc\R\bin\R.exe CMD INSTALL --merge-multiarch --build --library=SLGI.buildbin-libdir SLGI_1.54.0.tar.gz
StartedAt: 2022-01-26 07:08:02 -0500 (Wed, 26 Jan 2022)
EndedAt: 2022-01-26 07:08:48 -0500 (Wed, 26 Jan 2022)
EllapsedTime: 46.5 seconds
RetCode: 0
Status:   OK  
PackageFile: SLGI_1.54.0.zip
PackageFileSize: 8.458 MiB

Command output

##############################################################################
##############################################################################
###
### Running command:
###
###   rm -rf SLGI.buildbin-libdir && mkdir SLGI.buildbin-libdir && C:\Users\biocbuild\bbs-3.14-bioc\R\bin\R.exe CMD INSTALL --merge-multiarch --build --library=SLGI.buildbin-libdir SLGI_1.54.0.tar.gz
###
##############################################################################
##############################################################################



install for i386

* installing *source* package 'SLGI' ...
** using staged installation
** R
** data
** inst
** byte-compile and prepare package for lazy loading
No methods found in package 'BiocGenerics' for request: 'plot' when loading 'SLGI'
** help
*** installing help indices
  converting help for package 'SLGI'
    finding HTML links ... done
    Atong                                   html  
    AtongFnDomain                           html  
    AtongPair                               html  
    Boeke                                   html  
    SDL                                     html  
    SGA                                     html  
    SGD.SL                                  html  
    TFmat                                   html  
    byComplex                               html  
    comemberIn                              html  
    compare                                 html  
    congruence                              html  
    createSquareMatrix                      html  
    dSLAM.GPL1444                           html  
    domainDist                              html  
    essglist                                html  
    getInteraction                          html  
    getSharedDomains                        html  
    getSharedInteraction                    html  
    getTestedPairs                          html  
    getUniquePairs                          html  
    gi2005                                  html  
    gi2007                                  html  
    gi2Interactome                          html  
    hyperG                                  html  
    iSummary                                html  
    modelSLGI                               html  
    normInteraction                         html  
    plot                                    html  
    seqMatcherAlign                         html  
    sharedBy                                html  
    sharedInt                               html  
    siResult-class                          html  
    test2Interact                           html  
    topInteraction                          html  
    twoWayTable                             html  
    withinComplex                           html  
** building package indices
** installing vignettes
** testing if installed package can be loaded from temporary location
No methods found in package 'BiocGenerics' for request: 'plot' when loading 'SLGI'
** testing if installed package can be loaded from final location
No methods found in package 'BiocGenerics' for request: 'plot' when loading 'SLGI'
** testing if installed package keeps a record of temporary installation path

install for x64

* installing *source* package 'SLGI' ...
** testing if installed package can be loaded
No methods found in package 'BiocGenerics' for request: 'plot' when loading 'SLGI'
* MD5 sums
packaged installation of 'SLGI' as SLGI_1.54.0.zip
* DONE (SLGI)