Back to Multiple platform build/check report for BioC 3.14
ABCDEFGHIJKLMNOPQR[S]TUVWXYZ

This page was generated on 2022-01-17 13:07:01 -0500 (Mon, 17 Jan 2022).

HostnameOSArch (*)R versionInstalled pkgs
nebbiolo2Linux (Ubuntu 20.04.4 LTS)x86_644.1.2 (2021-11-01) -- "Bird Hippie" 4328
tokay2Windows Server 2012 R2 Standardx644.1.2 (2021-11-01) -- "Bird Hippie" 4077
machv2macOS 10.14.6 Mojavex86_644.1.2 (2021-11-01) -- "Bird Hippie" 4138
Click on any hostname to see more info about the system (e.g. compilers)      (*) as reported by 'uname -p', except on Windows and Mac OS X

BUILD BIN results for SGSeq on tokay2


To the developers/maintainers of the SGSeq package:
- Please allow up to 24 hours (and sometimes 48 hours) for your latest push to git@git.bioconductor.org:packages/SGSeq.git to
reflect on this report. See How and When does the builder pull? When will my changes propagate? here for more information.
- Make sure to use the following settings in order to reproduce any error or warning you see on this page.

raw results

Package 1779/2083HostnameOS / ArchINSTALLBUILDCHECKBUILD BIN
SGSeq 1.28.0  (landing page)
Leonard Goldstein
Snapshot Date: 2022-01-16 01:55:05 -0500 (Sun, 16 Jan 2022)
git_url: https://git.bioconductor.org/packages/SGSeq
git_branch: RELEASE_3_14
git_last_commit: 9468314
git_last_commit_date: 2021-10-26 12:17:06 -0500 (Tue, 26 Oct 2021)
nebbiolo2Linux (Ubuntu 20.04.4 LTS) / x86_64  OK    OK    OK  UNNEEDED, same version is already published
tokay2Windows Server 2012 R2 Standard / x64  OK    OK    OK    OK  UNNEEDED, same version is already published
machv2macOS 10.14.6 Mojave / x86_64  OK    OK    OK    OK  UNNEEDED, same version is already published

Summary

Package: SGSeq
Version: 1.28.0
Command: rm -rf SGSeq.buildbin-libdir && mkdir SGSeq.buildbin-libdir && C:\Users\biocbuild\bbs-3.14-bioc\R\bin\R.exe CMD INSTALL --merge-multiarch --build --library=SGSeq.buildbin-libdir SGSeq_1.28.0.tar.gz
StartedAt: 2022-01-17 08:12:10 -0500 (Mon, 17 Jan 2022)
EndedAt: 2022-01-17 08:13:25 -0500 (Mon, 17 Jan 2022)
EllapsedTime: 74.8 seconds
RetCode: 0
Status:   OK  
PackageFile: SGSeq_1.28.0.zip
PackageFileSize: 1.799 MiB

Command output

##############################################################################
##############################################################################
###
### Running command:
###
###   rm -rf SGSeq.buildbin-libdir && mkdir SGSeq.buildbin-libdir && C:\Users\biocbuild\bbs-3.14-bioc\R\bin\R.exe CMD INSTALL --merge-multiarch --build --library=SGSeq.buildbin-libdir SGSeq_1.28.0.tar.gz
###
##############################################################################
##############################################################################



install for i386

* installing *source* package 'SGSeq' ...
** using staged installation
** R
** data
*** moving datasets to lazyload DB
** inst
** byte-compile and prepare package for lazy loading
** help
*** installing help indices
  converting help for package 'SGSeq'
    finding HTML links ... done
    SGFeatureCounts                         html  
    SGFeatures                              html  
    SGSegments                              html  
    SGVariantCounts                         html  
    SGVariants                              html  
    TxFeatures                              html  
    analyzeFeatures                         html  
    analyzeVariants                         html  
    annotate                                html  
    annotateSGVariants                      html  
    assays                                  html  
    convertToSGFeatures                     html  
    convertToTxFeatures                     html  
    exonCompatible                          html  
    exportFeatures                          html  
    filterFeatures                          html  
    findOverlapsRanges                      html  
    findSGVariants                          html  
    getBamInfo                              html  
    getSGFeatureCounts                      html  
    getSGFeatureCountsPerSample             html  
    getSGVariantCounts                      html  
    gr                                      html  
    importTranscripts                       html  
    junctionCompatible                      html  
    makeSGFeatureCounts                     html  
    makeVariantNames                        html  
    mergeTxFeatures                         html  
    plotCoverage                            html  
    plotFeatures                            html  
    plotSpliceGraph                         html  
    plotVariants                            html  
    predictCandidatesInternal               html  
    predictCandidatesTerminal               html  
    predictExonsInternal                    html  
    predictExonsTerminal                    html  
    predictJunctions                        html  
    predictSpliced                          html  
    predictTxFeatures                       html  
    predictTxFeaturesPerSample              html  
    predictTxFeaturesPerStrand              html  
    predictVariantEffects                   html  
    processTerminalExons                    html  
    removeExonsIsolated                     html  
    sgf_ann                                 html  
    sgf_pred                                html  
    sgfc_ann                                html  
    sgfc_pred                               html  
    sgv_ann                                 html  
    sgv_pred                                html  
    sgvc_ann                                html  
    sgvc_ann_from_bam                       html  
    sgvc_pred                               html  
    sgvc_pred_from_bam                      html  
    si                                      html  
    slots                                   html  
    splicesiteOverlap                       html  
    tx                                      html  
    txf_ann                                 html  
    txf_pred                                html  
    updateObject                            html  
** building package indices
** installing vignettes
** testing if installed package can be loaded from temporary location
** testing if installed package can be loaded from final location
** testing if installed package keeps a record of temporary installation path

install for x64

* installing *source* package 'SGSeq' ...
** testing if installed package can be loaded
* MD5 sums
packaged installation of 'SGSeq' as SGSeq_1.28.0.zip
* DONE (SGSeq)