Index of /checkResults/3.14/bioc-LATEST/Rsubread/raw-results/riesling1

[ICO]NameLast modifiedSizeDescription

[DIR]Parent Directory  -  
[TXT]buildbin-out.txt26-Oct-2021 03:06 36K 
[   ]buildbin-summary.dcf26-Oct-2021 03:06 537  
[TXT]buildsrc-out.txt26-Oct-2021 03:06 955  
[   ]buildsrc-summary.dcf26-Oct-2021 03:06 455  
[TXT]checksrc-out.txt26-Oct-2021 03:06 5.5K 
[   ]checksrc-summary.dcf26-Oct-2021 03:06 452  
[TXT]install-out.txt26-Oct-2021 03:06 37K 
[   ]install-summary.dcf26-Oct-2021 03:06 632