Index of /checkResults/3.14/bioc-LATEST/Rsubread/raw-results/nebbiolo2

[ICO]NameLast modifiedSizeDescription

[DIR]Parent Directory  -  
[TXT]buildsrc-out.txt22-Oct-2021 01:04 839  
[   ]buildsrc-summary.dcf22-Oct-2021 01:04 419  
[TXT]checksrc-out.txt22-Oct-2021 01:04 4.0K 
[   ]checksrc-summary.dcf22-Oct-2021 01:04 426  
[TXT]install-out.txt22-Oct-2021 01:04 13K 
[   ]install-summary.dcf22-Oct-2021 01:04 260