Index of /checkResults/3.14/bioc-LATEST/Rsubread/raw-results/merida1

[ICO]NameLast modifiedSizeDescription

[DIR]Parent Directory  -  
[TXT]buildsrc-out.txt22-Oct-2021 01:05 849  
[   ]buildsrc-summary.dcf22-Oct-2021 01:05 429  
[TXT]checksrc-out.txt22-Oct-2021 01:05 4.1K 
[   ]checksrc-summary.dcf22-Oct-2021 01:05 446  
[TXT]install-out.txt22-Oct-2021 01:05 15K 
[   ]install-summary.dcf22-Oct-2021 01:05 270