Index of /checkResults/3.14/bioc-LATEST/Rsubread/raw-results

[ICO]NameLast modifiedSizeDescription

[DIR]Parent Directory  -  
[   ]info.dcf21-Sep-2021 01:05 338  
[DIR]merida1/21-Sep-2021 01:05 -  
[DIR]nebbiolo2/21-Sep-2021 01:04 -  
[DIR]riesling1/21-Sep-2021 01:05 -