Back to Multiple platform build/check report for BioC 3.14
ABCDEFGHIJKLMNOPQ[R]STUVWXYZ

This page was generated on 2022-01-19 13:07:17 -0500 (Wed, 19 Jan 2022).

HostnameOSArch (*)R versionInstalled pkgs
nebbiolo2Linux (Ubuntu 20.04.4 LTS)x86_644.1.2 (2021-11-01) -- "Bird Hippie" 4328
tokay2Windows Server 2012 R2 Standardx644.1.2 (2021-11-01) -- "Bird Hippie" 4077
machv2macOS 10.14.6 Mojavex86_644.1.2 (2021-11-01) -- "Bird Hippie" 4138
Click on any hostname to see more info about the system (e.g. compilers)      (*) as reported by 'uname -p', except on Windows and Mac OS X

BUILD BIN results for Rsamtools on tokay2


To the developers/maintainers of the Rsamtools package:
- Please allow up to 24 hours (and sometimes 48 hours) for your latest push to git@git.bioconductor.org:packages/Rsamtools.git to
reflect on this report. See How and When does the builder pull? When will my changes propagate? here for more information.
- Make sure to use the following settings in order to reproduce any error or warning you see on this page.

raw results

Package 1659/2083HostnameOS / ArchINSTALLBUILDCHECKBUILD BIN
Rsamtools 2.10.0  (landing page)
Bioconductor Package Maintainer
Snapshot Date: 2022-01-18 01:55:07 -0500 (Tue, 18 Jan 2022)
git_url: https://git.bioconductor.org/packages/Rsamtools
git_branch: RELEASE_3_14
git_last_commit: b19738e
git_last_commit_date: 2021-10-26 11:55:47 -0500 (Tue, 26 Oct 2021)
nebbiolo2Linux (Ubuntu 20.04.4 LTS) / x86_64  OK    OK    WARNINGS  UNNEEDED, same version is already published
tokay2Windows Server 2012 R2 Standard / x64  OK    OK    WARNINGS    OK  UNNEEDED, same version is already published
machv2macOS 10.14.6 Mojave / x86_64  OK    OK    WARNINGS    OK  UNNEEDED, same version is already published

Summary

Package: Rsamtools
Version: 2.10.0
Command: rm -rf Rsamtools.buildbin-libdir && mkdir Rsamtools.buildbin-libdir && C:\Users\biocbuild\bbs-3.14-bioc\R\bin\R.exe CMD INSTALL --merge-multiarch --build --library=Rsamtools.buildbin-libdir Rsamtools_2.10.0.tar.gz
StartedAt: 2022-01-19 06:41:24 -0500 (Wed, 19 Jan 2022)
EndedAt: 2022-01-19 06:43:34 -0500 (Wed, 19 Jan 2022)
EllapsedTime: 130.1 seconds
RetCode: 0
Status:   OK  
PackageFile: Rsamtools_2.10.0.zip
PackageFileSize: 6.258 MiB

Command output

##############################################################################
##############################################################################
###
### Running command:
###
###   rm -rf Rsamtools.buildbin-libdir && mkdir Rsamtools.buildbin-libdir && C:\Users\biocbuild\bbs-3.14-bioc\R\bin\R.exe CMD INSTALL --merge-multiarch --build --library=Rsamtools.buildbin-libdir Rsamtools_2.10.0.tar.gz
###
##############################################################################
##############################################################################



install for i386

* installing *source* package 'Rsamtools' ...
** using staged installation
** libs
"C:/rtools40/mingw32/bin/"gcc  -I"C:/Users/BIOCBU~1/BBS-3~1.14-/R/include" -DNDEBUG -D_FILE_OFFSET_BITS=64 -I'C:/Users/biocbuild/bbs-3.14-bioc/R/library/Rhtslib/include' -I'C:/Users/biocbuild/bbs-3.14-bioc/R/library/S4Vectors/include' -I'C:/Users/biocbuild/bbs-3.14-bioc/R/library/IRanges/include' -I'C:/Users/biocbuild/bbs-3.14-bioc/R/library/XVector/include' -I'C:/Users/biocbuild/bbs-3.14-bioc/R/library/Biostrings/include'   -I"C:/extsoft/include"     -O2 -Wall  -std=gnu99 -mfpmath=sse -msse2 -mstackrealign  -c Biostrings_stubs.c -o Biostrings_stubs.o
"C:/rtools40/mingw32/bin/"gcc  -I"C:/Users/BIOCBU~1/BBS-3~1.14-/R/include" -DNDEBUG -D_FILE_OFFSET_BITS=64 -I'C:/Users/biocbuild/bbs-3.14-bioc/R/library/Rhtslib/include' -I'C:/Users/biocbuild/bbs-3.14-bioc/R/library/S4Vectors/include' -I'C:/Users/biocbuild/bbs-3.14-bioc/R/library/IRanges/include' -I'C:/Users/biocbuild/bbs-3.14-bioc/R/library/XVector/include' -I'C:/Users/biocbuild/bbs-3.14-bioc/R/library/Biostrings/include'   -I"C:/extsoft/include"     -O2 -Wall  -std=gnu99 -mfpmath=sse -msse2 -mstackrealign  -c COMPAT_bcf_hdr_read.c -o COMPAT_bcf_hdr_read.o
"C:/rtools40/mingw32/bin/"gcc  -I"C:/Users/BIOCBU~1/BBS-3~1.14-/R/include" -DNDEBUG -D_FILE_OFFSET_BITS=64 -I'C:/Users/biocbuild/bbs-3.14-bioc/R/library/Rhtslib/include' -I'C:/Users/biocbuild/bbs-3.14-bioc/R/library/S4Vectors/include' -I'C:/Users/biocbuild/bbs-3.14-bioc/R/library/IRanges/include' -I'C:/Users/biocbuild/bbs-3.14-bioc/R/library/XVector/include' -I'C:/Users/biocbuild/bbs-3.14-bioc/R/library/Biostrings/include'   -I"C:/extsoft/include"     -O2 -Wall  -std=gnu99 -mfpmath=sse -msse2 -mstackrealign  -c IRanges_stubs.c -o IRanges_stubs.o
"C:/rtools40/mingw32/bin/"g++ -std=gnu++11  -I"C:/Users/BIOCBU~1/BBS-3~1.14-/R/include" -DNDEBUG -D_FILE_OFFSET_BITS=64 -I'C:/Users/biocbuild/bbs-3.14-bioc/R/library/Rhtslib/include' -I'C:/Users/biocbuild/bbs-3.14-bioc/R/library/S4Vectors/include' -I'C:/Users/biocbuild/bbs-3.14-bioc/R/library/IRanges/include' -I'C:/Users/biocbuild/bbs-3.14-bioc/R/library/XVector/include' -I'C:/Users/biocbuild/bbs-3.14-bioc/R/library/Biostrings/include'   -I"C:/extsoft/include"     -O2 -Wall  -mfpmath=sse -msse2 -mstackrealign  -c PileupBuffer.cpp -o PileupBuffer.o
"C:/rtools40/mingw32/bin/"g++ -std=gnu++11  -I"C:/Users/BIOCBU~1/BBS-3~1.14-/R/include" -DNDEBUG -D_FILE_OFFSET_BITS=64 -I'C:/Users/biocbuild/bbs-3.14-bioc/R/library/Rhtslib/include' -I'C:/Users/biocbuild/bbs-3.14-bioc/R/library/S4Vectors/include' -I'C:/Users/biocbuild/bbs-3.14-bioc/R/library/IRanges/include' -I'C:/Users/biocbuild/bbs-3.14-bioc/R/library/XVector/include' -I'C:/Users/biocbuild/bbs-3.14-bioc/R/library/Biostrings/include'   -I"C:/extsoft/include"     -O2 -Wall  -mfpmath=sse -msse2 -mstackrealign  -c PosCacheColl.cpp -o PosCacheColl.o
"C:/rtools40/mingw32/bin/"gcc  -I"C:/Users/BIOCBU~1/BBS-3~1.14-/R/include" -DNDEBUG -D_FILE_OFFSET_BITS=64 -I'C:/Users/biocbuild/bbs-3.14-bioc/R/library/Rhtslib/include' -I'C:/Users/biocbuild/bbs-3.14-bioc/R/library/S4Vectors/include' -I'C:/Users/biocbuild/bbs-3.14-bioc/R/library/IRanges/include' -I'C:/Users/biocbuild/bbs-3.14-bioc/R/library/XVector/include' -I'C:/Users/biocbuild/bbs-3.14-bioc/R/library/Biostrings/include'   -I"C:/extsoft/include"     -O2 -Wall  -std=gnu99 -mfpmath=sse -msse2 -mstackrealign  -c R_init_Rsamtools.c -o R_init_Rsamtools.o
"C:/rtools40/mingw32/bin/"g++ -std=gnu++11  -I"C:/Users/BIOCBU~1/BBS-3~1.14-/R/include" -DNDEBUG -D_FILE_OFFSET_BITS=64 -I'C:/Users/biocbuild/bbs-3.14-bioc/R/library/Rhtslib/include' -I'C:/Users/biocbuild/bbs-3.14-bioc/R/library/S4Vectors/include' -I'C:/Users/biocbuild/bbs-3.14-bioc/R/library/IRanges/include' -I'C:/Users/biocbuild/bbs-3.14-bioc/R/library/XVector/include' -I'C:/Users/biocbuild/bbs-3.14-bioc/R/library/Biostrings/include'   -I"C:/extsoft/include"     -O2 -Wall  -mfpmath=sse -msse2 -mstackrealign  -c ResultManager.cpp -o ResultManager.o
"C:/rtools40/mingw32/bin/"gcc  -I"C:/Users/BIOCBU~1/BBS-3~1.14-/R/include" -DNDEBUG -D_FILE_OFFSET_BITS=64 -I'C:/Users/biocbuild/bbs-3.14-bioc/R/library/Rhtslib/include' -I'C:/Users/biocbuild/bbs-3.14-bioc/R/library/S4Vectors/include' -I'C:/Users/biocbuild/bbs-3.14-bioc/R/library/IRanges/include' -I'C:/Users/biocbuild/bbs-3.14-bioc/R/library/XVector/include' -I'C:/Users/biocbuild/bbs-3.14-bioc/R/library/Biostrings/include'   -I"C:/extsoft/include"     -O2 -Wall  -std=gnu99 -mfpmath=sse -msse2 -mstackrealign  -c S4Vectors_stubs.c -o S4Vectors_stubs.o
"C:/rtools40/mingw32/bin/"gcc  -I"C:/Users/BIOCBU~1/BBS-3~1.14-/R/include" -DNDEBUG -D_FILE_OFFSET_BITS=64 -I'C:/Users/biocbuild/bbs-3.14-bioc/R/library/Rhtslib/include' -I'C:/Users/biocbuild/bbs-3.14-bioc/R/library/S4Vectors/include' -I'C:/Users/biocbuild/bbs-3.14-bioc/R/library/IRanges/include' -I'C:/Users/biocbuild/bbs-3.14-bioc/R/library/XVector/include' -I'C:/Users/biocbuild/bbs-3.14-bioc/R/library/Biostrings/include'   -I"C:/extsoft/include"     -O2 -Wall  -std=gnu99 -mfpmath=sse -msse2 -mstackrealign  -c XVector_stubs.c -o XVector_stubs.o
"C:/rtools40/mingw32/bin/"gcc  -I"C:/Users/BIOCBU~1/BBS-3~1.14-/R/include" -DNDEBUG -D_FILE_OFFSET_BITS=64 -I'C:/Users/biocbuild/bbs-3.14-bioc/R/library/Rhtslib/include' -I'C:/Users/biocbuild/bbs-3.14-bioc/R/library/S4Vectors/include' -I'C:/Users/biocbuild/bbs-3.14-bioc/R/library/IRanges/include' -I'C:/Users/biocbuild/bbs-3.14-bioc/R/library/XVector/include' -I'C:/Users/biocbuild/bbs-3.14-bioc/R/library/Biostrings/include'   -I"C:/extsoft/include"     -O2 -Wall  -std=gnu99 -mfpmath=sse -msse2 -mstackrealign  -c as_bam.c -o as_bam.o
"C:/rtools40/mingw32/bin/"gcc  -I"C:/Users/BIOCBU~1/BBS-3~1.14-/R/include" -DNDEBUG -D_FILE_OFFSET_BITS=64 -I'C:/Users/biocbuild/bbs-3.14-bioc/R/library/Rhtslib/include' -I'C:/Users/biocbuild/bbs-3.14-bioc/R/library/S4Vectors/include' -I'C:/Users/biocbuild/bbs-3.14-bioc/R/library/IRanges/include' -I'C:/Users/biocbuild/bbs-3.14-bioc/R/library/XVector/include' -I'C:/Users/biocbuild/bbs-3.14-bioc/R/library/Biostrings/include'   -I"C:/extsoft/include"     -O2 -Wall  -std=gnu99 -mfpmath=sse -msse2 -mstackrealign  -c bam.c -o bam.o
"C:/rtools40/mingw32/bin/"gcc  -I"C:/Users/BIOCBU~1/BBS-3~1.14-/R/include" -DNDEBUG -D_FILE_OFFSET_BITS=64 -I'C:/Users/biocbuild/bbs-3.14-bioc/R/library/Rhtslib/include' -I'C:/Users/biocbuild/bbs-3.14-bioc/R/library/S4Vectors/include' -I'C:/Users/biocbuild/bbs-3.14-bioc/R/library/IRanges/include' -I'C:/Users/biocbuild/bbs-3.14-bioc/R/library/XVector/include' -I'C:/Users/biocbuild/bbs-3.14-bioc/R/library/Biostrings/include'   -I"C:/extsoft/include"     -O2 -Wall  -std=gnu99 -mfpmath=sse -msse2 -mstackrealign  -c bam_data.c -o bam_data.o
"C:/rtools40/mingw32/bin/"g++ -std=gnu++11  -I"C:/Users/BIOCBU~1/BBS-3~1.14-/R/include" -DNDEBUG -D_FILE_OFFSET_BITS=64 -I'C:/Users/biocbuild/bbs-3.14-bioc/R/library/Rhtslib/include' -I'C:/Users/biocbuild/bbs-3.14-bioc/R/library/S4Vectors/include' -I'C:/Users/biocbuild/bbs-3.14-bioc/R/library/IRanges/include' -I'C:/Users/biocbuild/bbs-3.14-bioc/R/library/XVector/include' -I'C:/Users/biocbuild/bbs-3.14-bioc/R/library/Biostrings/include'   -I"C:/extsoft/include"     -O2 -Wall  -mfpmath=sse -msse2 -mstackrealign  -c bam_mate_iter.cpp -o bam_mate_iter.o
In file included from C:/Users/biocbuild/bbs-3.14-bioc/R/library/Rhtslib/include/sam.h:29,
                 from Template.h:9,
                 from BamIterator.h:10,
                 from BamRangeIterator.h:7,
                 from bam_mate_iter.cpp:2:
BamRangeIterator.h: In member function 'virtual void BamRangeIterator::finalize_inprogress(bamFile)':
C:/Users/biocbuild/bbs-3.14-bioc/R/library/Rhtslib/include/bam.h:57:41: warning: ignoring return value of 'int64_t bgzf_seek(BGZF*, int64_t, int)', declared with attribute warn_unused_result [-Wunused-result]
 #define bam_seek(fp, pos, dir) bgzf_seek(fp, pos, dir)
                                ~~~~~~~~~^~~~~~~~~~~~~~
BamRangeIterator.h:138:16: note: in expansion of macro 'bam_seek'
         (void) bam_seek(bfile, pos, SEEK_SET);
                ^~~~~~~~
BamIterator.h: In constructor 'BamIterator::BamIterator(bamFile, const bam_index_t*)':
C:/Users/biocbuild/bbs-3.14-bioc/R/library/Rhtslib/include/bam.h:57:41: warning: ignoring return value of 'int64_t bgzf_seek(BGZF*, int64_t, int)', declared with attribute warn_unused_result [-Wunused-result]
 #define bam_seek(fp, pos, dir) bgzf_seek(fp, pos, dir)
                                ~~~~~~~~~^~~~~~~~~~~~~~
BamIterator.h:87:16: note: in expansion of macro 'bam_seek'
         (void) bam_seek(bfile, 0, 0);
                ^~~~~~~~
"C:/rtools40/mingw32/bin/"gcc  -I"C:/Users/BIOCBU~1/BBS-3~1.14-/R/include" -DNDEBUG -D_FILE_OFFSET_BITS=64 -I'C:/Users/biocbuild/bbs-3.14-bioc/R/library/Rhtslib/include' -I'C:/Users/biocbuild/bbs-3.14-bioc/R/library/S4Vectors/include' -I'C:/Users/biocbuild/bbs-3.14-bioc/R/library/IRanges/include' -I'C:/Users/biocbuild/bbs-3.14-bioc/R/library/XVector/include' -I'C:/Users/biocbuild/bbs-3.14-bioc/R/library/Biostrings/include'   -I"C:/extsoft/include"     -O2 -Wall  -std=gnu99 -mfpmath=sse -msse2 -mstackrealign  -c bam_plbuf.c -o bam_plbuf.o
"C:/rtools40/mingw32/bin/"gcc  -I"C:/Users/BIOCBU~1/BBS-3~1.14-/R/include" -DNDEBUG -D_FILE_OFFSET_BITS=64 -I'C:/Users/biocbuild/bbs-3.14-bioc/R/library/Rhtslib/include' -I'C:/Users/biocbuild/bbs-3.14-bioc/R/library/S4Vectors/include' -I'C:/Users/biocbuild/bbs-3.14-bioc/R/library/IRanges/include' -I'C:/Users/biocbuild/bbs-3.14-bioc/R/library/XVector/include' -I'C:/Users/biocbuild/bbs-3.14-bioc/R/library/Biostrings/include'   -I"C:/extsoft/include"     -O2 -Wall  -std=gnu99 -mfpmath=sse -msse2 -mstackrealign  -c bam_sort.c -o bam_sort.o
In file included from bam_sort.c:1:
C:/Users/biocbuild/bbs-3.14-bioc/R/library/Rhtslib/include/bam_sort.c: In function 'complain_about_memory_setting':
C:/Users/biocbuild/bbs-3.14-bioc/R/library/Rhtslib/include/bam_sort.c:2256:26: warning: unknown conversion type character 'z' in format [-Wformat=]
 "[bam_sort] -m setting (%zu%s bytes) is less than the minimum required (%zuM).\n\n"
                          ^
C:/Users/biocbuild/bbs-3.14-bioc/R/library/Rhtslib/include/bam_sort.c:2256:29: warning: format '%s' expects argument of type 'char *', but argument 3 has type 'size_t' {aka 'unsigned int'} [-Wformat=]
 "[bam_sort] -m setting (%zu%s bytes) is less than the minimum required (%zuM).\n\n"
                            ~^
                            %d
C:/Users/biocbuild/bbs-3.14-bioc/R/library/Rhtslib/include/bam_sort.c:2263:13:
             max_mem, suffix, SORT_MIN_MEGS_PER_THREAD);
             ~~~~~~~          
C:/Users/biocbuild/bbs-3.14-bioc/R/library/Rhtslib/include/bam_sort.c:2256:74: warning: unknown conversion type character 'z' in format [-Wformat=]
 "[bam_sort] -m setting (%zu%s bytes) is less than the minimum required (%zuM).\n\n"
                                                                          ^
C:/Users/biocbuild/bbs-3.14-bioc/R/library/Rhtslib/include/bam_sort.c:2256:1: warning: too many arguments for format [-Wformat-extra-args]
 "[bam_sort] -m setting (%zu%s bytes) is less than the minimum required (%zuM).\n\n"
 ^~~~~~~~~~~~~~~~~~~~~~~~~~~~~~~~~~~~~~~~~~~~~~~~~~~~~~~~~~~~~~~~~~~~~~~~~~~~~~~~~~~
C:/Users/biocbuild/bbs-3.14-bioc/R/library/Rhtslib/include/bam_sort.c:2256:26: warning: unknown conversion type character 'z' in format [-Wformat=]
 "[bam_sort] -m setting (%zu%s bytes) is less than the minimum required (%zuM).\n\n"
                          ^
C:/Users/biocbuild/bbs-3.14-bioc/R/library/Rhtslib/include/bam_sort.c:2256:29: warning: format '%s' expects argument of type 'char *', but argument 3 has type 'size_t' {aka 'unsigned int'} [-Wformat=]
 "[bam_sort] -m setting (%zu%s bytes) is less than the minimum required (%zuM).\n\n"
                            ~^
                            %d
C:/Users/biocbuild/bbs-3.14-bioc/R/library/Rhtslib/include/bam_sort.c:2263:13:
             max_mem, suffix, SORT_MIN_MEGS_PER_THREAD);
             ~~~~~~~          
C:/Users/biocbuild/bbs-3.14-bioc/R/library/Rhtslib/include/bam_sort.c:2256:74: warning: unknown conversion type character 'z' in format [-Wformat=]
 "[bam_sort] -m setting (%zu%s bytes) is less than the minimum required (%zuM).\n\n"
                                                                          ^
C:/Users/biocbuild/bbs-3.14-bioc/R/library/Rhtslib/include/bam_sort.c:2256:1: warning: too many arguments for format [-Wformat-extra-args]
 "[bam_sort] -m setting (%zu%s bytes) is less than the minimum required (%zuM).\n\n"
 ^~~~~~~~~~~~~~~~~~~~~~~~~~~~~~~~~~~~~~~~~~~~~~~~~~~~~~~~~~~~~~~~~~~~~~~~~~~~~~~~~~~
C:/Users/biocbuild/bbs-3.14-bioc/R/library/Rhtslib/include/bam_sort.c: In function 'bam_sort_core_ext':
C:/Users/biocbuild/bbs-3.14-bioc/R/library/Rhtslib/include/bam_sort.c:2065:9: warning: 'strncpy' specified bound 2 equals destination size [-Wstringop-truncation]
         strncpy(g_sort_tag, sort_by_tag, 2);
         ^~~~~~~~~~~~~~~~~~~~~~~~~~~~~~~~~~~
"C:/rtools40/mingw32/bin/"gcc  -I"C:/Users/BIOCBU~1/BBS-3~1.14-/R/include" -DNDEBUG -D_FILE_OFFSET_BITS=64 -I'C:/Users/biocbuild/bbs-3.14-bioc/R/library/Rhtslib/include' -I'C:/Users/biocbuild/bbs-3.14-bioc/R/library/S4Vectors/include' -I'C:/Users/biocbuild/bbs-3.14-bioc/R/library/IRanges/include' -I'C:/Users/biocbuild/bbs-3.14-bioc/R/library/XVector/include' -I'C:/Users/biocbuild/bbs-3.14-bioc/R/library/Biostrings/include'   -I"C:/extsoft/include"     -O2 -Wall  -std=gnu99 -mfpmath=sse -msse2 -mstackrealign  -c bambuffer.c -o bambuffer.o
"C:/rtools40/mingw32/bin/"gcc  -I"C:/Users/BIOCBU~1/BBS-3~1.14-/R/include" -DNDEBUG -D_FILE_OFFSET_BITS=64 -I'C:/Users/biocbuild/bbs-3.14-bioc/R/library/Rhtslib/include' -I'C:/Users/biocbuild/bbs-3.14-bioc/R/library/S4Vectors/include' -I'C:/Users/biocbuild/bbs-3.14-bioc/R/library/IRanges/include' -I'C:/Users/biocbuild/bbs-3.14-bioc/R/library/XVector/include' -I'C:/Users/biocbuild/bbs-3.14-bioc/R/library/Biostrings/include'   -I"C:/extsoft/include"     -O2 -Wall  -std=gnu99 -mfpmath=sse -msse2 -mstackrealign  -c bamfile.c -o bamfile.o
bamfile.c: In function 'bamfile_isincomplete':
bamfile.c:168:20: warning: ignoring return value of 'bgzf_seek', declared with attribute warn_unused_result [-Wunused-result]
             (void) bgzf_seek(bfile->file->x.bam, offset, SEEK_SET);
                    ^~~~~~~~~~~~~~~~~~~~~~~~~~~~~~~~~~~~~~~~~~~~~~~
bamfile.c: In function 'bamfile_open':
bamfile.c:29:17: warning: 'cfile' may be used uninitialized in this function [-Wmaybe-uninitialized]
         index = hts_idx_load2(file, indexname);
                 ^~~~~~~~~~~~~~~~~~~~~~~~~~~~~~
bamfile.c:73:17: note: 'cfile' was declared here
     const char *cfile;
                 ^~~~~
"C:/rtools40/mingw32/bin/"gcc  -I"C:/Users/BIOCBU~1/BBS-3~1.14-/R/include" -DNDEBUG -D_FILE_OFFSET_BITS=64 -I'C:/Users/biocbuild/bbs-3.14-bioc/R/library/Rhtslib/include' -I'C:/Users/biocbuild/bbs-3.14-bioc/R/library/S4Vectors/include' -I'C:/Users/biocbuild/bbs-3.14-bioc/R/library/IRanges/include' -I'C:/Users/biocbuild/bbs-3.14-bioc/R/library/XVector/include' -I'C:/Users/biocbuild/bbs-3.14-bioc/R/library/Biostrings/include'   -I"C:/extsoft/include"     -O2 -Wall  -std=gnu99 -mfpmath=sse -msse2 -mstackrealign  -c bcffile.c -o bcffile.o
"C:/rtools40/mingw32/bin/"gcc  -I"C:/Users/BIOCBU~1/BBS-3~1.14-/R/include" -DNDEBUG -D_FILE_OFFSET_BITS=64 -I'C:/Users/biocbuild/bbs-3.14-bioc/R/library/Rhtslib/include' -I'C:/Users/biocbuild/bbs-3.14-bioc/R/library/S4Vectors/include' -I'C:/Users/biocbuild/bbs-3.14-bioc/R/library/IRanges/include' -I'C:/Users/biocbuild/bbs-3.14-bioc/R/library/XVector/include' -I'C:/Users/biocbuild/bbs-3.14-bioc/R/library/Biostrings/include'   -I"C:/extsoft/include"     -O2 -Wall  -std=gnu99 -mfpmath=sse -msse2 -mstackrealign  -c encode.c -o encode.o
"C:/rtools40/mingw32/bin/"gcc  -I"C:/Users/BIOCBU~1/BBS-3~1.14-/R/include" -DNDEBUG -D_FILE_OFFSET_BITS=64 -I'C:/Users/biocbuild/bbs-3.14-bioc/R/library/Rhtslib/include' -I'C:/Users/biocbuild/bbs-3.14-bioc/R/library/S4Vectors/include' -I'C:/Users/biocbuild/bbs-3.14-bioc/R/library/IRanges/include' -I'C:/Users/biocbuild/bbs-3.14-bioc/R/library/XVector/include' -I'C:/Users/biocbuild/bbs-3.14-bioc/R/library/Biostrings/include'   -I"C:/extsoft/include"     -O2 -Wall  -std=gnu99 -mfpmath=sse -msse2 -mstackrealign  -c fafile.c -o fafile.o
"C:/rtools40/mingw32/bin/"gcc  -I"C:/Users/BIOCBU~1/BBS-3~1.14-/R/include" -DNDEBUG -D_FILE_OFFSET_BITS=64 -I'C:/Users/biocbuild/bbs-3.14-bioc/R/library/Rhtslib/include' -I'C:/Users/biocbuild/bbs-3.14-bioc/R/library/S4Vectors/include' -I'C:/Users/biocbuild/bbs-3.14-bioc/R/library/IRanges/include' -I'C:/Users/biocbuild/bbs-3.14-bioc/R/library/XVector/include' -I'C:/Users/biocbuild/bbs-3.14-bioc/R/library/Biostrings/include'   -I"C:/extsoft/include"     -O2 -Wall  -std=gnu99 -mfpmath=sse -msse2 -mstackrealign  -c idxstats.c -o idxstats.o
In file included from C:/Users/biocbuild/bbs-3.14-bioc/R/library/Rhtslib/include/sam.h:29,
                 from bamfile.h:5,
                 from idxstats.c:1:
idxstats.c: In function 'idxstats_bamfile':
C:/Users/biocbuild/bbs-3.14-bioc/R/library/Rhtslib/include/bam.h:57:32: warning: ignoring return value of 'bgzf_seek', declared with attribute warn_unused_result [-Wunused-result]
 #define bam_seek(fp, pos, dir) bgzf_seek(fp, pos, dir)
                                ^~~~~~~~~~~~~~~~~~~~~~~
idxstats.c:20:12: note: in expansion of macro 'bam_seek'
     (void) bam_seek(fp, 0, 0);
            ^~~~~~~~
"C:/rtools40/mingw32/bin/"gcc  -I"C:/Users/BIOCBU~1/BBS-3~1.14-/R/include" -DNDEBUG -D_FILE_OFFSET_BITS=64 -I'C:/Users/biocbuild/bbs-3.14-bioc/R/library/Rhtslib/include' -I'C:/Users/biocbuild/bbs-3.14-bioc/R/library/S4Vectors/include' -I'C:/Users/biocbuild/bbs-3.14-bioc/R/library/IRanges/include' -I'C:/Users/biocbuild/bbs-3.14-bioc/R/library/XVector/include' -I'C:/Users/biocbuild/bbs-3.14-bioc/R/library/Biostrings/include'   -I"C:/extsoft/include"     -O2 -Wall  -std=gnu99 -mfpmath=sse -msse2 -mstackrealign  -c io_sam.c -o io_sam.o
In file included from C:/Users/biocbuild/bbs-3.14-bioc/R/library/Rhtslib/include/sam.h:29,
                 from io_sam.c:2:
io_sam.c: In function '_scan_bam_all':
C:/Users/biocbuild/bbs-3.14-bioc/R/library/Rhtslib/include/bam.h:57:32: warning: ignoring return value of 'bgzf_seek', declared with attribute warn_unused_result [-Wunused-result]
 #define bam_seek(fp, pos, dir) bgzf_seek(fp, pos, dir)
                                ^~~~~~~~~~~~~~~~~~~~~~~
io_sam.c:304:12: note: in expansion of macro 'bam_seek'
     (void) bam_seek(bfile->file->x.bam, bfile->pos0, SEEK_SET);
            ^~~~~~~~
"C:/rtools40/mingw32/bin/"g++ -std=gnu++11  -I"C:/Users/BIOCBU~1/BBS-3~1.14-/R/include" -DNDEBUG -D_FILE_OFFSET_BITS=64 -I'C:/Users/biocbuild/bbs-3.14-bioc/R/library/Rhtslib/include' -I'C:/Users/biocbuild/bbs-3.14-bioc/R/library/S4Vectors/include' -I'C:/Users/biocbuild/bbs-3.14-bioc/R/library/IRanges/include' -I'C:/Users/biocbuild/bbs-3.14-bioc/R/library/XVector/include' -I'C:/Users/biocbuild/bbs-3.14-bioc/R/library/Biostrings/include'   -I"C:/extsoft/include"     -O2 -Wall  -mfpmath=sse -msse2 -mstackrealign  -c pbuffer_wrapper.cpp -o pbuffer_wrapper.o
"C:/rtools40/mingw32/bin/"g++ -std=gnu++11  -I"C:/Users/BIOCBU~1/BBS-3~1.14-/R/include" -DNDEBUG -D_FILE_OFFSET_BITS=64 -I'C:/Users/biocbuild/bbs-3.14-bioc/R/library/Rhtslib/include' -I'C:/Users/biocbuild/bbs-3.14-bioc/R/library/S4Vectors/include' -I'C:/Users/biocbuild/bbs-3.14-bioc/R/library/IRanges/include' -I'C:/Users/biocbuild/bbs-3.14-bioc/R/library/XVector/include' -I'C:/Users/biocbuild/bbs-3.14-bioc/R/library/Biostrings/include'   -I"C:/extsoft/include"     -O2 -Wall  -mfpmath=sse -msse2 -mstackrealign  -c pileup.cpp -o pileup.o
"C:/rtools40/mingw32/bin/"gcc  -I"C:/Users/BIOCBU~1/BBS-3~1.14-/R/include" -DNDEBUG -D_FILE_OFFSET_BITS=64 -I'C:/Users/biocbuild/bbs-3.14-bioc/R/library/Rhtslib/include' -I'C:/Users/biocbuild/bbs-3.14-bioc/R/library/S4Vectors/include' -I'C:/Users/biocbuild/bbs-3.14-bioc/R/library/IRanges/include' -I'C:/Users/biocbuild/bbs-3.14-bioc/R/library/XVector/include' -I'C:/Users/biocbuild/bbs-3.14-bioc/R/library/Biostrings/include'   -I"C:/extsoft/include"     -O2 -Wall  -std=gnu99 -mfpmath=sse -msse2 -mstackrealign  -c pileupbam.c -o pileupbam.o
"C:/rtools40/mingw32/bin/"gcc  -I"C:/Users/BIOCBU~1/BBS-3~1.14-/R/include" -DNDEBUG -D_FILE_OFFSET_BITS=64 -I'C:/Users/biocbuild/bbs-3.14-bioc/R/library/Rhtslib/include' -I'C:/Users/biocbuild/bbs-3.14-bioc/R/library/S4Vectors/include' -I'C:/Users/biocbuild/bbs-3.14-bioc/R/library/IRanges/include' -I'C:/Users/biocbuild/bbs-3.14-bioc/R/library/XVector/include' -I'C:/Users/biocbuild/bbs-3.14-bioc/R/library/Biostrings/include'   -I"C:/extsoft/include"     -O2 -Wall  -std=gnu99 -mfpmath=sse -msse2 -mstackrealign  -c sam.c -o sam.o
"C:/rtools40/mingw32/bin/"gcc  -I"C:/Users/BIOCBU~1/BBS-3~1.14-/R/include" -DNDEBUG -D_FILE_OFFSET_BITS=64 -I'C:/Users/biocbuild/bbs-3.14-bioc/R/library/Rhtslib/include' -I'C:/Users/biocbuild/bbs-3.14-bioc/R/library/S4Vectors/include' -I'C:/Users/biocbuild/bbs-3.14-bioc/R/library/IRanges/include' -I'C:/Users/biocbuild/bbs-3.14-bioc/R/library/XVector/include' -I'C:/Users/biocbuild/bbs-3.14-bioc/R/library/Biostrings/include'   -I"C:/extsoft/include"     -O2 -Wall  -std=gnu99 -mfpmath=sse -msse2 -mstackrealign  -c sam_opts.c -o sam_opts.o
"C:/rtools40/mingw32/bin/"gcc  -I"C:/Users/BIOCBU~1/BBS-3~1.14-/R/include" -DNDEBUG -D_FILE_OFFSET_BITS=64 -I'C:/Users/biocbuild/bbs-3.14-bioc/R/library/Rhtslib/include' -I'C:/Users/biocbuild/bbs-3.14-bioc/R/library/S4Vectors/include' -I'C:/Users/biocbuild/bbs-3.14-bioc/R/library/IRanges/include' -I'C:/Users/biocbuild/bbs-3.14-bioc/R/library/XVector/include' -I'C:/Users/biocbuild/bbs-3.14-bioc/R/library/Biostrings/include'   -I"C:/extsoft/include"     -O2 -Wall  -std=gnu99 -mfpmath=sse -msse2 -mstackrealign  -c sam_utils.c -o sam_utils.o
"C:/rtools40/mingw32/bin/"gcc  -I"C:/Users/BIOCBU~1/BBS-3~1.14-/R/include" -DNDEBUG -D_FILE_OFFSET_BITS=64 -I'C:/Users/biocbuild/bbs-3.14-bioc/R/library/Rhtslib/include' -I'C:/Users/biocbuild/bbs-3.14-bioc/R/library/S4Vectors/include' -I'C:/Users/biocbuild/bbs-3.14-bioc/R/library/IRanges/include' -I'C:/Users/biocbuild/bbs-3.14-bioc/R/library/XVector/include' -I'C:/Users/biocbuild/bbs-3.14-bioc/R/library/Biostrings/include'   -I"C:/extsoft/include"     -O2 -Wall  -std=gnu99 -mfpmath=sse -msse2 -mstackrealign  -c samtools_patch.c -o samtools_patch.o
"C:/rtools40/mingw32/bin/"gcc  -I"C:/Users/BIOCBU~1/BBS-3~1.14-/R/include" -DNDEBUG -D_FILE_OFFSET_BITS=64 -I'C:/Users/biocbuild/bbs-3.14-bioc/R/library/Rhtslib/include' -I'C:/Users/biocbuild/bbs-3.14-bioc/R/library/S4Vectors/include' -I'C:/Users/biocbuild/bbs-3.14-bioc/R/library/IRanges/include' -I'C:/Users/biocbuild/bbs-3.14-bioc/R/library/XVector/include' -I'C:/Users/biocbuild/bbs-3.14-bioc/R/library/Biostrings/include'   -I"C:/extsoft/include"     -O2 -Wall  -std=gnu99 -mfpmath=sse -msse2 -mstackrealign  -c scan_bam_data.c -o scan_bam_data.o
"C:/rtools40/mingw32/bin/"gcc  -I"C:/Users/BIOCBU~1/BBS-3~1.14-/R/include" -DNDEBUG -D_FILE_OFFSET_BITS=64 -I'C:/Users/biocbuild/bbs-3.14-bioc/R/library/Rhtslib/include' -I'C:/Users/biocbuild/bbs-3.14-bioc/R/library/S4Vectors/include' -I'C:/Users/biocbuild/bbs-3.14-bioc/R/library/IRanges/include' -I'C:/Users/biocbuild/bbs-3.14-bioc/R/library/XVector/include' -I'C:/Users/biocbuild/bbs-3.14-bioc/R/library/Biostrings/include'   -I"C:/extsoft/include"     -O2 -Wall  -std=gnu99 -mfpmath=sse -msse2 -mstackrealign  -c tabixfile.c -o tabixfile.o
tabixfile.c: In function 'index_tabix':
tabixfile.c:190:5: warning: 'bgzf_is_bgzf' is deprecated: Use bgzf_compression() or hts_detect_format() instead [-Wdeprecated-declarations]
     if (bgzf_is_bgzf(fn) != 1)
     ^~
In file included from tabixfile.c:3:
C:/Users/biocbuild/bbs-3.14-bioc/R/library/Rhtslib/include/htslib/bgzf.h:243:9: note: declared here
     int bgzf_is_bgzf(const char *fn) HTS_DEPRECATED("Use bgzf_compression() or hts_detect_format() instead");
         ^~~~~~~~~~~~
"C:/rtools40/mingw32/bin/"gcc  -I"C:/Users/BIOCBU~1/BBS-3~1.14-/R/include" -DNDEBUG -D_FILE_OFFSET_BITS=64 -I'C:/Users/biocbuild/bbs-3.14-bioc/R/library/Rhtslib/include' -I'C:/Users/biocbuild/bbs-3.14-bioc/R/library/S4Vectors/include' -I'C:/Users/biocbuild/bbs-3.14-bioc/R/library/IRanges/include' -I'C:/Users/biocbuild/bbs-3.14-bioc/R/library/XVector/include' -I'C:/Users/biocbuild/bbs-3.14-bioc/R/library/Biostrings/include'   -I"C:/extsoft/include"     -O2 -Wall  -std=gnu99 -mfpmath=sse -msse2 -mstackrealign  -c tagfilter.c -o tagfilter.o
"C:/rtools40/mingw32/bin/"gcc  -I"C:/Users/BIOCBU~1/BBS-3~1.14-/R/include" -DNDEBUG -D_FILE_OFFSET_BITS=64 -I'C:/Users/biocbuild/bbs-3.14-bioc/R/library/Rhtslib/include' -I'C:/Users/biocbuild/bbs-3.14-bioc/R/library/S4Vectors/include' -I'C:/Users/biocbuild/bbs-3.14-bioc/R/library/IRanges/include' -I'C:/Users/biocbuild/bbs-3.14-bioc/R/library/XVector/include' -I'C:/Users/biocbuild/bbs-3.14-bioc/R/library/Biostrings/include'   -I"C:/extsoft/include"     -O2 -Wall  -std=gnu99 -mfpmath=sse -msse2 -mstackrealign  -c utilities.c -o utilities.o
"C:/rtools40/mingw32/bin/"gcc  -I"C:/Users/BIOCBU~1/BBS-3~1.14-/R/include" -DNDEBUG -D_FILE_OFFSET_BITS=64 -I'C:/Users/biocbuild/bbs-3.14-bioc/R/library/Rhtslib/include' -I'C:/Users/biocbuild/bbs-3.14-bioc/R/library/S4Vectors/include' -I'C:/Users/biocbuild/bbs-3.14-bioc/R/library/IRanges/include' -I'C:/Users/biocbuild/bbs-3.14-bioc/R/library/XVector/include' -I'C:/Users/biocbuild/bbs-3.14-bioc/R/library/Biostrings/include'   -I"C:/extsoft/include"     -O2 -Wall  -std=gnu99 -mfpmath=sse -msse2 -mstackrealign  -c zip_compression.c -o zip_compression.o
C:/rtools40/mingw32/bin/g++ -std=gnu++11 -shared -s -static-libgcc -o Rsamtools.dll tmp.def Biostrings_stubs.o COMPAT_bcf_hdr_read.o IRanges_stubs.o PileupBuffer.o PosCacheColl.o R_init_Rsamtools.o ResultManager.o S4Vectors_stubs.o XVector_stubs.o as_bam.o bam.o bam_data.o bam_mate_iter.o bam_plbuf.o bam_sort.o bambuffer.o bamfile.o bcffile.o encode.o fafile.o idxstats.o io_sam.o pbuffer_wrapper.o pileup.o pileupbam.o sam.o sam_opts.o sam_utils.o samtools_patch.o scan_bam_data.o tabixfile.o tagfilter.o utilities.o zip_compression.o C:/Users/biocbuild/bbs-3.14-bioc/R/library/Rhtslib/usrlib/i386/libhts.a -LC:/extsoft/lib/i386 -lcurl -lrtmp -lssl -lssh2 -lcrypto -lgdi32 -lz -lws2_32 -lwldap32 -lwinmm -lidn -LC:/extsoft/lib/i386 -LC:/extsoft/lib -LC:/Users/BIOCBU~1/BBS-3~1.14-/R/bin/i386 -lR
installing to C:/Users/biocbuild/bbs-3.14-bioc/meat/Rsamtools.buildbin-libdir/00LOCK-Rsamtools/00new/Rsamtools/libs/i386
** R
** inst
** byte-compile and prepare package for lazy loading
** help
*** installing help indices
  converting help for package 'Rsamtools'
    finding HTML links ... done
    ApplyPileupsParam-class                 html  
    BamFile-class                           html  
    finding level-2 HTML links ... done

    BamViews-class                          html  
    BcfFile-class                           html  
    FaFile-class                            html  
    PileupFiles-class                       html  
    Rsamtools-package                       html  
    RsamtoolsFile-class                     html  
    RsamtoolsFileList-class                 html  
    ScanBamParam-class                      html  
    ScanBcfParam-class                      html  
    TabixFile-class                         html  
    applyPileups                            html  
    defunct                                 html  
    deprecated                              html  
    headerTabix                             html  
    indexTabix                              html  
    pileup                                  html  
    quickBamFlagSummary                     html  
    readPileup                              html  
    scanBam                                 html  
    scanBcf                                 html  
    scanFa                                  html  
    scanTabix                               html  
    seqnamesTabix                           html  
    testPairedEndBam                        html  
    zip                                     html  
** building package indices
** installing vignettes
** testing if installed package can be loaded from temporary location
** testing if installed package can be loaded from final location
** testing if installed package keeps a record of temporary installation path

install for x64

* installing *source* package 'Rsamtools' ...
** libs
"C:/rtools40/mingw64/bin/"gcc  -I"C:/Users/BIOCBU~1/BBS-3~1.14-/R/include" -DNDEBUG -D_FILE_OFFSET_BITS=64 -I'C:/Users/biocbuild/bbs-3.14-bioc/R/library/Rhtslib/include' -I'C:/Users/biocbuild/bbs-3.14-bioc/R/library/S4Vectors/include' -I'C:/Users/biocbuild/bbs-3.14-bioc/R/library/IRanges/include' -I'C:/Users/biocbuild/bbs-3.14-bioc/R/library/XVector/include' -I'C:/Users/biocbuild/bbs-3.14-bioc/R/library/Biostrings/include'   -I"C:/extsoft/include"     -O2 -Wall  -std=gnu99 -mfpmath=sse -msse2 -mstackrealign  -c Biostrings_stubs.c -o Biostrings_stubs.o
"C:/rtools40/mingw64/bin/"gcc  -I"C:/Users/BIOCBU~1/BBS-3~1.14-/R/include" -DNDEBUG -D_FILE_OFFSET_BITS=64 -I'C:/Users/biocbuild/bbs-3.14-bioc/R/library/Rhtslib/include' -I'C:/Users/biocbuild/bbs-3.14-bioc/R/library/S4Vectors/include' -I'C:/Users/biocbuild/bbs-3.14-bioc/R/library/IRanges/include' -I'C:/Users/biocbuild/bbs-3.14-bioc/R/library/XVector/include' -I'C:/Users/biocbuild/bbs-3.14-bioc/R/library/Biostrings/include'   -I"C:/extsoft/include"     -O2 -Wall  -std=gnu99 -mfpmath=sse -msse2 -mstackrealign  -c COMPAT_bcf_hdr_read.c -o COMPAT_bcf_hdr_read.o
"C:/rtools40/mingw64/bin/"gcc  -I"C:/Users/BIOCBU~1/BBS-3~1.14-/R/include" -DNDEBUG -D_FILE_OFFSET_BITS=64 -I'C:/Users/biocbuild/bbs-3.14-bioc/R/library/Rhtslib/include' -I'C:/Users/biocbuild/bbs-3.14-bioc/R/library/S4Vectors/include' -I'C:/Users/biocbuild/bbs-3.14-bioc/R/library/IRanges/include' -I'C:/Users/biocbuild/bbs-3.14-bioc/R/library/XVector/include' -I'C:/Users/biocbuild/bbs-3.14-bioc/R/library/Biostrings/include'   -I"C:/extsoft/include"     -O2 -Wall  -std=gnu99 -mfpmath=sse -msse2 -mstackrealign  -c IRanges_stubs.c -o IRanges_stubs.o
"C:/rtools40/mingw64/bin/"g++ -std=gnu++11  -I"C:/Users/BIOCBU~1/BBS-3~1.14-/R/include" -DNDEBUG -D_FILE_OFFSET_BITS=64 -I'C:/Users/biocbuild/bbs-3.14-bioc/R/library/Rhtslib/include' -I'C:/Users/biocbuild/bbs-3.14-bioc/R/library/S4Vectors/include' -I'C:/Users/biocbuild/bbs-3.14-bioc/R/library/IRanges/include' -I'C:/Users/biocbuild/bbs-3.14-bioc/R/library/XVector/include' -I'C:/Users/biocbuild/bbs-3.14-bioc/R/library/Biostrings/include'   -I"C:/extsoft/include"     -O2 -Wall  -mfpmath=sse -msse2 -mstackrealign  -c PileupBuffer.cpp -o PileupBuffer.o
"C:/rtools40/mingw64/bin/"g++ -std=gnu++11  -I"C:/Users/BIOCBU~1/BBS-3~1.14-/R/include" -DNDEBUG -D_FILE_OFFSET_BITS=64 -I'C:/Users/biocbuild/bbs-3.14-bioc/R/library/Rhtslib/include' -I'C:/Users/biocbuild/bbs-3.14-bioc/R/library/S4Vectors/include' -I'C:/Users/biocbuild/bbs-3.14-bioc/R/library/IRanges/include' -I'C:/Users/biocbuild/bbs-3.14-bioc/R/library/XVector/include' -I'C:/Users/biocbuild/bbs-3.14-bioc/R/library/Biostrings/include'   -I"C:/extsoft/include"     -O2 -Wall  -mfpmath=sse -msse2 -mstackrealign  -c PosCacheColl.cpp -o PosCacheColl.o
"C:/rtools40/mingw64/bin/"gcc  -I"C:/Users/BIOCBU~1/BBS-3~1.14-/R/include" -DNDEBUG -D_FILE_OFFSET_BITS=64 -I'C:/Users/biocbuild/bbs-3.14-bioc/R/library/Rhtslib/include' -I'C:/Users/biocbuild/bbs-3.14-bioc/R/library/S4Vectors/include' -I'C:/Users/biocbuild/bbs-3.14-bioc/R/library/IRanges/include' -I'C:/Users/biocbuild/bbs-3.14-bioc/R/library/XVector/include' -I'C:/Users/biocbuild/bbs-3.14-bioc/R/library/Biostrings/include'   -I"C:/extsoft/include"     -O2 -Wall  -std=gnu99 -mfpmath=sse -msse2 -mstackrealign  -c R_init_Rsamtools.c -o R_init_Rsamtools.o
"C:/rtools40/mingw64/bin/"g++ -std=gnu++11  -I"C:/Users/BIOCBU~1/BBS-3~1.14-/R/include" -DNDEBUG -D_FILE_OFFSET_BITS=64 -I'C:/Users/biocbuild/bbs-3.14-bioc/R/library/Rhtslib/include' -I'C:/Users/biocbuild/bbs-3.14-bioc/R/library/S4Vectors/include' -I'C:/Users/biocbuild/bbs-3.14-bioc/R/library/IRanges/include' -I'C:/Users/biocbuild/bbs-3.14-bioc/R/library/XVector/include' -I'C:/Users/biocbuild/bbs-3.14-bioc/R/library/Biostrings/include'   -I"C:/extsoft/include"     -O2 -Wall  -mfpmath=sse -msse2 -mstackrealign  -c ResultManager.cpp -o ResultManager.o
"C:/rtools40/mingw64/bin/"gcc  -I"C:/Users/BIOCBU~1/BBS-3~1.14-/R/include" -DNDEBUG -D_FILE_OFFSET_BITS=64 -I'C:/Users/biocbuild/bbs-3.14-bioc/R/library/Rhtslib/include' -I'C:/Users/biocbuild/bbs-3.14-bioc/R/library/S4Vectors/include' -I'C:/Users/biocbuild/bbs-3.14-bioc/R/library/IRanges/include' -I'C:/Users/biocbuild/bbs-3.14-bioc/R/library/XVector/include' -I'C:/Users/biocbuild/bbs-3.14-bioc/R/library/Biostrings/include'   -I"C:/extsoft/include"     -O2 -Wall  -std=gnu99 -mfpmath=sse -msse2 -mstackrealign  -c S4Vectors_stubs.c -o S4Vectors_stubs.o
"C:/rtools40/mingw64/bin/"gcc  -I"C:/Users/BIOCBU~1/BBS-3~1.14-/R/include" -DNDEBUG -D_FILE_OFFSET_BITS=64 -I'C:/Users/biocbuild/bbs-3.14-bioc/R/library/Rhtslib/include' -I'C:/Users/biocbuild/bbs-3.14-bioc/R/library/S4Vectors/include' -I'C:/Users/biocbuild/bbs-3.14-bioc/R/library/IRanges/include' -I'C:/Users/biocbuild/bbs-3.14-bioc/R/library/XVector/include' -I'C:/Users/biocbuild/bbs-3.14-bioc/R/library/Biostrings/include'   -I"C:/extsoft/include"     -O2 -Wall  -std=gnu99 -mfpmath=sse -msse2 -mstackrealign  -c XVector_stubs.c -o XVector_stubs.o
"C:/rtools40/mingw64/bin/"gcc  -I"C:/Users/BIOCBU~1/BBS-3~1.14-/R/include" -DNDEBUG -D_FILE_OFFSET_BITS=64 -I'C:/Users/biocbuild/bbs-3.14-bioc/R/library/Rhtslib/include' -I'C:/Users/biocbuild/bbs-3.14-bioc/R/library/S4Vectors/include' -I'C:/Users/biocbuild/bbs-3.14-bioc/R/library/IRanges/include' -I'C:/Users/biocbuild/bbs-3.14-bioc/R/library/XVector/include' -I'C:/Users/biocbuild/bbs-3.14-bioc/R/library/Biostrings/include'   -I"C:/extsoft/include"     -O2 -Wall  -std=gnu99 -mfpmath=sse -msse2 -mstackrealign  -c as_bam.c -o as_bam.o
"C:/rtools40/mingw64/bin/"gcc  -I"C:/Users/BIOCBU~1/BBS-3~1.14-/R/include" -DNDEBUG -D_FILE_OFFSET_BITS=64 -I'C:/Users/biocbuild/bbs-3.14-bioc/R/library/Rhtslib/include' -I'C:/Users/biocbuild/bbs-3.14-bioc/R/library/S4Vectors/include' -I'C:/Users/biocbuild/bbs-3.14-bioc/R/library/IRanges/include' -I'C:/Users/biocbuild/bbs-3.14-bioc/R/library/XVector/include' -I'C:/Users/biocbuild/bbs-3.14-bioc/R/library/Biostrings/include'   -I"C:/extsoft/include"     -O2 -Wall  -std=gnu99 -mfpmath=sse -msse2 -mstackrealign  -c bam.c -o bam.o
"C:/rtools40/mingw64/bin/"gcc  -I"C:/Users/BIOCBU~1/BBS-3~1.14-/R/include" -DNDEBUG -D_FILE_OFFSET_BITS=64 -I'C:/Users/biocbuild/bbs-3.14-bioc/R/library/Rhtslib/include' -I'C:/Users/biocbuild/bbs-3.14-bioc/R/library/S4Vectors/include' -I'C:/Users/biocbuild/bbs-3.14-bioc/R/library/IRanges/include' -I'C:/Users/biocbuild/bbs-3.14-bioc/R/library/XVector/include' -I'C:/Users/biocbuild/bbs-3.14-bioc/R/library/Biostrings/include'   -I"C:/extsoft/include"     -O2 -Wall  -std=gnu99 -mfpmath=sse -msse2 -mstackrealign  -c bam_data.c -o bam_data.o
"C:/rtools40/mingw64/bin/"g++ -std=gnu++11  -I"C:/Users/BIOCBU~1/BBS-3~1.14-/R/include" -DNDEBUG -D_FILE_OFFSET_BITS=64 -I'C:/Users/biocbuild/bbs-3.14-bioc/R/library/Rhtslib/include' -I'C:/Users/biocbuild/bbs-3.14-bioc/R/library/S4Vectors/include' -I'C:/Users/biocbuild/bbs-3.14-bioc/R/library/IRanges/include' -I'C:/Users/biocbuild/bbs-3.14-bioc/R/library/XVector/include' -I'C:/Users/biocbuild/bbs-3.14-bioc/R/library/Biostrings/include'   -I"C:/extsoft/include"     -O2 -Wall  -mfpmath=sse -msse2 -mstackrealign  -c bam_mate_iter.cpp -o bam_mate_iter.o
In file included from C:/Users/biocbuild/bbs-3.14-bioc/R/library/Rhtslib/include/sam.h:29,
                 from Template.h:9,
                 from BamIterator.h:10,
                 from BamRangeIterator.h:7,
                 from bam_mate_iter.cpp:2:
BamRangeIterator.h: In member function 'virtual void BamRangeIterator::finalize_inprogress(bamFile)':
C:/Users/biocbuild/bbs-3.14-bioc/R/library/Rhtslib/include/bam.h:57:41: warning: ignoring return value of 'int64_t bgzf_seek(BGZF*, int64_t, int)', declared with attribute warn_unused_result [-Wunused-result]
 #define bam_seek(fp, pos, dir) bgzf_seek(fp, pos, dir)
                                ~~~~~~~~~^~~~~~~~~~~~~~
BamRangeIterator.h:138:16: note: in expansion of macro 'bam_seek'
         (void) bam_seek(bfile, pos, SEEK_SET);
                ^~~~~~~~
BamIterator.h: In constructor 'BamIterator::BamIterator(bamFile, const bam_index_t*)':
C:/Users/biocbuild/bbs-3.14-bioc/R/library/Rhtslib/include/bam.h:57:41: warning: ignoring return value of 'int64_t bgzf_seek(BGZF*, int64_t, int)', declared with attribute warn_unused_result [-Wunused-result]
 #define bam_seek(fp, pos, dir) bgzf_seek(fp, pos, dir)
                                ~~~~~~~~~^~~~~~~~~~~~~~
BamIterator.h:87:16: note: in expansion of macro 'bam_seek'
         (void) bam_seek(bfile, 0, 0);
                ^~~~~~~~
"C:/rtools40/mingw64/bin/"gcc  -I"C:/Users/BIOCBU~1/BBS-3~1.14-/R/include" -DNDEBUG -D_FILE_OFFSET_BITS=64 -I'C:/Users/biocbuild/bbs-3.14-bioc/R/library/Rhtslib/include' -I'C:/Users/biocbuild/bbs-3.14-bioc/R/library/S4Vectors/include' -I'C:/Users/biocbuild/bbs-3.14-bioc/R/library/IRanges/include' -I'C:/Users/biocbuild/bbs-3.14-bioc/R/library/XVector/include' -I'C:/Users/biocbuild/bbs-3.14-bioc/R/library/Biostrings/include'   -I"C:/extsoft/include"     -O2 -Wall  -std=gnu99 -mfpmath=sse -msse2 -mstackrealign  -c bam_plbuf.c -o bam_plbuf.o
"C:/rtools40/mingw64/bin/"gcc  -I"C:/Users/BIOCBU~1/BBS-3~1.14-/R/include" -DNDEBUG -D_FILE_OFFSET_BITS=64 -I'C:/Users/biocbuild/bbs-3.14-bioc/R/library/Rhtslib/include' -I'C:/Users/biocbuild/bbs-3.14-bioc/R/library/S4Vectors/include' -I'C:/Users/biocbuild/bbs-3.14-bioc/R/library/IRanges/include' -I'C:/Users/biocbuild/bbs-3.14-bioc/R/library/XVector/include' -I'C:/Users/biocbuild/bbs-3.14-bioc/R/library/Biostrings/include'   -I"C:/extsoft/include"     -O2 -Wall  -std=gnu99 -mfpmath=sse -msse2 -mstackrealign  -c bam_sort.c -o bam_sort.o
In file included from bam_sort.c:1:
C:/Users/biocbuild/bbs-3.14-bioc/R/library/Rhtslib/include/bam_sort.c: In function 'complain_about_memory_setting':
C:/Users/biocbuild/bbs-3.14-bioc/R/library/Rhtslib/include/bam_sort.c:2256:26: warning: unknown conversion type character 'z' in format [-Wformat=]
 "[bam_sort] -m setting (%zu%s bytes) is less than the minimum required (%zuM).\n\n"
                          ^
C:/Users/biocbuild/bbs-3.14-bioc/R/library/Rhtslib/include/bam_sort.c:2256:29: warning: format '%s' expects argument of type 'char *', but argument 3 has type 'size_t' {aka 'long long unsigned int'} [-Wformat=]
 "[bam_sort] -m setting (%zu%s bytes) is less than the minimum required (%zuM).\n\n"
                            ~^
                            %I64d
C:/Users/biocbuild/bbs-3.14-bioc/R/library/Rhtslib/include/bam_sort.c:2263:13:
             max_mem, suffix, SORT_MIN_MEGS_PER_THREAD);
             ~~~~~~~          
C:/Users/biocbuild/bbs-3.14-bioc/R/library/Rhtslib/include/bam_sort.c:2256:74: warning: unknown conversion type character 'z' in format [-Wformat=]
 "[bam_sort] -m setting (%zu%s bytes) is less than the minimum required (%zuM).\n\n"
                                                                          ^
C:/Users/biocbuild/bbs-3.14-bioc/R/library/Rhtslib/include/bam_sort.c:2256:1: warning: too many arguments for format [-Wformat-extra-args]
 "[bam_sort] -m setting (%zu%s bytes) is less than the minimum required (%zuM).\n\n"
 ^~~~~~~~~~~~~~~~~~~~~~~~~~~~~~~~~~~~~~~~~~~~~~~~~~~~~~~~~~~~~~~~~~~~~~~~~~~~~~~~~~~
C:/Users/biocbuild/bbs-3.14-bioc/R/library/Rhtslib/include/bam_sort.c:2256:26: warning: unknown conversion type character 'z' in format [-Wformat=]
 "[bam_sort] -m setting (%zu%s bytes) is less than the minimum required (%zuM).\n\n"
                          ^
C:/Users/biocbuild/bbs-3.14-bioc/R/library/Rhtslib/include/bam_sort.c:2256:29: warning: format '%s' expects argument of type 'char *', but argument 3 has type 'size_t' {aka 'long long unsigned int'} [-Wformat=]
 "[bam_sort] -m setting (%zu%s bytes) is less than the minimum required (%zuM).\n\n"
                            ~^
                            %I64d
C:/Users/biocbuild/bbs-3.14-bioc/R/library/Rhtslib/include/bam_sort.c:2263:13:
             max_mem, suffix, SORT_MIN_MEGS_PER_THREAD);
             ~~~~~~~          
C:/Users/biocbuild/bbs-3.14-bioc/R/library/Rhtslib/include/bam_sort.c:2256:74: warning: unknown conversion type character 'z' in format [-Wformat=]
 "[bam_sort] -m setting (%zu%s bytes) is less than the minimum required (%zuM).\n\n"
                                                                          ^
C:/Users/biocbuild/bbs-3.14-bioc/R/library/Rhtslib/include/bam_sort.c:2256:1: warning: too many arguments for format [-Wformat-extra-args]
 "[bam_sort] -m setting (%zu%s bytes) is less than the minimum required (%zuM).\n\n"
 ^~~~~~~~~~~~~~~~~~~~~~~~~~~~~~~~~~~~~~~~~~~~~~~~~~~~~~~~~~~~~~~~~~~~~~~~~~~~~~~~~~~
C:/Users/biocbuild/bbs-3.14-bioc/R/library/Rhtslib/include/bam_sort.c: In function 'bam_sort_core_ext':
C:/Users/biocbuild/bbs-3.14-bioc/R/library/Rhtslib/include/bam_sort.c:2065:9: warning: 'strncpy' specified bound 2 equals destination size [-Wstringop-truncation]
         strncpy(g_sort_tag, sort_by_tag, 2);
         ^~~~~~~~~~~~~~~~~~~~~~~~~~~~~~~~~~~
"C:/rtools40/mingw64/bin/"gcc  -I"C:/Users/BIOCBU~1/BBS-3~1.14-/R/include" -DNDEBUG -D_FILE_OFFSET_BITS=64 -I'C:/Users/biocbuild/bbs-3.14-bioc/R/library/Rhtslib/include' -I'C:/Users/biocbuild/bbs-3.14-bioc/R/library/S4Vectors/include' -I'C:/Users/biocbuild/bbs-3.14-bioc/R/library/IRanges/include' -I'C:/Users/biocbuild/bbs-3.14-bioc/R/library/XVector/include' -I'C:/Users/biocbuild/bbs-3.14-bioc/R/library/Biostrings/include'   -I"C:/extsoft/include"     -O2 -Wall  -std=gnu99 -mfpmath=sse -msse2 -mstackrealign  -c bambuffer.c -o bambuffer.o
"C:/rtools40/mingw64/bin/"gcc  -I"C:/Users/BIOCBU~1/BBS-3~1.14-/R/include" -DNDEBUG -D_FILE_OFFSET_BITS=64 -I'C:/Users/biocbuild/bbs-3.14-bioc/R/library/Rhtslib/include' -I'C:/Users/biocbuild/bbs-3.14-bioc/R/library/S4Vectors/include' -I'C:/Users/biocbuild/bbs-3.14-bioc/R/library/IRanges/include' -I'C:/Users/biocbuild/bbs-3.14-bioc/R/library/XVector/include' -I'C:/Users/biocbuild/bbs-3.14-bioc/R/library/Biostrings/include'   -I"C:/extsoft/include"     -O2 -Wall  -std=gnu99 -mfpmath=sse -msse2 -mstackrealign  -c bamfile.c -o bamfile.o
bamfile.c: In function 'bamfile_isincomplete':
bamfile.c:168:20: warning: ignoring return value of 'bgzf_seek', declared with attribute warn_unused_result [-Wunused-result]
             (void) bgzf_seek(bfile->file->x.bam, offset, SEEK_SET);
                    ^~~~~~~~~~~~~~~~~~~~~~~~~~~~~~~~~~~~~~~~~~~~~~~
bamfile.c: In function 'bamfile_open':
bamfile.c:29:17: warning: 'cfile' may be used uninitialized in this function [-Wmaybe-uninitialized]
         index = hts_idx_load2(file, indexname);
                 ^~~~~~~~~~~~~~~~~~~~~~~~~~~~~~
bamfile.c:73:17: note: 'cfile' was declared here
     const char *cfile;
                 ^~~~~
"C:/rtools40/mingw64/bin/"gcc  -I"C:/Users/BIOCBU~1/BBS-3~1.14-/R/include" -DNDEBUG -D_FILE_OFFSET_BITS=64 -I'C:/Users/biocbuild/bbs-3.14-bioc/R/library/Rhtslib/include' -I'C:/Users/biocbuild/bbs-3.14-bioc/R/library/S4Vectors/include' -I'C:/Users/biocbuild/bbs-3.14-bioc/R/library/IRanges/include' -I'C:/Users/biocbuild/bbs-3.14-bioc/R/library/XVector/include' -I'C:/Users/biocbuild/bbs-3.14-bioc/R/library/Biostrings/include'   -I"C:/extsoft/include"     -O2 -Wall  -std=gnu99 -mfpmath=sse -msse2 -mstackrealign  -c bcffile.c -o bcffile.o
"C:/rtools40/mingw64/bin/"gcc  -I"C:/Users/BIOCBU~1/BBS-3~1.14-/R/include" -DNDEBUG -D_FILE_OFFSET_BITS=64 -I'C:/Users/biocbuild/bbs-3.14-bioc/R/library/Rhtslib/include' -I'C:/Users/biocbuild/bbs-3.14-bioc/R/library/S4Vectors/include' -I'C:/Users/biocbuild/bbs-3.14-bioc/R/library/IRanges/include' -I'C:/Users/biocbuild/bbs-3.14-bioc/R/library/XVector/include' -I'C:/Users/biocbuild/bbs-3.14-bioc/R/library/Biostrings/include'   -I"C:/extsoft/include"     -O2 -Wall  -std=gnu99 -mfpmath=sse -msse2 -mstackrealign  -c encode.c -o encode.o
"C:/rtools40/mingw64/bin/"gcc  -I"C:/Users/BIOCBU~1/BBS-3~1.14-/R/include" -DNDEBUG -D_FILE_OFFSET_BITS=64 -I'C:/Users/biocbuild/bbs-3.14-bioc/R/library/Rhtslib/include' -I'C:/Users/biocbuild/bbs-3.14-bioc/R/library/S4Vectors/include' -I'C:/Users/biocbuild/bbs-3.14-bioc/R/library/IRanges/include' -I'C:/Users/biocbuild/bbs-3.14-bioc/R/library/XVector/include' -I'C:/Users/biocbuild/bbs-3.14-bioc/R/library/Biostrings/include'   -I"C:/extsoft/include"     -O2 -Wall  -std=gnu99 -mfpmath=sse -msse2 -mstackrealign  -c fafile.c -o fafile.o
"C:/rtools40/mingw64/bin/"gcc  -I"C:/Users/BIOCBU~1/BBS-3~1.14-/R/include" -DNDEBUG -D_FILE_OFFSET_BITS=64 -I'C:/Users/biocbuild/bbs-3.14-bioc/R/library/Rhtslib/include' -I'C:/Users/biocbuild/bbs-3.14-bioc/R/library/S4Vectors/include' -I'C:/Users/biocbuild/bbs-3.14-bioc/R/library/IRanges/include' -I'C:/Users/biocbuild/bbs-3.14-bioc/R/library/XVector/include' -I'C:/Users/biocbuild/bbs-3.14-bioc/R/library/Biostrings/include'   -I"C:/extsoft/include"     -O2 -Wall  -std=gnu99 -mfpmath=sse -msse2 -mstackrealign  -c idxstats.c -o idxstats.o
In file included from C:/Users/biocbuild/bbs-3.14-bioc/R/library/Rhtslib/include/sam.h:29,
                 from bamfile.h:5,
                 from idxstats.c:1:
idxstats.c: In function 'idxstats_bamfile':
C:/Users/biocbuild/bbs-3.14-bioc/R/library/Rhtslib/include/bam.h:57:32: warning: ignoring return value of 'bgzf_seek', declared with attribute warn_unused_result [-Wunused-result]
 #define bam_seek(fp, pos, dir) bgzf_seek(fp, pos, dir)
                                ^~~~~~~~~~~~~~~~~~~~~~~
idxstats.c:20:12: note: in expansion of macro 'bam_seek'
     (void) bam_seek(fp, 0, 0);
            ^~~~~~~~
"C:/rtools40/mingw64/bin/"gcc  -I"C:/Users/BIOCBU~1/BBS-3~1.14-/R/include" -DNDEBUG -D_FILE_OFFSET_BITS=64 -I'C:/Users/biocbuild/bbs-3.14-bioc/R/library/Rhtslib/include' -I'C:/Users/biocbuild/bbs-3.14-bioc/R/library/S4Vectors/include' -I'C:/Users/biocbuild/bbs-3.14-bioc/R/library/IRanges/include' -I'C:/Users/biocbuild/bbs-3.14-bioc/R/library/XVector/include' -I'C:/Users/biocbuild/bbs-3.14-bioc/R/library/Biostrings/include'   -I"C:/extsoft/include"     -O2 -Wall  -std=gnu99 -mfpmath=sse -msse2 -mstackrealign  -c io_sam.c -o io_sam.o
In file included from C:/Users/biocbuild/bbs-3.14-bioc/R/library/Rhtslib/include/sam.h:29,
                 from io_sam.c:2:
io_sam.c: In function '_scan_bam_all':
C:/Users/biocbuild/bbs-3.14-bioc/R/library/Rhtslib/include/bam.h:57:32: warning: ignoring return value of 'bgzf_seek', declared with attribute warn_unused_result [-Wunused-result]
 #define bam_seek(fp, pos, dir) bgzf_seek(fp, pos, dir)
                                ^~~~~~~~~~~~~~~~~~~~~~~
io_sam.c:304:12: note: in expansion of macro 'bam_seek'
     (void) bam_seek(bfile->file->x.bam, bfile->pos0, SEEK_SET);
            ^~~~~~~~
"C:/rtools40/mingw64/bin/"g++ -std=gnu++11  -I"C:/Users/BIOCBU~1/BBS-3~1.14-/R/include" -DNDEBUG -D_FILE_OFFSET_BITS=64 -I'C:/Users/biocbuild/bbs-3.14-bioc/R/library/Rhtslib/include' -I'C:/Users/biocbuild/bbs-3.14-bioc/R/library/S4Vectors/include' -I'C:/Users/biocbuild/bbs-3.14-bioc/R/library/IRanges/include' -I'C:/Users/biocbuild/bbs-3.14-bioc/R/library/XVector/include' -I'C:/Users/biocbuild/bbs-3.14-bioc/R/library/Biostrings/include'   -I"C:/extsoft/include"     -O2 -Wall  -mfpmath=sse -msse2 -mstackrealign  -c pbuffer_wrapper.cpp -o pbuffer_wrapper.o
"C:/rtools40/mingw64/bin/"g++ -std=gnu++11  -I"C:/Users/BIOCBU~1/BBS-3~1.14-/R/include" -DNDEBUG -D_FILE_OFFSET_BITS=64 -I'C:/Users/biocbuild/bbs-3.14-bioc/R/library/Rhtslib/include' -I'C:/Users/biocbuild/bbs-3.14-bioc/R/library/S4Vectors/include' -I'C:/Users/biocbuild/bbs-3.14-bioc/R/library/IRanges/include' -I'C:/Users/biocbuild/bbs-3.14-bioc/R/library/XVector/include' -I'C:/Users/biocbuild/bbs-3.14-bioc/R/library/Biostrings/include'   -I"C:/extsoft/include"     -O2 -Wall  -mfpmath=sse -msse2 -mstackrealign  -c pileup.cpp -o pileup.o
"C:/rtools40/mingw64/bin/"gcc  -I"C:/Users/BIOCBU~1/BBS-3~1.14-/R/include" -DNDEBUG -D_FILE_OFFSET_BITS=64 -I'C:/Users/biocbuild/bbs-3.14-bioc/R/library/Rhtslib/include' -I'C:/Users/biocbuild/bbs-3.14-bioc/R/library/S4Vectors/include' -I'C:/Users/biocbuild/bbs-3.14-bioc/R/library/IRanges/include' -I'C:/Users/biocbuild/bbs-3.14-bioc/R/library/XVector/include' -I'C:/Users/biocbuild/bbs-3.14-bioc/R/library/Biostrings/include'   -I"C:/extsoft/include"     -O2 -Wall  -std=gnu99 -mfpmath=sse -msse2 -mstackrealign  -c pileupbam.c -o pileupbam.o
"C:/rtools40/mingw64/bin/"gcc  -I"C:/Users/BIOCBU~1/BBS-3~1.14-/R/include" -DNDEBUG -D_FILE_OFFSET_BITS=64 -I'C:/Users/biocbuild/bbs-3.14-bioc/R/library/Rhtslib/include' -I'C:/Users/biocbuild/bbs-3.14-bioc/R/library/S4Vectors/include' -I'C:/Users/biocbuild/bbs-3.14-bioc/R/library/IRanges/include' -I'C:/Users/biocbuild/bbs-3.14-bioc/R/library/XVector/include' -I'C:/Users/biocbuild/bbs-3.14-bioc/R/library/Biostrings/include'   -I"C:/extsoft/include"     -O2 -Wall  -std=gnu99 -mfpmath=sse -msse2 -mstackrealign  -c sam.c -o sam.o
"C:/rtools40/mingw64/bin/"gcc  -I"C:/Users/BIOCBU~1/BBS-3~1.14-/R/include" -DNDEBUG -D_FILE_OFFSET_BITS=64 -I'C:/Users/biocbuild/bbs-3.14-bioc/R/library/Rhtslib/include' -I'C:/Users/biocbuild/bbs-3.14-bioc/R/library/S4Vectors/include' -I'C:/Users/biocbuild/bbs-3.14-bioc/R/library/IRanges/include' -I'C:/Users/biocbuild/bbs-3.14-bioc/R/library/XVector/include' -I'C:/Users/biocbuild/bbs-3.14-bioc/R/library/Biostrings/include'   -I"C:/extsoft/include"     -O2 -Wall  -std=gnu99 -mfpmath=sse -msse2 -mstackrealign  -c sam_opts.c -o sam_opts.o
"C:/rtools40/mingw64/bin/"gcc  -I"C:/Users/BIOCBU~1/BBS-3~1.14-/R/include" -DNDEBUG -D_FILE_OFFSET_BITS=64 -I'C:/Users/biocbuild/bbs-3.14-bioc/R/library/Rhtslib/include' -I'C:/Users/biocbuild/bbs-3.14-bioc/R/library/S4Vectors/include' -I'C:/Users/biocbuild/bbs-3.14-bioc/R/library/IRanges/include' -I'C:/Users/biocbuild/bbs-3.14-bioc/R/library/XVector/include' -I'C:/Users/biocbuild/bbs-3.14-bioc/R/library/Biostrings/include'   -I"C:/extsoft/include"     -O2 -Wall  -std=gnu99 -mfpmath=sse -msse2 -mstackrealign  -c sam_utils.c -o sam_utils.o
"C:/rtools40/mingw64/bin/"gcc  -I"C:/Users/BIOCBU~1/BBS-3~1.14-/R/include" -DNDEBUG -D_FILE_OFFSET_BITS=64 -I'C:/Users/biocbuild/bbs-3.14-bioc/R/library/Rhtslib/include' -I'C:/Users/biocbuild/bbs-3.14-bioc/R/library/S4Vectors/include' -I'C:/Users/biocbuild/bbs-3.14-bioc/R/library/IRanges/include' -I'C:/Users/biocbuild/bbs-3.14-bioc/R/library/XVector/include' -I'C:/Users/biocbuild/bbs-3.14-bioc/R/library/Biostrings/include'   -I"C:/extsoft/include"     -O2 -Wall  -std=gnu99 -mfpmath=sse -msse2 -mstackrealign  -c samtools_patch.c -o samtools_patch.o
"C:/rtools40/mingw64/bin/"gcc  -I"C:/Users/BIOCBU~1/BBS-3~1.14-/R/include" -DNDEBUG -D_FILE_OFFSET_BITS=64 -I'C:/Users/biocbuild/bbs-3.14-bioc/R/library/Rhtslib/include' -I'C:/Users/biocbuild/bbs-3.14-bioc/R/library/S4Vectors/include' -I'C:/Users/biocbuild/bbs-3.14-bioc/R/library/IRanges/include' -I'C:/Users/biocbuild/bbs-3.14-bioc/R/library/XVector/include' -I'C:/Users/biocbuild/bbs-3.14-bioc/R/library/Biostrings/include'   -I"C:/extsoft/include"     -O2 -Wall  -std=gnu99 -mfpmath=sse -msse2 -mstackrealign  -c scan_bam_data.c -o scan_bam_data.o
"C:/rtools40/mingw64/bin/"gcc  -I"C:/Users/BIOCBU~1/BBS-3~1.14-/R/include" -DNDEBUG -D_FILE_OFFSET_BITS=64 -I'C:/Users/biocbuild/bbs-3.14-bioc/R/library/Rhtslib/include' -I'C:/Users/biocbuild/bbs-3.14-bioc/R/library/S4Vectors/include' -I'C:/Users/biocbuild/bbs-3.14-bioc/R/library/IRanges/include' -I'C:/Users/biocbuild/bbs-3.14-bioc/R/library/XVector/include' -I'C:/Users/biocbuild/bbs-3.14-bioc/R/library/Biostrings/include'   -I"C:/extsoft/include"     -O2 -Wall  -std=gnu99 -mfpmath=sse -msse2 -mstackrealign  -c tabixfile.c -o tabixfile.o
tabixfile.c: In function 'index_tabix':
tabixfile.c:190:5: warning: 'bgzf_is_bgzf' is deprecated: Use bgzf_compression() or hts_detect_format() instead [-Wdeprecated-declarations]
     if (bgzf_is_bgzf(fn) != 1)
     ^~
In file included from tabixfile.c:3:
C:/Users/biocbuild/bbs-3.14-bioc/R/library/Rhtslib/include/htslib/bgzf.h:243:9: note: declared here
     int bgzf_is_bgzf(const char *fn) HTS_DEPRECATED("Use bgzf_compression() or hts_detect_format() instead");
         ^~~~~~~~~~~~
"C:/rtools40/mingw64/bin/"gcc  -I"C:/Users/BIOCBU~1/BBS-3~1.14-/R/include" -DNDEBUG -D_FILE_OFFSET_BITS=64 -I'C:/Users/biocbuild/bbs-3.14-bioc/R/library/Rhtslib/include' -I'C:/Users/biocbuild/bbs-3.14-bioc/R/library/S4Vectors/include' -I'C:/Users/biocbuild/bbs-3.14-bioc/R/library/IRanges/include' -I'C:/Users/biocbuild/bbs-3.14-bioc/R/library/XVector/include' -I'C:/Users/biocbuild/bbs-3.14-bioc/R/library/Biostrings/include'   -I"C:/extsoft/include"     -O2 -Wall  -std=gnu99 -mfpmath=sse -msse2 -mstackrealign  -c tagfilter.c -o tagfilter.o
"C:/rtools40/mingw64/bin/"gcc  -I"C:/Users/BIOCBU~1/BBS-3~1.14-/R/include" -DNDEBUG -D_FILE_OFFSET_BITS=64 -I'C:/Users/biocbuild/bbs-3.14-bioc/R/library/Rhtslib/include' -I'C:/Users/biocbuild/bbs-3.14-bioc/R/library/S4Vectors/include' -I'C:/Users/biocbuild/bbs-3.14-bioc/R/library/IRanges/include' -I'C:/Users/biocbuild/bbs-3.14-bioc/R/library/XVector/include' -I'C:/Users/biocbuild/bbs-3.14-bioc/R/library/Biostrings/include'   -I"C:/extsoft/include"     -O2 -Wall  -std=gnu99 -mfpmath=sse -msse2 -mstackrealign  -c utilities.c -o utilities.o
"C:/rtools40/mingw64/bin/"gcc  -I"C:/Users/BIOCBU~1/BBS-3~1.14-/R/include" -DNDEBUG -D_FILE_OFFSET_BITS=64 -I'C:/Users/biocbuild/bbs-3.14-bioc/R/library/Rhtslib/include' -I'C:/Users/biocbuild/bbs-3.14-bioc/R/library/S4Vectors/include' -I'C:/Users/biocbuild/bbs-3.14-bioc/R/library/IRanges/include' -I'C:/Users/biocbuild/bbs-3.14-bioc/R/library/XVector/include' -I'C:/Users/biocbuild/bbs-3.14-bioc/R/library/Biostrings/include'   -I"C:/extsoft/include"     -O2 -Wall  -std=gnu99 -mfpmath=sse -msse2 -mstackrealign  -c zip_compression.c -o zip_compression.o
C:/rtools40/mingw64/bin/g++ -std=gnu++11 -shared -s -static-libgcc -o Rsamtools.dll tmp.def Biostrings_stubs.o COMPAT_bcf_hdr_read.o IRanges_stubs.o PileupBuffer.o PosCacheColl.o R_init_Rsamtools.o ResultManager.o S4Vectors_stubs.o XVector_stubs.o as_bam.o bam.o bam_data.o bam_mate_iter.o bam_plbuf.o bam_sort.o bambuffer.o bamfile.o bcffile.o encode.o fafile.o idxstats.o io_sam.o pbuffer_wrapper.o pileup.o pileupbam.o sam.o sam_opts.o sam_utils.o samtools_patch.o scan_bam_data.o tabixfile.o tagfilter.o utilities.o zip_compression.o C:/Users/biocbuild/bbs-3.14-bioc/R/library/Rhtslib/usrlib/x64/libhts.a -LC:/extsoft/lib/x64 -lcurl -lrtmp -lssl -lssh2 -lcrypto -lgdi32 -lz -lws2_32 -lwldap32 -lwinmm -LC:/extsoft/lib/x64 -LC:/extsoft/lib -LC:/Users/BIOCBU~1/BBS-3~1.14-/R/bin/x64 -lR
installing to C:/Users/biocbuild/bbs-3.14-bioc/meat/Rsamtools.buildbin-libdir/Rsamtools/libs/x64
** testing if installed package can be loaded
* MD5 sums
packaged installation of 'Rsamtools' as Rsamtools_2.10.0.zip
* DONE (Rsamtools)