Back to Multiple platform build/check report for BioC 3.14
ABCDEFGHIJKLMNOPQ[R]STUVWXYZ

This page was generated on 2022-01-26 13:08:42 -0500 (Wed, 26 Jan 2022).

HostnameOSArch (*)R versionInstalled pkgs
nebbiolo2Linux (Ubuntu 20.04.4 LTS)x86_644.1.2 (2021-11-01) -- "Bird Hippie" 4329
tokay2Windows Server 2012 R2 Standardx644.1.2 (2021-11-01) -- "Bird Hippie" 4080
machv2macOS 10.14.6 Mojavex86_644.1.2 (2021-11-01) -- "Bird Hippie" 4141
Click on any hostname to see more info about the system (e.g. compilers)      (*) as reported by 'uname -p', except on Windows and Mac OS X

INSTALL results for Rsamtools on machv2


To the developers/maintainers of the Rsamtools package:
- Please allow up to 24 hours (and sometimes 48 hours) for your latest push to git@git.bioconductor.org:packages/Rsamtools.git to
reflect on this report. See How and When does the builder pull? When will my changes propagate? here for more information.
- Make sure to use the following settings in order to reproduce any error or warning you see on this page.

raw results

Package 1659/2083HostnameOS / ArchINSTALLBUILDCHECKBUILD BIN
Rsamtools 2.10.0  (landing page)
Bioconductor Package Maintainer
Snapshot Date: 2022-01-25 01:55:07 -0500 (Tue, 25 Jan 2022)
git_url: https://git.bioconductor.org/packages/Rsamtools
git_branch: RELEASE_3_14
git_last_commit: b19738e
git_last_commit_date: 2021-10-26 11:55:47 -0500 (Tue, 26 Oct 2021)
nebbiolo2Linux (Ubuntu 20.04.4 LTS) / x86_64  OK    OK    WARNINGS  UNNEEDED, same version is already published
tokay2Windows Server 2012 R2 Standard / x64  OK    OK    WARNINGS    OK  UNNEEDED, same version is already published
machv2macOS 10.14.6 Mojave / x86_64  OK    OK    WARNINGS    OK  UNNEEDED, same version is already published

Summary

Package: Rsamtools
Version: 2.10.0
Command: /Library/Frameworks/R.framework/Resources/bin/R CMD INSTALL Rsamtools
StartedAt: 2022-01-25 03:19:24 -0500 (Tue, 25 Jan 2022)
EndedAt: 2022-01-25 03:20:27 -0500 (Tue, 25 Jan 2022)
EllapsedTime: 62.9 seconds
RetCode: 0
Status:   OK  

Command output

##############################################################################
##############################################################################
###
### Running command:
###
###   /Library/Frameworks/R.framework/Resources/bin/R CMD INSTALL Rsamtools
###
##############################################################################
##############################################################################


* installing to library ‘/Library/Frameworks/R.framework/Versions/4.1/Resources/library’
* installing *source* package ‘Rsamtools’ ...
** using staged installation
** libs
clang -mmacosx-version-min=10.13 -I"/Library/Frameworks/R.framework/Resources/include" -DNDEBUG -D_FILE_OFFSET_BITS=64 -I'/Library/Frameworks/R.framework/Versions/4.1/Resources/library/Rhtslib/include' -I'/Library/Frameworks/R.framework/Versions/4.1/Resources/library/S4Vectors/include' -I'/Library/Frameworks/R.framework/Versions/4.1/Resources/library/IRanges/include' -I'/Library/Frameworks/R.framework/Versions/4.1/Resources/library/XVector/include' -I'/Library/Frameworks/R.framework/Versions/4.1/Resources/library/Biostrings/include' -I/usr/local/include   -fPIC  -Wall -g -O2  -c Biostrings_stubs.c -o Biostrings_stubs.o
clang -mmacosx-version-min=10.13 -I"/Library/Frameworks/R.framework/Resources/include" -DNDEBUG -D_FILE_OFFSET_BITS=64 -I'/Library/Frameworks/R.framework/Versions/4.1/Resources/library/Rhtslib/include' -I'/Library/Frameworks/R.framework/Versions/4.1/Resources/library/S4Vectors/include' -I'/Library/Frameworks/R.framework/Versions/4.1/Resources/library/IRanges/include' -I'/Library/Frameworks/R.framework/Versions/4.1/Resources/library/XVector/include' -I'/Library/Frameworks/R.framework/Versions/4.1/Resources/library/Biostrings/include' -I/usr/local/include   -fPIC  -Wall -g -O2  -c COMPAT_bcf_hdr_read.c -o COMPAT_bcf_hdr_read.o
clang -mmacosx-version-min=10.13 -I"/Library/Frameworks/R.framework/Resources/include" -DNDEBUG -D_FILE_OFFSET_BITS=64 -I'/Library/Frameworks/R.framework/Versions/4.1/Resources/library/Rhtslib/include' -I'/Library/Frameworks/R.framework/Versions/4.1/Resources/library/S4Vectors/include' -I'/Library/Frameworks/R.framework/Versions/4.1/Resources/library/IRanges/include' -I'/Library/Frameworks/R.framework/Versions/4.1/Resources/library/XVector/include' -I'/Library/Frameworks/R.framework/Versions/4.1/Resources/library/Biostrings/include' -I/usr/local/include   -fPIC  -Wall -g -O2  -c IRanges_stubs.c -o IRanges_stubs.o
clang++ -mmacosx-version-min=10.13 -std=gnu++14 -I"/Library/Frameworks/R.framework/Resources/include" -DNDEBUG -D_FILE_OFFSET_BITS=64 -I'/Library/Frameworks/R.framework/Versions/4.1/Resources/library/Rhtslib/include' -I'/Library/Frameworks/R.framework/Versions/4.1/Resources/library/S4Vectors/include' -I'/Library/Frameworks/R.framework/Versions/4.1/Resources/library/IRanges/include' -I'/Library/Frameworks/R.framework/Versions/4.1/Resources/library/XVector/include' -I'/Library/Frameworks/R.framework/Versions/4.1/Resources/library/Biostrings/include' -I/usr/local/include   -fPIC  -Wall -g -O2  -c PileupBuffer.cpp -o PileupBuffer.o
In file included from PileupBuffer.cpp:1:
./PileupBuffer.h:56:16: warning: private field 'schema' is not used [-Wunused-private-field]
    const SEXP schema, pileupParams, seqnamesLevels;
               ^
1 warning generated.
clang++ -mmacosx-version-min=10.13 -std=gnu++14 -I"/Library/Frameworks/R.framework/Resources/include" -DNDEBUG -D_FILE_OFFSET_BITS=64 -I'/Library/Frameworks/R.framework/Versions/4.1/Resources/library/Rhtslib/include' -I'/Library/Frameworks/R.framework/Versions/4.1/Resources/library/S4Vectors/include' -I'/Library/Frameworks/R.framework/Versions/4.1/Resources/library/IRanges/include' -I'/Library/Frameworks/R.framework/Versions/4.1/Resources/library/XVector/include' -I'/Library/Frameworks/R.framework/Versions/4.1/Resources/library/Biostrings/include' -I/usr/local/include   -fPIC  -Wall -g -O2  -c PosCacheColl.cpp -o PosCacheColl.o
clang -mmacosx-version-min=10.13 -I"/Library/Frameworks/R.framework/Resources/include" -DNDEBUG -D_FILE_OFFSET_BITS=64 -I'/Library/Frameworks/R.framework/Versions/4.1/Resources/library/Rhtslib/include' -I'/Library/Frameworks/R.framework/Versions/4.1/Resources/library/S4Vectors/include' -I'/Library/Frameworks/R.framework/Versions/4.1/Resources/library/IRanges/include' -I'/Library/Frameworks/R.framework/Versions/4.1/Resources/library/XVector/include' -I'/Library/Frameworks/R.framework/Versions/4.1/Resources/library/Biostrings/include' -I/usr/local/include   -fPIC  -Wall -g -O2  -c R_init_Rsamtools.c -o R_init_Rsamtools.o
clang++ -mmacosx-version-min=10.13 -std=gnu++14 -I"/Library/Frameworks/R.framework/Resources/include" -DNDEBUG -D_FILE_OFFSET_BITS=64 -I'/Library/Frameworks/R.framework/Versions/4.1/Resources/library/Rhtslib/include' -I'/Library/Frameworks/R.framework/Versions/4.1/Resources/library/S4Vectors/include' -I'/Library/Frameworks/R.framework/Versions/4.1/Resources/library/IRanges/include' -I'/Library/Frameworks/R.framework/Versions/4.1/Resources/library/XVector/include' -I'/Library/Frameworks/R.framework/Versions/4.1/Resources/library/Biostrings/include' -I/usr/local/include   -fPIC  -Wall -g -O2  -c ResultManager.cpp -o ResultManager.o
clang -mmacosx-version-min=10.13 -I"/Library/Frameworks/R.framework/Resources/include" -DNDEBUG -D_FILE_OFFSET_BITS=64 -I'/Library/Frameworks/R.framework/Versions/4.1/Resources/library/Rhtslib/include' -I'/Library/Frameworks/R.framework/Versions/4.1/Resources/library/S4Vectors/include' -I'/Library/Frameworks/R.framework/Versions/4.1/Resources/library/IRanges/include' -I'/Library/Frameworks/R.framework/Versions/4.1/Resources/library/XVector/include' -I'/Library/Frameworks/R.framework/Versions/4.1/Resources/library/Biostrings/include' -I/usr/local/include   -fPIC  -Wall -g -O2  -c S4Vectors_stubs.c -o S4Vectors_stubs.o
clang -mmacosx-version-min=10.13 -I"/Library/Frameworks/R.framework/Resources/include" -DNDEBUG -D_FILE_OFFSET_BITS=64 -I'/Library/Frameworks/R.framework/Versions/4.1/Resources/library/Rhtslib/include' -I'/Library/Frameworks/R.framework/Versions/4.1/Resources/library/S4Vectors/include' -I'/Library/Frameworks/R.framework/Versions/4.1/Resources/library/IRanges/include' -I'/Library/Frameworks/R.framework/Versions/4.1/Resources/library/XVector/include' -I'/Library/Frameworks/R.framework/Versions/4.1/Resources/library/Biostrings/include' -I/usr/local/include   -fPIC  -Wall -g -O2  -c XVector_stubs.c -o XVector_stubs.o
clang -mmacosx-version-min=10.13 -I"/Library/Frameworks/R.framework/Resources/include" -DNDEBUG -D_FILE_OFFSET_BITS=64 -I'/Library/Frameworks/R.framework/Versions/4.1/Resources/library/Rhtslib/include' -I'/Library/Frameworks/R.framework/Versions/4.1/Resources/library/S4Vectors/include' -I'/Library/Frameworks/R.framework/Versions/4.1/Resources/library/IRanges/include' -I'/Library/Frameworks/R.framework/Versions/4.1/Resources/library/XVector/include' -I'/Library/Frameworks/R.framework/Versions/4.1/Resources/library/Biostrings/include' -I/usr/local/include   -fPIC  -Wall -g -O2  -c as_bam.c -o as_bam.o
clang -mmacosx-version-min=10.13 -I"/Library/Frameworks/R.framework/Resources/include" -DNDEBUG -D_FILE_OFFSET_BITS=64 -I'/Library/Frameworks/R.framework/Versions/4.1/Resources/library/Rhtslib/include' -I'/Library/Frameworks/R.framework/Versions/4.1/Resources/library/S4Vectors/include' -I'/Library/Frameworks/R.framework/Versions/4.1/Resources/library/IRanges/include' -I'/Library/Frameworks/R.framework/Versions/4.1/Resources/library/XVector/include' -I'/Library/Frameworks/R.framework/Versions/4.1/Resources/library/Biostrings/include' -I/usr/local/include   -fPIC  -Wall -g -O2  -c bam.c -o bam.o
clang -mmacosx-version-min=10.13 -I"/Library/Frameworks/R.framework/Resources/include" -DNDEBUG -D_FILE_OFFSET_BITS=64 -I'/Library/Frameworks/R.framework/Versions/4.1/Resources/library/Rhtslib/include' -I'/Library/Frameworks/R.framework/Versions/4.1/Resources/library/S4Vectors/include' -I'/Library/Frameworks/R.framework/Versions/4.1/Resources/library/IRanges/include' -I'/Library/Frameworks/R.framework/Versions/4.1/Resources/library/XVector/include' -I'/Library/Frameworks/R.framework/Versions/4.1/Resources/library/Biostrings/include' -I/usr/local/include   -fPIC  -Wall -g -O2  -c bam_data.c -o bam_data.o
clang++ -mmacosx-version-min=10.13 -std=gnu++14 -I"/Library/Frameworks/R.framework/Resources/include" -DNDEBUG -D_FILE_OFFSET_BITS=64 -I'/Library/Frameworks/R.framework/Versions/4.1/Resources/library/Rhtslib/include' -I'/Library/Frameworks/R.framework/Versions/4.1/Resources/library/S4Vectors/include' -I'/Library/Frameworks/R.framework/Versions/4.1/Resources/library/IRanges/include' -I'/Library/Frameworks/R.framework/Versions/4.1/Resources/library/XVector/include' -I'/Library/Frameworks/R.framework/Versions/4.1/Resources/library/Biostrings/include' -I/usr/local/include   -fPIC  -Wall -g -O2  -c bam_mate_iter.cpp -o bam_mate_iter.o
clang -mmacosx-version-min=10.13 -I"/Library/Frameworks/R.framework/Resources/include" -DNDEBUG -D_FILE_OFFSET_BITS=64 -I'/Library/Frameworks/R.framework/Versions/4.1/Resources/library/Rhtslib/include' -I'/Library/Frameworks/R.framework/Versions/4.1/Resources/library/S4Vectors/include' -I'/Library/Frameworks/R.framework/Versions/4.1/Resources/library/IRanges/include' -I'/Library/Frameworks/R.framework/Versions/4.1/Resources/library/XVector/include' -I'/Library/Frameworks/R.framework/Versions/4.1/Resources/library/Biostrings/include' -I/usr/local/include   -fPIC  -Wall -g -O2  -c bam_plbuf.c -o bam_plbuf.o
clang -mmacosx-version-min=10.13 -I"/Library/Frameworks/R.framework/Resources/include" -DNDEBUG -D_FILE_OFFSET_BITS=64 -I'/Library/Frameworks/R.framework/Versions/4.1/Resources/library/Rhtslib/include' -I'/Library/Frameworks/R.framework/Versions/4.1/Resources/library/S4Vectors/include' -I'/Library/Frameworks/R.framework/Versions/4.1/Resources/library/IRanges/include' -I'/Library/Frameworks/R.framework/Versions/4.1/Resources/library/XVector/include' -I'/Library/Frameworks/R.framework/Versions/4.1/Resources/library/Biostrings/include' -I/usr/local/include   -fPIC  -Wall -g -O2  -c bam_sort.c -o bam_sort.o
clang -mmacosx-version-min=10.13 -I"/Library/Frameworks/R.framework/Resources/include" -DNDEBUG -D_FILE_OFFSET_BITS=64 -I'/Library/Frameworks/R.framework/Versions/4.1/Resources/library/Rhtslib/include' -I'/Library/Frameworks/R.framework/Versions/4.1/Resources/library/S4Vectors/include' -I'/Library/Frameworks/R.framework/Versions/4.1/Resources/library/IRanges/include' -I'/Library/Frameworks/R.framework/Versions/4.1/Resources/library/XVector/include' -I'/Library/Frameworks/R.framework/Versions/4.1/Resources/library/Biostrings/include' -I/usr/local/include   -fPIC  -Wall -g -O2  -c bambuffer.c -o bambuffer.o
clang -mmacosx-version-min=10.13 -I"/Library/Frameworks/R.framework/Resources/include" -DNDEBUG -D_FILE_OFFSET_BITS=64 -I'/Library/Frameworks/R.framework/Versions/4.1/Resources/library/Rhtslib/include' -I'/Library/Frameworks/R.framework/Versions/4.1/Resources/library/S4Vectors/include' -I'/Library/Frameworks/R.framework/Versions/4.1/Resources/library/IRanges/include' -I'/Library/Frameworks/R.framework/Versions/4.1/Resources/library/XVector/include' -I'/Library/Frameworks/R.framework/Versions/4.1/Resources/library/Biostrings/include' -I/usr/local/include   -fPIC  -Wall -g -O2  -c bamfile.c -o bamfile.o
clang -mmacosx-version-min=10.13 -I"/Library/Frameworks/R.framework/Resources/include" -DNDEBUG -D_FILE_OFFSET_BITS=64 -I'/Library/Frameworks/R.framework/Versions/4.1/Resources/library/Rhtslib/include' -I'/Library/Frameworks/R.framework/Versions/4.1/Resources/library/S4Vectors/include' -I'/Library/Frameworks/R.framework/Versions/4.1/Resources/library/IRanges/include' -I'/Library/Frameworks/R.framework/Versions/4.1/Resources/library/XVector/include' -I'/Library/Frameworks/R.framework/Versions/4.1/Resources/library/Biostrings/include' -I/usr/local/include   -fPIC  -Wall -g -O2  -c bcffile.c -o bcffile.o
clang -mmacosx-version-min=10.13 -I"/Library/Frameworks/R.framework/Resources/include" -DNDEBUG -D_FILE_OFFSET_BITS=64 -I'/Library/Frameworks/R.framework/Versions/4.1/Resources/library/Rhtslib/include' -I'/Library/Frameworks/R.framework/Versions/4.1/Resources/library/S4Vectors/include' -I'/Library/Frameworks/R.framework/Versions/4.1/Resources/library/IRanges/include' -I'/Library/Frameworks/R.framework/Versions/4.1/Resources/library/XVector/include' -I'/Library/Frameworks/R.framework/Versions/4.1/Resources/library/Biostrings/include' -I/usr/local/include   -fPIC  -Wall -g -O2  -c encode.c -o encode.o
clang -mmacosx-version-min=10.13 -I"/Library/Frameworks/R.framework/Resources/include" -DNDEBUG -D_FILE_OFFSET_BITS=64 -I'/Library/Frameworks/R.framework/Versions/4.1/Resources/library/Rhtslib/include' -I'/Library/Frameworks/R.framework/Versions/4.1/Resources/library/S4Vectors/include' -I'/Library/Frameworks/R.framework/Versions/4.1/Resources/library/IRanges/include' -I'/Library/Frameworks/R.framework/Versions/4.1/Resources/library/XVector/include' -I'/Library/Frameworks/R.framework/Versions/4.1/Resources/library/Biostrings/include' -I/usr/local/include   -fPIC  -Wall -g -O2  -c fafile.c -o fafile.o
clang -mmacosx-version-min=10.13 -I"/Library/Frameworks/R.framework/Resources/include" -DNDEBUG -D_FILE_OFFSET_BITS=64 -I'/Library/Frameworks/R.framework/Versions/4.1/Resources/library/Rhtslib/include' -I'/Library/Frameworks/R.framework/Versions/4.1/Resources/library/S4Vectors/include' -I'/Library/Frameworks/R.framework/Versions/4.1/Resources/library/IRanges/include' -I'/Library/Frameworks/R.framework/Versions/4.1/Resources/library/XVector/include' -I'/Library/Frameworks/R.framework/Versions/4.1/Resources/library/Biostrings/include' -I/usr/local/include   -fPIC  -Wall -g -O2  -c idxstats.c -o idxstats.o
clang -mmacosx-version-min=10.13 -I"/Library/Frameworks/R.framework/Resources/include" -DNDEBUG -D_FILE_OFFSET_BITS=64 -I'/Library/Frameworks/R.framework/Versions/4.1/Resources/library/Rhtslib/include' -I'/Library/Frameworks/R.framework/Versions/4.1/Resources/library/S4Vectors/include' -I'/Library/Frameworks/R.framework/Versions/4.1/Resources/library/IRanges/include' -I'/Library/Frameworks/R.framework/Versions/4.1/Resources/library/XVector/include' -I'/Library/Frameworks/R.framework/Versions/4.1/Resources/library/Biostrings/include' -I/usr/local/include   -fPIC  -Wall -g -O2  -c io_sam.c -o io_sam.o
clang++ -mmacosx-version-min=10.13 -std=gnu++14 -I"/Library/Frameworks/R.framework/Resources/include" -DNDEBUG -D_FILE_OFFSET_BITS=64 -I'/Library/Frameworks/R.framework/Versions/4.1/Resources/library/Rhtslib/include' -I'/Library/Frameworks/R.framework/Versions/4.1/Resources/library/S4Vectors/include' -I'/Library/Frameworks/R.framework/Versions/4.1/Resources/library/IRanges/include' -I'/Library/Frameworks/R.framework/Versions/4.1/Resources/library/XVector/include' -I'/Library/Frameworks/R.framework/Versions/4.1/Resources/library/Biostrings/include' -I/usr/local/include   -fPIC  -Wall -g -O2  -c pbuffer_wrapper.cpp -o pbuffer_wrapper.o
clang++ -mmacosx-version-min=10.13 -std=gnu++14 -I"/Library/Frameworks/R.framework/Resources/include" -DNDEBUG -D_FILE_OFFSET_BITS=64 -I'/Library/Frameworks/R.framework/Versions/4.1/Resources/library/Rhtslib/include' -I'/Library/Frameworks/R.framework/Versions/4.1/Resources/library/S4Vectors/include' -I'/Library/Frameworks/R.framework/Versions/4.1/Resources/library/IRanges/include' -I'/Library/Frameworks/R.framework/Versions/4.1/Resources/library/XVector/include' -I'/Library/Frameworks/R.framework/Versions/4.1/Resources/library/Biostrings/include' -I/usr/local/include   -fPIC  -Wall -g -O2  -c pileup.cpp -o pileup.o
clang -mmacosx-version-min=10.13 -I"/Library/Frameworks/R.framework/Resources/include" -DNDEBUG -D_FILE_OFFSET_BITS=64 -I'/Library/Frameworks/R.framework/Versions/4.1/Resources/library/Rhtslib/include' -I'/Library/Frameworks/R.framework/Versions/4.1/Resources/library/S4Vectors/include' -I'/Library/Frameworks/R.framework/Versions/4.1/Resources/library/IRanges/include' -I'/Library/Frameworks/R.framework/Versions/4.1/Resources/library/XVector/include' -I'/Library/Frameworks/R.framework/Versions/4.1/Resources/library/Biostrings/include' -I/usr/local/include   -fPIC  -Wall -g -O2  -c pileupbam.c -o pileupbam.o
clang -mmacosx-version-min=10.13 -I"/Library/Frameworks/R.framework/Resources/include" -DNDEBUG -D_FILE_OFFSET_BITS=64 -I'/Library/Frameworks/R.framework/Versions/4.1/Resources/library/Rhtslib/include' -I'/Library/Frameworks/R.framework/Versions/4.1/Resources/library/S4Vectors/include' -I'/Library/Frameworks/R.framework/Versions/4.1/Resources/library/IRanges/include' -I'/Library/Frameworks/R.framework/Versions/4.1/Resources/library/XVector/include' -I'/Library/Frameworks/R.framework/Versions/4.1/Resources/library/Biostrings/include' -I/usr/local/include   -fPIC  -Wall -g -O2  -c sam.c -o sam.o
clang -mmacosx-version-min=10.13 -I"/Library/Frameworks/R.framework/Resources/include" -DNDEBUG -D_FILE_OFFSET_BITS=64 -I'/Library/Frameworks/R.framework/Versions/4.1/Resources/library/Rhtslib/include' -I'/Library/Frameworks/R.framework/Versions/4.1/Resources/library/S4Vectors/include' -I'/Library/Frameworks/R.framework/Versions/4.1/Resources/library/IRanges/include' -I'/Library/Frameworks/R.framework/Versions/4.1/Resources/library/XVector/include' -I'/Library/Frameworks/R.framework/Versions/4.1/Resources/library/Biostrings/include' -I/usr/local/include   -fPIC  -Wall -g -O2  -c sam_opts.c -o sam_opts.o
clang -mmacosx-version-min=10.13 -I"/Library/Frameworks/R.framework/Resources/include" -DNDEBUG -D_FILE_OFFSET_BITS=64 -I'/Library/Frameworks/R.framework/Versions/4.1/Resources/library/Rhtslib/include' -I'/Library/Frameworks/R.framework/Versions/4.1/Resources/library/S4Vectors/include' -I'/Library/Frameworks/R.framework/Versions/4.1/Resources/library/IRanges/include' -I'/Library/Frameworks/R.framework/Versions/4.1/Resources/library/XVector/include' -I'/Library/Frameworks/R.framework/Versions/4.1/Resources/library/Biostrings/include' -I/usr/local/include   -fPIC  -Wall -g -O2  -c sam_utils.c -o sam_utils.o
clang -mmacosx-version-min=10.13 -I"/Library/Frameworks/R.framework/Resources/include" -DNDEBUG -D_FILE_OFFSET_BITS=64 -I'/Library/Frameworks/R.framework/Versions/4.1/Resources/library/Rhtslib/include' -I'/Library/Frameworks/R.framework/Versions/4.1/Resources/library/S4Vectors/include' -I'/Library/Frameworks/R.framework/Versions/4.1/Resources/library/IRanges/include' -I'/Library/Frameworks/R.framework/Versions/4.1/Resources/library/XVector/include' -I'/Library/Frameworks/R.framework/Versions/4.1/Resources/library/Biostrings/include' -I/usr/local/include   -fPIC  -Wall -g -O2  -c samtools_patch.c -o samtools_patch.o
clang -mmacosx-version-min=10.13 -I"/Library/Frameworks/R.framework/Resources/include" -DNDEBUG -D_FILE_OFFSET_BITS=64 -I'/Library/Frameworks/R.framework/Versions/4.1/Resources/library/Rhtslib/include' -I'/Library/Frameworks/R.framework/Versions/4.1/Resources/library/S4Vectors/include' -I'/Library/Frameworks/R.framework/Versions/4.1/Resources/library/IRanges/include' -I'/Library/Frameworks/R.framework/Versions/4.1/Resources/library/XVector/include' -I'/Library/Frameworks/R.framework/Versions/4.1/Resources/library/Biostrings/include' -I/usr/local/include   -fPIC  -Wall -g -O2  -c scan_bam_data.c -o scan_bam_data.o
clang -mmacosx-version-min=10.13 -I"/Library/Frameworks/R.framework/Resources/include" -DNDEBUG -D_FILE_OFFSET_BITS=64 -I'/Library/Frameworks/R.framework/Versions/4.1/Resources/library/Rhtslib/include' -I'/Library/Frameworks/R.framework/Versions/4.1/Resources/library/S4Vectors/include' -I'/Library/Frameworks/R.framework/Versions/4.1/Resources/library/IRanges/include' -I'/Library/Frameworks/R.framework/Versions/4.1/Resources/library/XVector/include' -I'/Library/Frameworks/R.framework/Versions/4.1/Resources/library/Biostrings/include' -I/usr/local/include   -fPIC  -Wall -g -O2  -c tabixfile.c -o tabixfile.o
tabixfile.c:190:9: warning: 'bgzf_is_bgzf' is deprecated: Use bgzf_compression() or hts_detect_format() instead [-Wdeprecated-declarations]
    if (bgzf_is_bgzf(fn) != 1)
        ^
/Library/Frameworks/R.framework/Versions/4.1/Resources/library/Rhtslib/include/htslib/bgzf.h:243:38: note: 'bgzf_is_bgzf' has been explicitly marked deprecated here
    int bgzf_is_bgzf(const char *fn) HTS_DEPRECATED("Use bgzf_compression() or hts_detect_format() instead");
                                     ^
/Library/Frameworks/R.framework/Versions/4.1/Resources/library/Rhtslib/include/htslib/hts_defs.h:65:49: note: expanded from macro 'HTS_DEPRECATED'
#define HTS_DEPRECATED(message) __attribute__ ((__deprecated__ (message)))
                                                ^
1 warning generated.
clang -mmacosx-version-min=10.13 -I"/Library/Frameworks/R.framework/Resources/include" -DNDEBUG -D_FILE_OFFSET_BITS=64 -I'/Library/Frameworks/R.framework/Versions/4.1/Resources/library/Rhtslib/include' -I'/Library/Frameworks/R.framework/Versions/4.1/Resources/library/S4Vectors/include' -I'/Library/Frameworks/R.framework/Versions/4.1/Resources/library/IRanges/include' -I'/Library/Frameworks/R.framework/Versions/4.1/Resources/library/XVector/include' -I'/Library/Frameworks/R.framework/Versions/4.1/Resources/library/Biostrings/include' -I/usr/local/include   -fPIC  -Wall -g -O2  -c tagfilter.c -o tagfilter.o
clang -mmacosx-version-min=10.13 -I"/Library/Frameworks/R.framework/Resources/include" -DNDEBUG -D_FILE_OFFSET_BITS=64 -I'/Library/Frameworks/R.framework/Versions/4.1/Resources/library/Rhtslib/include' -I'/Library/Frameworks/R.framework/Versions/4.1/Resources/library/S4Vectors/include' -I'/Library/Frameworks/R.framework/Versions/4.1/Resources/library/IRanges/include' -I'/Library/Frameworks/R.framework/Versions/4.1/Resources/library/XVector/include' -I'/Library/Frameworks/R.framework/Versions/4.1/Resources/library/Biostrings/include' -I/usr/local/include   -fPIC  -Wall -g -O2  -c utilities.c -o utilities.o
clang -mmacosx-version-min=10.13 -I"/Library/Frameworks/R.framework/Resources/include" -DNDEBUG -D_FILE_OFFSET_BITS=64 -I'/Library/Frameworks/R.framework/Versions/4.1/Resources/library/Rhtslib/include' -I'/Library/Frameworks/R.framework/Versions/4.1/Resources/library/S4Vectors/include' -I'/Library/Frameworks/R.framework/Versions/4.1/Resources/library/IRanges/include' -I'/Library/Frameworks/R.framework/Versions/4.1/Resources/library/XVector/include' -I'/Library/Frameworks/R.framework/Versions/4.1/Resources/library/Biostrings/include' -I/usr/local/include   -fPIC  -Wall -g -O2  -c zip_compression.c -o zip_compression.o
clang++ -mmacosx-version-min=10.13 -std=gnu++14 -dynamiclib -Wl,-headerpad_max_install_names -undefined dynamic_lookup -single_module -multiply_defined suppress -L/Library/Frameworks/R.framework/Resources/lib -L/usr/local/lib -o Rsamtools.so Biostrings_stubs.o COMPAT_bcf_hdr_read.o IRanges_stubs.o PileupBuffer.o PosCacheColl.o R_init_Rsamtools.o ResultManager.o S4Vectors_stubs.o XVector_stubs.o as_bam.o bam.o bam_data.o bam_mate_iter.o bam_plbuf.o bam_sort.o bambuffer.o bamfile.o bcffile.o encode.o fafile.o idxstats.o io_sam.o pbuffer_wrapper.o pileup.o pileupbam.o sam.o sam_opts.o sam_utils.o samtools_patch.o scan_bam_data.o tabixfile.o tagfilter.o utilities.o zip_compression.o /Library/Frameworks/R.framework/Versions/4.1/Resources/library/Rhtslib/usrlib/libhts.a -lcurl -F/Library/Frameworks/R.framework/.. -framework R -Wl,-framework -Wl,CoreFoundation
installing to /Library/Frameworks/R.framework/Versions/4.1/Resources/library/00LOCK-Rsamtools/00new/Rsamtools/libs
** R
** inst
** byte-compile and prepare package for lazy loading
** help
*** installing help indices
** building package indices
** installing vignettes
** testing if installed package can be loaded from temporary location
** checking absolute paths in shared objects and dynamic libraries
** testing if installed package can be loaded from final location
** testing if installed package keeps a record of temporary installation path
* DONE (Rsamtools)