Back to Multiple platform build/check report for BioC 3.14
ABCDEFGHIJKLMNOPQ[R]STUVWXYZ

This page was generated on 2021-09-22 12:05:22 -0400 (Wed, 22 Sep 2021).

INSTALL results for RegEnrich on riesling1

To the developers/maintainers of the RegEnrich package:
- Please allow up to 24 hours (and sometimes 48 hours) for your latest push to git@git.bioconductor.org:packages/RegEnrich.git to
reflect on this report. See How and When does the builder pull? When will my changes propagate? here for more information.
- Make sure to use the following settings in order to reproduce any error or warning you see on this page.

raw results

Package 1534/2029HostnameOS / ArchINSTALLBUILDCHECKBUILD BIN
RegEnrich 1.3.1  (landing page)
Weiyang Tao
Snapshot Date: 2021-09-21 14:50:05 -0400 (Tue, 21 Sep 2021)
git_url: https://git.bioconductor.org/packages/RegEnrich
git_branch: master
git_last_commit: 2e41cd7
git_last_commit_date: 2021-07-31 02:42:10 -0400 (Sat, 31 Jul 2021)
nebbiolo2Linux (Ubuntu 20.04.2 LTS) / x86_64  OK    OK    OK  UNNEEDED, same version is already published
riesling1Windows Server 2019 Standard / x64  OK    ERROR  skippedskipped
merida1macOS 10.14.6 Mojave / x86_64  OK    OK    OK    OK  UNNEEDED, same version is already published

Summary

Package: RegEnrich
Version: 1.3.1
Command: C:\cygwin\bin\curl.exe -O http://155.52.207.166/BBS/3.14/bioc/src/contrib/RegEnrich_1.3.1.tar.gz && rm -rf RegEnrich.buildbin-libdir && mkdir RegEnrich.buildbin-libdir && D:\biocbuild\bbs-3.14-bioc\R\bin\R.exe CMD INSTALL --merge-multiarch --build --library=RegEnrich.buildbin-libdir RegEnrich_1.3.1.tar.gz && D:\biocbuild\bbs-3.14-bioc\R\bin\R.exe CMD INSTALL RegEnrich_1.3.1.zip && rm RegEnrich_1.3.1.tar.gz RegEnrich_1.3.1.zip
StartedAt: 2021-09-21 18:17:01 -0400 (Tue, 21 Sep 2021)
EndedAt: 2021-09-21 18:20:00 -0400 (Tue, 21 Sep 2021)
EllapsedTime: 179.3 seconds
RetCode: 0
Status:   OK  

Command output

##############################################################################
##############################################################################
###
### Running command:
###
###   C:\cygwin\bin\curl.exe -O http://155.52.207.166/BBS/3.14/bioc/src/contrib/RegEnrich_1.3.1.tar.gz && rm -rf RegEnrich.buildbin-libdir && mkdir RegEnrich.buildbin-libdir && D:\biocbuild\bbs-3.14-bioc\R\bin\R.exe CMD INSTALL --merge-multiarch --build --library=RegEnrich.buildbin-libdir RegEnrich_1.3.1.tar.gz && D:\biocbuild\bbs-3.14-bioc\R\bin\R.exe CMD INSTALL RegEnrich_1.3.1.zip && rm RegEnrich_1.3.1.tar.gz RegEnrich_1.3.1.zip
###
##############################################################################
##############################################################################


  % Total    % Received % Xferd  Average Speed   Time    Time     Time  Current
                                 Dload  Upload   Total   Spent    Left  Speed

  0     0    0     0    0     0      0      0 --:--:-- --:--:-- --:--:--     0
  4  950k    4 40527    0     0   260k      0  0:00:03 --:--:--  0:00:03  260k
100  950k  100  950k    0     0  2319k      0 --:--:-- --:--:-- --:--:-- 2319k

install for i386

* installing *source* package 'RegEnrich' ...
** using staged installation
** R
** data
** byte-compile and prepare package for lazy loading
** help
*** installing help indices
  converting help for package 'RegEnrich'
    finding HTML links ... done
    DeaSet-class                            html  
    Enrich-class                            html  
    Lyme_GSE63085                           html  
    RegenrichSet-class                      html  
    RegenrichSet                            html  
    finding level-2 HTML links ... done

    Score                                   html  
    TFs                                     html  
    TopNetwork-class                        html  
    dim-TopNetwork-method                   html  
    getResultsNames                         html  
    headTailScore                           html  
    methodsOfShow                           html  
    newDeaSet                               html  
    newTopNetwork                           html  
    plotOrders                              html  
    plotRegTarExpr                          html  
    plotSoftPower                           html  
    plot_Enrich                             html  
    print.Score                             html  
    reexports                               html  
    regenrich_diffExpr                      html  
    regenrich_enrich                        html  
    regenrich_network                       html  
    regenrich_rankScore                     html  
    results_expr                            html  
** building package indices
** installing vignettes
** testing if installed package can be loaded from temporary location
** testing if installed package can be loaded from final location
** testing if installed package keeps a record of temporary installation path

install for x64

* installing *source* package 'RegEnrich' ...
** testing if installed package can be loaded
* MD5 sums
packaged installation of 'RegEnrich' as RegEnrich_1.3.1.zip
* DONE (RegEnrich)
* installing to library 'D:/biocbuild/bbs-3.14-bioc/R/library'
package 'RegEnrich' successfully unpacked and MD5 sums checked