Back to Multiple platform build/check report for BioC 3.14
ABCDEFGHIJKLMNOPQ[R]STUVWXYZ

This page was generated on 2021-12-06 13:05:09 -0500 (Mon, 06 Dec 2021).

INSTALL results for RefPlus on nebbiolo2

To the developers/maintainers of the RefPlus package:
- Please allow up to 24 hours (and sometimes 48 hours) for your latest push to git@git.bioconductor.org:packages/RefPlus.git to
reflect on this report. See How and When does the builder pull? When will my changes propagate? here for more information.
- Make sure to use the following settings in order to reproduce any error or warning you see on this page.

raw results

Package 1571/2083HostnameOS / ArchINSTALLBUILDCHECKBUILD BIN
RefPlus 1.64.0  (landing page)
Kai-Ming Chang
Snapshot Date: 2021-12-05 01:55:05 -0500 (Sun, 05 Dec 2021)
git_url: https://git.bioconductor.org/packages/RefPlus
git_branch: RELEASE_3_14
git_last_commit: 9930f72
git_last_commit_date: 2021-10-26 11:50:39 -0500 (Tue, 26 Oct 2021)
nebbiolo2Linux (Ubuntu 20.04.3 LTS) / x86_64  OK    OK    OK  UNNEEDED, same version is already published
tokay2Windows Server 2012 R2 Standard / x64  OK    OK    OK    OK  UNNEEDED, same version is already published
machv2macOS 10.14.6 Mojave / x86_64  OK    OK    OK    OK  UNNEEDED, same version is already published

Summary

Package: RefPlus
Version: 1.64.0
Command: /home/biocbuild/bbs-3.14-bioc/R/bin/R CMD INSTALL RefPlus
StartedAt: 2021-12-05 03:19:13 -0500 (Sun, 05 Dec 2021)
EndedAt: 2021-12-05 03:19:24 -0500 (Sun, 05 Dec 2021)
EllapsedTime: 10.8 seconds
RetCode: 0
Status:   OK  

Command output

##############################################################################
##############################################################################
###
### Running command:
###
###   /home/biocbuild/bbs-3.14-bioc/R/bin/R CMD INSTALL RefPlus
###
##############################################################################
##############################################################################


* installing to library ‘/home/biocbuild/bbs-3.14-bioc/R/library’
* installing *source* package ‘RefPlus’ ...
** using staged installation
** R
** byte-compile and prepare package for lazy loading
** help
*** installing help indices
** building package indices
** installing vignettes
** testing if installed package can be loaded from temporary location
** testing if installed package can be loaded from final location
** testing if installed package keeps a record of temporary installation path
* DONE (RefPlus)