Back to Multiple platform build/check report for BioC 3.14
ABCDEFGHIJKLMNOPQ[R]STUVWXYZ

This page was generated on 2021-12-06 13:06:11 -0500 (Mon, 06 Dec 2021).

BUILD results for RefPlus on machv2

To the developers/maintainers of the RefPlus package:
- Please allow up to 24 hours (and sometimes 48 hours) for your latest push to git@git.bioconductor.org:packages/RefPlus.git to
reflect on this report. See How and When does the builder pull? When will my changes propagate? here for more information.
- Make sure to use the following settings in order to reproduce any error or warning you see on this page.

raw results

Package 1571/2083HostnameOS / ArchINSTALLBUILDCHECKBUILD BIN
RefPlus 1.64.0  (landing page)
Kai-Ming Chang
Snapshot Date: 2021-12-05 01:55:05 -0500 (Sun, 05 Dec 2021)
git_url: https://git.bioconductor.org/packages/RefPlus
git_branch: RELEASE_3_14
git_last_commit: 9930f72
git_last_commit_date: 2021-10-26 11:50:39 -0500 (Tue, 26 Oct 2021)
nebbiolo2Linux (Ubuntu 20.04.3 LTS) / x86_64  OK    OK    OK  UNNEEDED, same version is already published
tokay2Windows Server 2012 R2 Standard / x64  OK    OK    OK    OK  UNNEEDED, same version is already published
machv2macOS 10.14.6 Mojave / x86_64  OK    OK    OK    OK  UNNEEDED, same version is already published

Summary

Package: RefPlus
Version: 1.64.0
Command: /Library/Frameworks/R.framework/Resources/bin/R CMD build --keep-empty-dirs --no-resave-data RefPlus
StartedAt: 2021-12-05 09:42:07 -0500 (Sun, 05 Dec 2021)
EndedAt: 2021-12-05 09:42:41 -0500 (Sun, 05 Dec 2021)
EllapsedTime: 34.7 seconds
RetCode: 0
Status:   OK  
PackageFile: RefPlus_1.64.0.tar.gz
PackageFileSize: 1.402 MiB

Command output

##############################################################################
##############################################################################
###
### Running command:
###
###   /Library/Frameworks/R.framework/Resources/bin/R CMD build --keep-empty-dirs --no-resave-data RefPlus
###
##############################################################################
##############################################################################


* checking for file ‘RefPlus/DESCRIPTION’ ... OK
* preparing ‘RefPlus’:
* checking DESCRIPTION meta-information ... OK
* installing the package to build vignettes
* creating vignettes ... OK
* checking for LF line-endings in source and make files and shell scripts
* checking for empty or unneeded directories
* building ‘RefPlus_1.64.0.tar.gz’