![]() | Name | Last modified | Size | Description |
---|---|---|---|---|
![]() | Parent Directory | - | ||
![]() | install-summary.dcf | 14-Apr-2022 01:05 | 253 | |
![]() | buildsrc-summary.dcf | 14-Apr-2022 01:05 | 408 | |
![]() | checksrc-summary.dcf | 14-Apr-2022 01:05 | 411 | |
![]() | install-out.txt | 14-Apr-2022 01:05 | 790 | |
![]() | buildsrc-out.txt | 14-Apr-2022 01:05 | 834 | |
![]() | checksrc-out.txt | 14-Apr-2022 01:05 | 3.4K | |