Back to Multiple platform build/check report for BioC 3.14
ABCDEFGHIJKLMNOPQ[R]STUVWXYZ

This page was generated on 2021-11-26 15:05:01 -0500 (Fri, 26 Nov 2021).

INSTALL results for Rcwl on nebbiolo2

To the developers/maintainers of the Rcwl package:
- Please allow up to 24 hours (and sometimes 48 hours) for your latest push to git@git.bioconductor.org:packages/Rcwl.git to
reflect on this report. See How and When does the builder pull? When will my changes propagate? here for more information.
- Make sure to use the following settings in order to reproduce any error or warning you see on this page.

raw results

Package 1549/2083HostnameOS / ArchINSTALLBUILDCHECKBUILD BIN
Rcwl 1.10.0  (landing page)
Qiang Hu
Snapshot Date: 2021-11-25 04:15:05 -0500 (Thu, 25 Nov 2021)
git_url: https://git.bioconductor.org/packages/Rcwl
git_branch: RELEASE_3_14
git_last_commit: 36acaa0
git_last_commit_date: 2021-10-26 12:49:26 -0500 (Tue, 26 Oct 2021)
nebbiolo2Linux (Ubuntu 20.04.3 LTS) / x86_64  OK    OK    OK  UNNEEDED, same version is already published
tokay2Windows Server 2012 R2 Standard / x64... NOT SUPPORTED ...
machv2macOS 10.14.6 Mojave / x86_64  OK    OK    OK    OK  UNNEEDED, same version is already published

Summary

Package: Rcwl
Version: 1.10.0
Command: /home/biocbuild/bbs-3.14-bioc/R/bin/R CMD INSTALL Rcwl
StartedAt: 2021-11-25 05:34:10 -0500 (Thu, 25 Nov 2021)
EndedAt: 2021-11-25 05:34:19 -0500 (Thu, 25 Nov 2021)
EllapsedTime: 9.1 seconds
RetCode: 0
Status:   OK  

Command output

##############################################################################
##############################################################################
###
### Running command:
###
###   /home/biocbuild/bbs-3.14-bioc/R/bin/R CMD INSTALL Rcwl
###
##############################################################################
##############################################################################


* installing to library ‘/home/biocbuild/bbs-3.14-bioc/R/library’
* installing *source* package ‘Rcwl’ ...
** using non-staged installation via StagedInstall field
** R
** byte-compile and prepare package for lazy loading
** help
*** installing help indices
** building package indices
** installing vignettes
** testing if installed package can be loaded
* DONE (Rcwl)