![]() | Name | Last modified | Size | Description |
---|---|---|---|---|
![]() | Parent Directory | - | ||
![]() | install-summary.dcf | 14-Apr-2022 01:07 | 668 | |
![]() | install-out.txt | 14-Apr-2022 01:07 | 3.2K | |
![]() | checksrc-summary.dcf | 12-Apr-2022 01:06 | 480 | |
![]() | checksrc-out.txt | 12-Apr-2022 01:06 | 5.9K | |
![]() | buildsrc-summary.dcf | 14-Apr-2022 01:07 | 384 | |
![]() | buildsrc-out.txt | 14-Apr-2022 01:07 | 1.6K | |
![]() | buildbin-summary.dcf | 12-Apr-2022 01:06 | 557 | |
![]() | buildbin-out.txt | 12-Apr-2022 01:06 | 2.1K | |