![]() | Name | Last modified | Size | Description |
---|---|---|---|---|
![]() | Parent Directory | - | ||
![]() | checksrc-summary.dcf | 14-Apr-2022 01:05 | 442 | |
![]() | checksrc-out.txt | 14-Apr-2022 01:05 | 5.0K | |
![]() | buildsrc-summary.dcf | 14-Apr-2022 01:05 | 426 | |
![]() | buildsrc-out.txt | 14-Apr-2022 01:05 | 1.1K | |
![]() | install-summary.dcf | 14-Apr-2022 01:05 | 265 | |
![]() | install-out.txt | 14-Apr-2022 01:05 | 964 | |