Back to Multiple platform build/check report for BioC 3.14
ABCDEFGHIJKLMNOPQ[R]STUVWXYZ

This page was generated on 2021-11-29 15:05:05 -0500 (Mon, 29 Nov 2021).

CHECK results for RadioGx on nebbiolo2

To the developers/maintainers of the RadioGx package:
- Please allow up to 24 hours (and sometimes 48 hours) for your latest push to git@git.bioconductor.org:packages/RadioGx.git to
reflect on this report. See How and When does the builder pull? When will my changes propagate? here for more information.
- Make sure to use the following settings in order to reproduce any error or warning you see on this page.

raw results

Package 1519/2083HostnameOS / ArchINSTALLBUILDCHECKBUILD BIN
RadioGx 1.4.0  (landing page)
Benjamin Haibe-Kains
Snapshot Date: 2021-11-28 04:15:06 -0500 (Sun, 28 Nov 2021)
git_url: https://git.bioconductor.org/packages/RadioGx
git_branch: RELEASE_3_14
git_last_commit: b51a819
git_last_commit_date: 2021-10-26 13:00:29 -0500 (Tue, 26 Oct 2021)
nebbiolo2Linux (Ubuntu 20.04.3 LTS) / x86_64  OK    OK    OK  UNNEEDED, same version is already published
tokay2Windows Server 2012 R2 Standard / x64  OK    OK    OK    OK  UNNEEDED, same version is already published
machv2macOS 10.14.6 Mojave / x86_64  OK    OK    OK    OK  UNNEEDED, same version is already published

Summary

Package: RadioGx
Version: 1.4.0
Command: /home/biocbuild/bbs-3.14-bioc/R/bin/R CMD check --install=check:RadioGx.install-out.txt --library=/home/biocbuild/bbs-3.14-bioc/R/library --no-vignettes --timings RadioGx_1.4.0.tar.gz
StartedAt: 2021-11-28 10:33:57 -0500 (Sun, 28 Nov 2021)
EndedAt: 2021-11-28 10:37:17 -0500 (Sun, 28 Nov 2021)
EllapsedTime: 199.9 seconds
RetCode: 0
Status:   OK  
CheckDir: RadioGx.Rcheck
Warnings: 0

Command output

##############################################################################
##############################################################################
###
### Running command:
###
###   /home/biocbuild/bbs-3.14-bioc/R/bin/R CMD check --install=check:RadioGx.install-out.txt --library=/home/biocbuild/bbs-3.14-bioc/R/library --no-vignettes --timings RadioGx_1.4.0.tar.gz
###
##############################################################################
##############################################################################


* using log directory ‘/home/biocbuild/bbs-3.14-bioc/meat/RadioGx.Rcheck’
* using R version 4.1.2 (2021-11-01)
* using platform: x86_64-pc-linux-gnu (64-bit)
* using session charset: UTF-8
* using option ‘--no-vignettes’
* checking for file ‘RadioGx/DESCRIPTION’ ... OK
* checking extension type ... Package
* this is package ‘RadioGx’ version ‘1.4.0’
* package encoding: UTF-8
* checking package namespace information ... OK
* checking package dependencies ... OK
* checking if this is a source package ... OK
* checking if there is a namespace ... OK
* checking for hidden files and directories ... OK
* checking for portable file names ... OK
* checking for sufficient/correct file permissions ... OK
* checking whether package ‘RadioGx’ can be installed ... OK
* checking installed package size ... OK
* checking package directory ... OK
* checking ‘build’ directory ... OK
* checking DESCRIPTION meta-information ... OK
* checking top-level files ... OK
* checking for left-over files ... OK
* checking index information ... OK
* checking package subdirectories ... OK
* checking R files for non-ASCII characters ... OK
* checking R files for syntax errors ... OK
* checking whether the package can be loaded ... OK
* checking whether the package can be loaded with stated dependencies ... OK
* checking whether the package can be unloaded cleanly ... OK
* checking whether the namespace can be loaded with stated dependencies ... OK
* checking whether the namespace can be unloaded cleanly ... OK
* checking dependencies in R code ... OK
* checking S3 generic/method consistency ... OK
* checking replacement functions ... OK
* checking foreign function calls ... OK
* checking R code for possible problems ... OK
* checking Rd files ... OK
* checking Rd metadata ... OK
* checking Rd cross-references ... OK
* checking for missing documentation entries ... OK
* checking for code/documentation mismatches ... OK
* checking Rd \usage sections ... OK
* checking Rd contents ... OK
* checking for unstated dependencies in examples ... OK
* checking contents of ‘data’ directory ... OK
* checking data for non-ASCII characters ... NOTE
  Note: found 14 marked UTF-8 strings
* checking LazyData ... OK
* checking data for ASCII and uncompressed saves ... OK
* checking files in ‘vignettes’ ... OK
* checking examples ... OK
Examples with CPU (user + system) or elapsed time > 5s
               user system elapsed
RadioSet-class 9.45  0.268   9.718
* checking for unstated dependencies in vignettes ... OK
* checking package vignettes in ‘inst/doc’ ... OK
* checking running R code from vignettes ... SKIPPED
* checking re-building of vignette outputs ... SKIPPED
* checking PDF version of manual ... OK
* DONE

Status: 1 NOTE
See
  ‘/home/biocbuild/bbs-3.14-bioc/meat/RadioGx.Rcheck/00check.log’
for details.



Installation output

RadioGx.Rcheck/00install.out

##############################################################################
##############################################################################
###
### Running command:
###
###   /home/biocbuild/bbs-3.14-bioc/R/bin/R CMD INSTALL RadioGx
###
##############################################################################
##############################################################################


* installing to library ‘/home/biocbuild/bbs-3.14-bioc/R/library’
* installing *source* package ‘RadioGx’ ...
** using staged installation
** R
** data
*** moving datasets to lazyload DB
** inst
** byte-compile and prepare package for lazy loading
** help
*** installing help indices
** building package indices
** installing vignettes
** testing if installed package can be loaded from temporary location
** testing if installed package can be loaded from final location
** testing if installed package keeps a record of temporary installation path
* DONE (RadioGx)

Tests output


Example timings

RadioGx.Rcheck/RadioGx-Ex.timings

nameusersystemelapsed
RadioSet-class9.4500.2689.718
availableRSets000
checkRSetStructure0.3660.0010.366
computeAUC0.0030.0000.003
computeD100.0010.0000.000
computeSF2000
dim-RadioSet-method0.9830.0120.996
doseResponseCurve0.0570.0000.058
downloadRSet000
linearQuadraticModel0.0020.0000.002
mDataNames-RadioSet-method0.0000.0000.001
plotCurve0.0160.0000.016
radSensitivitySig0.6370.0110.664
radiationInfo-set0.0010.0000.001
radiationInfo0.0010.0000.001
radiationTypes-set0.0040.0000.004
radiationTypes0.3140.0000.314
show-RadioSet-method0.3740.0000.374
show-RadioSig-method0.6000.0090.625
showSigAnnot-RadioSig-method0.6150.0070.619
subsetTo-RadioSet-method0.1220.0040.127
summarizeMolecularProfiles-RadioSet-method0.5250.0000.525
summarizeSensitivityProfiles-RadioSet-method0.3390.0000.339