Back to Multiple platform build/check report for BioC 3.14
ABCDEFGHIJKLMNOPQ[R]STUVWXYZ

This page was generated on 2022-01-21 13:07:02 -0500 (Fri, 21 Jan 2022).

HostnameOSArch (*)R versionInstalled pkgs
nebbiolo2Linux (Ubuntu 20.04.4 LTS)x86_644.1.2 (2021-11-01) -- "Bird Hippie" 4329
tokay2Windows Server 2012 R2 Standardx644.1.2 (2021-11-01) -- "Bird Hippie" 4079
machv2macOS 10.14.6 Mojavex86_644.1.2 (2021-11-01) -- "Bird Hippie" 4140
Click on any hostname to see more info about the system (e.g. compilers)      (*) as reported by 'uname -p', except on Windows and Mac OS X

INSTALL results for RUVcorr on tokay2


To the developers/maintainers of the RUVcorr package:
- Please allow up to 24 hours (and sometimes 48 hours) for your latest push to git@git.bioconductor.org:packages/RUVcorr.git to
reflect on this report. See How and When does the builder pull? When will my changes propagate? here for more information.
- Make sure to use the following settings in order to reproduce any error or warning you see on this page.

raw results

Package 1680/2083HostnameOS / ArchINSTALLBUILDCHECKBUILD BIN
RUVcorr 1.26.0  (landing page)
Saskia Freytag
Snapshot Date: 2022-01-20 01:55:04 -0500 (Thu, 20 Jan 2022)
git_url: https://git.bioconductor.org/packages/RUVcorr
git_branch: RELEASE_3_14
git_last_commit: 303fb49
git_last_commit_date: 2021-10-26 12:19:54 -0500 (Tue, 26 Oct 2021)
nebbiolo2Linux (Ubuntu 20.04.4 LTS) / x86_64  OK    OK    WARNINGS  UNNEEDED, same version is already published
tokay2Windows Server 2012 R2 Standard / x64  OK    OK    WARNINGS    OK  UNNEEDED, same version is already published
machv2macOS 10.14.6 Mojave / x86_64  OK    OK    WARNINGS    OK  UNNEEDED, same version is already published

Summary

Package: RUVcorr
Version: 1.26.0
Command: C:\cygwin\bin\curl.exe -O http://155.52.207.166/BBS/3.14/bioc/src/contrib/RUVcorr_1.26.0.tar.gz && rm -rf RUVcorr.buildbin-libdir && mkdir RUVcorr.buildbin-libdir && C:\Users\biocbuild\bbs-3.14-bioc\R\bin\R.exe CMD INSTALL --merge-multiarch --build --library=RUVcorr.buildbin-libdir RUVcorr_1.26.0.tar.gz && C:\Users\biocbuild\bbs-3.14-bioc\R\bin\R.exe CMD INSTALL RUVcorr_1.26.0.zip && rm RUVcorr_1.26.0.tar.gz RUVcorr_1.26.0.zip
StartedAt: 2022-01-20 05:34:46 -0500 (Thu, 20 Jan 2022)
EndedAt: 2022-01-20 05:36:13 -0500 (Thu, 20 Jan 2022)
EllapsedTime: 87.5 seconds
RetCode: 0
Status:   OK  

Command output

##############################################################################
##############################################################################
###
### Running command:
###
###   C:\cygwin\bin\curl.exe -O http://155.52.207.166/BBS/3.14/bioc/src/contrib/RUVcorr_1.26.0.tar.gz && rm -rf RUVcorr.buildbin-libdir && mkdir RUVcorr.buildbin-libdir && C:\Users\biocbuild\bbs-3.14-bioc\R\bin\R.exe CMD INSTALL --merge-multiarch --build --library=RUVcorr.buildbin-libdir RUVcorr_1.26.0.tar.gz && C:\Users\biocbuild\bbs-3.14-bioc\R\bin\R.exe CMD INSTALL RUVcorr_1.26.0.zip && rm RUVcorr_1.26.0.tar.gz RUVcorr_1.26.0.zip
###
##############################################################################
##############################################################################


  % Total    % Received % Xferd  Average Speed   Time    Time     Time  Current
                                 Dload  Upload   Total   Spent    Left  Speed

  0     0    0     0    0     0      0      0 --:--:-- --:--:-- --:--:--     0
100 40537  100 40537    0     0   264k      0 --:--:-- --:--:-- --:--:--  265k

install for i386

* installing *source* package 'RUVcorr' ...
** using staged installation
** R
** inst
** byte-compile and prepare package for lazy loading
** help
*** installing help indices
  converting help for package 'RUVcorr'
    finding HTML links ... done
    ECDFPlot                                html  
    PCAPlot                                 html  
    RLEPlot                                 html  
    RUVNaiveRidge                           html  
    RUVcorr                                 html  
    assessQuality                           html  
    background                              html  
    calculateThreshold                      html  
    compareRanks                            html  
    correlationPlot                         html  
    eigenvaluePlot                          html  
    empNegativeControls                     html  
    findIQR                                 html  
    findMinmaxSamples                       html  
    findWeights                             html  
    funcPara                                html  
    funcThresh                              html  
    genePlot                                html  
    histogramPlot                           html  
    is.Threshold                            html  
    is.Weights                              html  
    is.optimizeParameters                   html  
    is.simulateGEdata                       html  
    makePosSemiDef                          html  
    makeRankedList                          html  
    mashUp                                  html  
    optimizeParameters                      html  
    plot.optimizeParameters                 html  
    plotDesign                              html  
    plotThreshold                           html  
    print.simulateGEdata                    html  
    prioritise                              html  
    simulateGEdata                          html  
    splitByFactor                           html  
    wcor                                    html  
** building package indices
** installing vignettes
** testing if installed package can be loaded from temporary location
** testing if installed package can be loaded from final location
** testing if installed package keeps a record of temporary installation path

install for x64

* installing *source* package 'RUVcorr' ...
** testing if installed package can be loaded
* MD5 sums
packaged installation of 'RUVcorr' as RUVcorr_1.26.0.zip
* DONE (RUVcorr)
* installing to library 'C:/Users/biocbuild/bbs-3.14-bioc/R/library'
package 'RUVcorr' successfully unpacked and MD5 sums checked